BEGIN:VCALENDAR
VERSION:2.0
PRODID:-//Brownell Library - ECPv6.15.20//NONSGML v1.0//EN
CALSCALE:GREGORIAN
METHOD:PUBLISH
X-ORIGINAL-URL:https://brownell-libraryri.org
X-WR-CALDESC:Events for Brownell Library
REFRESH-INTERVAL;VALUE=DURATION:PT1H
X-Robots-Tag:noindex
X-PUBLISHED-TTL:PT1H
BEGIN:VTIMEZONE
TZID:America/New_York
BEGIN:DAYLIGHT
TZOFFSETFROM:-0500
TZOFFSETTO:-0400
TZNAME:EDT
DTSTART:20230312T070000
END:DAYLIGHT
BEGIN:STANDARD
TZOFFSETFROM:-0400
TZOFFSETTO:-0500
TZNAME:EST
DTSTART:20231105T060000
END:STANDARD
BEGIN:DAYLIGHT
TZOFFSETFROM:-0500
TZOFFSETTO:-0400
TZNAME:EDT
DTSTART:20240310T070000
END:DAYLIGHT
BEGIN:STANDARD
TZOFFSETFROM:-0400
TZOFFSETTO:-0500
TZNAME:EST
DTSTART:20241103T060000
END:STANDARD
BEGIN:DAYLIGHT
TZOFFSETFROM:-0500
TZOFFSETTO:-0400
TZNAME:EDT
DTSTART:20250309T070000
END:DAYLIGHT
BEGIN:STANDARD
TZOFFSETFROM:-0400
TZOFFSETTO:-0500
TZNAME:EST
DTSTART:20251102T060000
END:STANDARD
END:VTIMEZONE
BEGIN:VEVENT
DTSTART;TZID=America/New_York:20241203T173000
DTEND;TZID=America/New_York:20241203T183000
DTSTAMP:20260420T084937
CREATED:20241029T191123Z
LAST-MODIFIED:20241029T191123Z
UID:6717-1733247000-1733250600@brownell-libraryri.org
SUMMARY:Court Appointed Special Advocates for Children - VOLUNTEER INFO SESSION
DESCRIPTION:Whether you are interested in spending 8 – 10 hours a month serving as a special advocate for a child in state care\, or are thinking about other volunteer opportunities to support the CASA program\, you will learn how you \ncan make a difference for Rhode Island’s abused and neglected children. Please join us – and bring a friend!
URL:https://brownell-libraryri.org/event/court-appointed-special-advocates-for-children-volunteer-info-session/
END:VEVENT
BEGIN:VEVENT
DTSTART;TZID=America/New_York:20241207T133000
DTEND;TZID=America/New_York:20241207T143000
DTSTAMP:20260420T084937
CREATED:20241106T204743Z
LAST-MODIFIED:20241106T215131Z
UID:6758-1733578200-1733581800@brownell-libraryri.org
SUMMARY:Tom Verde - Why Christmas on Dec. 25?
DESCRIPTION:While December 25 is certainly one of the most recognizable dates in the calendar\, was it actually the date of Jesus’ birth? If so\, how do we know\, and if not\, how was it determined? The talk explores the history behind the date of Christmas\, as well as various traditions associated with a holiday that was at one time banned and more closely associated with riots than reverence. (This talk is not religious but is more academic and historical.)
URL:https://brownell-libraryri.org/event/history-of-christmas/
END:VEVENT
BEGIN:VEVENT
DTSTART;TZID=America/New_York:20241214T130000
DTEND;TZID=America/New_York:20241214T140000
DTSTAMP:20260420T084937
CREATED:20241029T195800Z
LAST-MODIFIED:20241029T195800Z
UID:6719-1734181200-1734184800@brownell-libraryri.org
SUMMARY:Author Nancy Stanfield Webb - A Woman of Marked Character
DESCRIPTION:  \nA WOMAN OF MARKED CHARACTER / THE IMAGINED PORTRAIT OF SARAH RIDGE PASCHAL PIX\, BOOK ONE 1812–1848 – The first book in a two-part historical fiction series about Sarah Ridge Paschal Pix\, a woman from a prominent Cherokee family in the 19th century. Come hear Nancy talk about her new book; a portrait of a remarkable woman who played an outsize role in Cherokee and early American history.
URL:https://brownell-libraryri.org/event/author-nancy-stanfield-webb-a-woman-of-marked-character/
END:VEVENT
END:VCALENDAR