BEGIN:VCALENDAR
VERSION:2.0
PRODID:-//Brownell Library - ECPv6.15.20//NONSGML v1.0//EN
CALSCALE:GREGORIAN
METHOD:PUBLISH
X-WR-CALNAME:Brownell Library
X-ORIGINAL-URL:https://brownell-libraryri.org
X-WR-CALDESC:Events for Brownell Library
REFRESH-INTERVAL;VALUE=DURATION:PT1H
X-Robots-Tag:noindex
X-PUBLISHED-TTL:PT1H
BEGIN:VTIMEZONE
TZID:America/New_York
BEGIN:DAYLIGHT
TZOFFSETFROM:-0500
TZOFFSETTO:-0400
TZNAME:EDT
DTSTART:20230312T070000
END:DAYLIGHT
BEGIN:STANDARD
TZOFFSETFROM:-0400
TZOFFSETTO:-0500
TZNAME:EST
DTSTART:20231105T060000
END:STANDARD
BEGIN:DAYLIGHT
TZOFFSETFROM:-0500
TZOFFSETTO:-0400
TZNAME:EDT
DTSTART:20240310T070000
END:DAYLIGHT
BEGIN:STANDARD
TZOFFSETFROM:-0400
TZOFFSETTO:-0500
TZNAME:EST
DTSTART:20241103T060000
END:STANDARD
BEGIN:DAYLIGHT
TZOFFSETFROM:-0500
TZOFFSETTO:-0400
TZNAME:EDT
DTSTART:20250309T070000
END:DAYLIGHT
BEGIN:STANDARD
TZOFFSETFROM:-0400
TZOFFSETTO:-0500
TZNAME:EST
DTSTART:20251102T060000
END:STANDARD
END:VTIMEZONE
BEGIN:VEVENT
DTSTART;TZID=America/New_York:20240408T140000
DTEND;TZID=America/New_York:20240408T163000
DTSTAMP:20260421T020955
CREATED:20240224T165456Z
LAST-MODIFIED:20240224T165456Z
UID:6125-1712584800-1712593800@brownell-libraryri.org
SUMMARY:Eclipse Viewing
DESCRIPTION:View the eclipse!  We have eclipse glasses to hand out.  We’ll have activities for all ages available while we watch the eclipse.  RI will have 90.1% coverage of the sun at the maximum coverage around 3:30.  Stop by at anytime and join us as we watch the progress of the eclipse.
URL:https://brownell-libraryri.org/event/eclipse-viewing/
END:VEVENT
BEGIN:VEVENT
DTSTART;TZID=America/New_York:20240409T173000
DTEND;TZID=America/New_York:20240409T183000
DTSTAMP:20260421T020955
CREATED:20240224T165642Z
LAST-MODIFIED:20240224T165642Z
UID:6127-1712683800-1712687400@brownell-libraryri.org
SUMMARY:Knit So As To Turn Water: The History of New England's Maritime Knitting
DESCRIPTION:Join us as Rebecca Bayreuther Donahue talks about how the knitted clothing of New England reflects maritime cultures the world over.  Learn about knitting with whalebone needles\, the history of the fisherman’s sweater\, knitting a WWI submariner’s outfit\, and much more.
URL:https://brownell-libraryri.org/event/knit-so-as-to-turn-water-the-history-of-new-englands-maritime-knitting/
END:VEVENT
BEGIN:VEVENT
DTSTART;TZID=America/New_York:20240412T110000
DTEND;TZID=America/New_York:20240412T120000
DTSTAMP:20260421T020955
CREATED:20240224T155106Z
LAST-MODIFIED:20240224T155106Z
UID:6103-1712919600-1712923200@brownell-libraryri.org
SUMMARY:Book Chat – Have a snack and talk about what you’re reading!
DESCRIPTION:
URL:https://brownell-libraryri.org/event/book-chat-have-a-snack-and-talk-about-what-youre-reading-2/
END:VEVENT
END:VCALENDAR