BEGIN:VCALENDAR
VERSION:2.0
PRODID:-//Brownell Library - ECPv6.15.20//NONSGML v1.0//EN
CALSCALE:GREGORIAN
METHOD:PUBLISH
X-WR-CALNAME:Brownell Library
X-ORIGINAL-URL:https://brownell-libraryri.org
X-WR-CALDESC:Events for Brownell Library
REFRESH-INTERVAL;VALUE=DURATION:PT1H
X-Robots-Tag:noindex
X-PUBLISHED-TTL:PT1H
BEGIN:VTIMEZONE
TZID:America/New_York
BEGIN:DAYLIGHT
TZOFFSETFROM:-0500
TZOFFSETTO:-0400
TZNAME:EDT
DTSTART:20240310T070000
END:DAYLIGHT
BEGIN:STANDARD
TZOFFSETFROM:-0400
TZOFFSETTO:-0500
TZNAME:EST
DTSTART:20241103T060000
END:STANDARD
BEGIN:DAYLIGHT
TZOFFSETFROM:-0500
TZOFFSETTO:-0400
TZNAME:EDT
DTSTART:20250309T070000
END:DAYLIGHT
BEGIN:STANDARD
TZOFFSETFROM:-0400
TZOFFSETTO:-0500
TZNAME:EST
DTSTART:20251102T060000
END:STANDARD
BEGIN:DAYLIGHT
TZOFFSETFROM:-0500
TZOFFSETTO:-0400
TZNAME:EDT
DTSTART:20260308T070000
END:DAYLIGHT
BEGIN:STANDARD
TZOFFSETFROM:-0400
TZOFFSETTO:-0500
TZNAME:EST
DTSTART:20261101T060000
END:STANDARD
END:VTIMEZONE
BEGIN:VEVENT
DTSTART;TZID=America/New_York:20251027T130000
DTEND;TZID=America/New_York:20251027T140000
DTSTAMP:20260420T234150
CREATED:20240223T161203Z
LAST-MODIFIED:20250924T154911Z
UID:6037-1761570000-1761573600@brownell-libraryri.org
SUMMARY:Knitting Group
DESCRIPTION:
URL:https://brownell-libraryri.org/event/knitting-group-34/
END:VEVENT
BEGIN:VEVENT
DTSTART;TZID=America/New_York:20251029T103000
DTEND;TZID=America/New_York:20251029T120000
DTSTAMP:20260420T234150
CREATED:20240223T210409Z
LAST-MODIFIED:20250924T205513Z
UID:6053-1761733800-1761739200@brownell-libraryri.org
SUMMARY:Baby and Toddler Playtime
DESCRIPTION:
URL:https://brownell-libraryri.org/event/baby-and-toddler-playtime-20/
END:VEVENT
BEGIN:VEVENT
DTSTART;TZID=America/New_York:20251029T130000
DTEND;TZID=America/New_York:20251029T160000
DTSTAMP:20260420T234150
CREATED:20240112T190255Z
LAST-MODIFIED:20250927T174903Z
UID:5945-1761742800-1761753600@brownell-libraryri.org
SUMMARY:Tech Help
DESCRIPTION:
URL:https://brownell-libraryri.org/event/tech-help-32/
END:VEVENT
BEGIN:VEVENT
DTSTART;TZID=America/New_York:20251031T100000
DTEND;TZID=America/New_York:20251031T140000
DTSTAMP:20260420T234150
CREATED:20240326T172808Z
LAST-MODIFIED:20250909T190533Z
UID:6190-1761904800-1761919200@brownell-libraryri.org
SUMMARY:Medicare Help Sessions – Contact the Library to Register
DESCRIPTION:
URL:https://brownell-libraryri.org/event/medicare-help-sessions-contact-the-library-to-register-2/
END:VEVENT
BEGIN:VEVENT
DTSTART;TZID=America/New_York:20251104T173000
DTEND;TZID=America/New_York:20251104T183000
DTSTAMP:20260420T234150
CREATED:20231114T180858Z
LAST-MODIFIED:20250927T172458Z
UID:5788-1762277400-1762281000@brownell-libraryri.org
SUMMARY:Little Compton Writing Circle
DESCRIPTION:
URL:https://brownell-libraryri.org/event/little-compton-writing-circle-4/
END:VEVENT
BEGIN:VEVENT
DTSTART;TZID=America/New_York:20251105T103000
DTEND;TZID=America/New_York:20251105T120000
DTSTAMP:20260420T234150
CREATED:20240112T185125Z
LAST-MODIFIED:20250927T173555Z
UID:5935-1762338600-1762344000@brownell-libraryri.org
SUMMARY:Baby and Toddler Playtime!
DESCRIPTION:
URL:https://brownell-libraryri.org/event/baby-and-toddler-playtime-16/
END:VEVENT
BEGIN:VEVENT
DTSTART;TZID=America/New_York:20251105T130000
DTEND;TZID=America/New_York:20251105T160000
DTSTAMP:20260420T234150
CREATED:20231219T195520Z
LAST-MODIFIED:20250927T175018Z
UID:5884-1762347600-1762358400@brownell-libraryri.org
SUMMARY:Tech Help
DESCRIPTION:
URL:https://brownell-libraryri.org/event/tech-help-30/
END:VEVENT
BEGIN:VEVENT
DTSTART;TZID=America/New_York:20251107T130000
DTEND;TZID=America/New_York:20251107T150000
DTSTAMP:20260420T234150
CREATED:20251029T203240Z
LAST-MODIFIED:20251029T203240Z
UID:7571-1762520400-1762527600@brownell-libraryri.org
SUMMARY:Game Day
DESCRIPTION:Games will be set up around the library – so stop by\, play a game and have a laugh
URL:https://brownell-libraryri.org/event/game-day/
END:VEVENT
BEGIN:VEVENT
DTSTART;TZID=America/New_York:20251110T100000
DTEND;TZID=America/New_York:20251110T140000
DTSTAMP:20260420T234150
CREATED:20240531T151047Z
LAST-MODIFIED:20250909T190439Z
UID:6372-1762768800-1762783200@brownell-libraryri.org
SUMMARY:Medicare Help Sessions - Registration Required
DESCRIPTION:Call\, email\, or stop by the library to sign up for an appointment: (401) 635-8562 or info@brownell-libraryri.org
URL:https://brownell-libraryri.org/event/medicare-help-sessions-registration-required-2/
END:VEVENT
BEGIN:VEVENT
DTSTART;VALUE=DATE:20251111
DTEND;VALUE=DATE:20251112
DTSTAMP:20260420T234150
CREATED:20231219T221831Z
LAST-MODIFIED:20250924T153317Z
UID:5906-1762819200-1762905599@brownell-libraryri.org
SUMMARY:Library Closed
DESCRIPTION:
URL:https://brownell-libraryri.org/event/library-closed-11/
END:VEVENT
BEGIN:VEVENT
DTSTART;TZID=America/New_York:20251112T103000
DTEND;TZID=America/New_York:20251112T120000
DTSTAMP:20260420T234150
CREATED:20240112T185304Z
LAST-MODIFIED:20250927T173636Z
UID:5937-1762943400-1762948800@brownell-libraryri.org
SUMMARY:Baby and Toddler Playtime!
DESCRIPTION:
URL:https://brownell-libraryri.org/event/baby-and-toddler-playtime-17/
END:VEVENT
BEGIN:VEVENT
DTSTART;TZID=America/New_York:20251112T130000
DTEND;TZID=America/New_York:20251112T160000
DTSTAMP:20260420T234150
CREATED:20231219T195446Z
LAST-MODIFIED:20250927T175110Z
UID:5882-1762952400-1762963200@brownell-libraryri.org
SUMMARY:Tech Help
DESCRIPTION:
URL:https://brownell-libraryri.org/event/tech-help-29/
END:VEVENT
BEGIN:VEVENT
DTSTART;TZID=America/New_York:20251113T110000
DTEND;TZID=America/New_York:20251113T110000
DTSTAMP:20260420T234150
CREATED:20240112T191117Z
LAST-MODIFIED:20250924T151303Z
UID:5961-1763031600-1763031600@brownell-libraryri.org
SUMMARY:Library Will Open at 11 AM
DESCRIPTION:
URL:https://brownell-libraryri.org/event/library-will-open-at-11-am-4/
END:VEVENT
BEGIN:VEVENT
DTSTART;TZID=America/New_York:20251114T130000
DTEND;TZID=America/New_York:20251114T150000
DTSTAMP:20260420T234150
CREATED:20251029T203421Z
LAST-MODIFIED:20251029T203421Z
UID:7573-1763125200-1763132400@brownell-libraryri.org
SUMMARY:Game Day
DESCRIPTION:Games will be set up around the library – so stop by\, play a game and have a laugh
URL:https://brownell-libraryri.org/event/game-day-2/
END:VEVENT
BEGIN:VEVENT
DTSTART;TZID=America/New_York:20251118T160000
DTEND;TZID=America/New_York:20251118T170000
DTSTAMP:20260420T234150
CREATED:20240112T190523Z
LAST-MODIFIED:20251021T180059Z
UID:5949-1763481600-1763485200@brownell-libraryri.org
SUMMARY:All the Genres Book Club
DESCRIPTION:The Cartographers by Shepherd Peng
URL:https://brownell-libraryri.org/event/all-the-genres-book-club-6/
END:VEVENT
BEGIN:VEVENT
DTSTART;TZID=America/New_York:20251118T173000
DTEND;TZID=America/New_York:20251118T183000
DTSTAMP:20260420T234150
CREATED:20231114T180812Z
LAST-MODIFIED:20250927T172537Z
UID:5786-1763487000-1763490600@brownell-libraryri.org
SUMMARY:Little Compton Writing Circle
DESCRIPTION:
URL:https://brownell-libraryri.org/event/little-compton-writing-circle-3/
END:VEVENT
BEGIN:VEVENT
DTSTART;TZID=America/New_York:20251118T180000
DTEND;TZID=America/New_York:20251118T190000
DTSTAMP:20260420T234150
CREATED:20240112T190602Z
LAST-MODIFIED:20251021T180014Z
UID:5951-1763488800-1763492400@brownell-libraryri.org
SUMMARY:All the Genres Book Club
DESCRIPTION:The Cartographers by Shepherd Peng
URL:https://brownell-libraryri.org/event/all-the-genres-book-club-7/
END:VEVENT
BEGIN:VEVENT
DTSTART;TZID=America/New_York:20251119T103000
DTEND;TZID=America/New_York:20251119T120000
DTSTAMP:20260420T234150
CREATED:20231114T205008Z
LAST-MODIFIED:20250927T173706Z
UID:5802-1763548200-1763553600@brownell-libraryri.org
SUMMARY:Baby and Toddler Playtime!
DESCRIPTION:
URL:https://brownell-libraryri.org/event/baby-and-toddler-playtime-15/
END:VEVENT
BEGIN:VEVENT
DTSTART;TZID=America/New_York:20251119T130000
DTEND;TZID=America/New_York:20251119T160000
DTSTAMP:20260420T234150
CREATED:20231219T195247Z
LAST-MODIFIED:20250927T175150Z
UID:5876-1763557200-1763568000@brownell-libraryri.org
SUMMARY:Tech Help
DESCRIPTION:
URL:https://brownell-libraryri.org/event/tech-help-26/
END:VEVENT
BEGIN:VEVENT
DTSTART;TZID=America/New_York:20251121T130000
DTEND;TZID=America/New_York:20251121T150000
DTSTAMP:20260420T234150
CREATED:20251029T204001Z
LAST-MODIFIED:20251029T204001Z
UID:7575-1763730000-1763737200@brownell-libraryri.org
SUMMARY:Game Day
DESCRIPTION:Games will be set up around the library – so stop by\, play a game and have a laugh
URL:https://brownell-libraryri.org/event/game-day-3/
END:VEVENT
BEGIN:VEVENT
DTSTART;TZID=America/New_York:20251122T130000
DTEND;TZID=America/New_York:20251122T140000
DTSTAMP:20260420T234150
CREATED:20251029T202238Z
LAST-MODIFIED:20251029T202238Z
UID:7567-1763816400-1763820000@brownell-libraryri.org
SUMMARY:Bridging the Partisan Divide with Braver Angels
DESCRIPTION:Braver Angels’ mission is to “Bring Americans together to bridge the partisan divide and strengthen our democratic republic.” Please join us on Sat.\, Nov. 22nd at 1 pm and learn about Braver Angels and what they are doing to Bring Americans together.
URL:https://brownell-libraryri.org/event/bridging-the-partisan-divide-with-braver-angels/
END:VEVENT
BEGIN:VEVENT
DTSTART;TZID=America/New_York:20251126T103000
DTEND;TZID=America/New_York:20251126T120000
DTSTAMP:20260420T234150
CREATED:20231114T204940Z
LAST-MODIFIED:20250927T173744Z
UID:5800-1764153000-1764158400@brownell-libraryri.org
SUMMARY:Baby and Toddler Playtime!
DESCRIPTION:
URL:https://brownell-libraryri.org/event/baby-and-toddler-playtime-14/
END:VEVENT
BEGIN:VEVENT
DTSTART;TZID=America/New_York:20251126T130000
DTEND;TZID=America/New_York:20251126T160000
DTSTAMP:20260420T234150
CREATED:20231114T205358Z
LAST-MODIFIED:20250927T175231Z
UID:5810-1764162000-1764172800@brownell-libraryri.org
SUMMARY:Tech Help
DESCRIPTION:
URL:https://brownell-libraryri.org/event/tech-help-25/
END:VEVENT
BEGIN:VEVENT
DTSTART;VALUE=DATE:20251127
DTEND;VALUE=DATE:20251129
DTSTAMP:20260420T234150
CREATED:20231219T221706Z
LAST-MODIFIED:20250924T153928Z
UID:5902-1764201600-1764374399@brownell-libraryri.org
SUMMARY:Library Closed
DESCRIPTION:
URL:https://brownell-libraryri.org/event/library-closed-9/
END:VEVENT
BEGIN:VEVENT
DTSTART;TZID=America/New_York:20251201T130000
DTEND;TZID=America/New_York:20251201T140000
DTSTAMP:20260420T234150
CREATED:20240112T190717Z
LAST-MODIFIED:20250927T173051Z
UID:5953-1764594000-1764597600@brownell-libraryri.org
SUMMARY:Knitting Group
DESCRIPTION:
URL:https://brownell-libraryri.org/event/knitting-group-28/
END:VEVENT
BEGIN:VEVENT
DTSTART;TZID=America/New_York:20251202T173000
DTEND;TZID=America/New_York:20251202T183000
DTSTAMP:20260420T234150
CREATED:20230916T185303Z
LAST-MODIFIED:20250927T172620Z
UID:5604-1764696600-1764700200@brownell-libraryri.org
SUMMARY:Little Compton Writing Circle
DESCRIPTION:
URL:https://brownell-libraryri.org/event/little-compton-writing-circle-2/
END:VEVENT
BEGIN:VEVENT
DTSTART;TZID=America/New_York:20251203T103000
DTEND;TZID=America/New_York:20251203T120000
DTSTAMP:20260420T234150
CREATED:20231114T204904Z
LAST-MODIFIED:20250927T173843Z
UID:5798-1764757800-1764763200@brownell-libraryri.org
SUMMARY:Baby and Toddler Playtime!
DESCRIPTION:
URL:https://brownell-libraryri.org/event/baby-and-toddler-playtime-13/
END:VEVENT
BEGIN:VEVENT
DTSTART;TZID=America/New_York:20251203T130000
DTEND;TZID=America/New_York:20251203T160000
DTSTAMP:20260420T234150
CREATED:20231114T205307Z
LAST-MODIFIED:20250927T175432Z
UID:5808-1764766800-1764777600@brownell-libraryri.org
SUMMARY:Tech Help
DESCRIPTION:
URL:https://brownell-libraryri.org/event/tech-help-24/
END:VEVENT
BEGIN:VEVENT
DTSTART;TZID=America/New_York:20251204T160000
DTEND;TZID=America/New_York:20251204T170000
DTSTAMP:20260420T234150
CREATED:20231219T222058Z
LAST-MODIFIED:20251125T183231Z
UID:5912-1764864000-1764867600@brownell-libraryri.org
SUMMARY:Library will close at 4 PM
DESCRIPTION:
URL:https://brownell-libraryri.org/event/library-closed-14/
END:VEVENT
BEGIN:VEVENT
DTSTART;TZID=America/New_York:20251206T130000
DTEND;TZID=America/New_York:20251206T140000
DTSTAMP:20260420T234150
CREATED:20251024T155609Z
LAST-MODIFIED:20251024T155609Z
UID:7541-1765026000-1765029600@brownell-libraryri.org
SUMMARY:Gatsby's Rival book talk with Richard Guimond
DESCRIPTION:In 2025\, we mark the 125th Anniversary of Prohibition\, and to celebrate\, the Brownell Library in Little Compton is pleased to host Tiverton author Richard Guimond. Richard will share the inspiration behind his Prohibition-era novel\, Gatsby’s Rival\, and dive into the fascinating history that inspired the story. – He doesn’t want a stipend. He may need a projector/screen – In April he was going to do a powerpoint.\nJoin us on Dec. 6th at 1 PM for this special author event. Bring your questions\, curiosity\, and passion for historical fiction\, and learn about the daring gang that challenged the legendary Jay Gatsby.\nDon’t miss this unique opportunity to explore the untold story of the Prohibition era!
URL:https://brownell-libraryri.org/event/gatsbys-rival-book-talk-with-richard-guimond/
END:VEVENT
END:VCALENDAR