BEGIN:VCALENDAR
VERSION:2.0
PRODID:-//Brownell Library - ECPv6.15.20//NONSGML v1.0//EN
CALSCALE:GREGORIAN
METHOD:PUBLISH
X-WR-CALNAME:Brownell Library
X-ORIGINAL-URL:https://brownell-libraryri.org
X-WR-CALDESC:Events for Brownell Library
REFRESH-INTERVAL;VALUE=DURATION:PT1H
X-Robots-Tag:noindex
X-PUBLISHED-TTL:PT1H
BEGIN:VTIMEZONE
TZID:America/New_York
BEGIN:DAYLIGHT
TZOFFSETFROM:-0500
TZOFFSETTO:-0400
TZNAME:EDT
DTSTART:20220313T070000
END:DAYLIGHT
BEGIN:STANDARD
TZOFFSETFROM:-0400
TZOFFSETTO:-0500
TZNAME:EST
DTSTART:20221106T060000
END:STANDARD
BEGIN:DAYLIGHT
TZOFFSETFROM:-0500
TZOFFSETTO:-0400
TZNAME:EDT
DTSTART:20230312T070000
END:DAYLIGHT
BEGIN:STANDARD
TZOFFSETFROM:-0400
TZOFFSETTO:-0500
TZNAME:EST
DTSTART:20231105T060000
END:STANDARD
BEGIN:DAYLIGHT
TZOFFSETFROM:-0500
TZOFFSETTO:-0400
TZNAME:EDT
DTSTART:20240310T070000
END:DAYLIGHT
BEGIN:STANDARD
TZOFFSETFROM:-0400
TZOFFSETTO:-0500
TZNAME:EST
DTSTART:20241103T060000
END:STANDARD
END:VTIMEZONE
BEGIN:VEVENT
DTSTART;TZID=America/New_York:20230724T130000
DTEND;TZID=America/New_York:20230724T140000
DTSTAMP:20260420T194947
CREATED:20230624T145148Z
LAST-MODIFIED:20230624T145148Z
UID:5335-1690203600-1690207200@brownell-libraryri.org
SUMMARY:Knitting Group
DESCRIPTION:
URL:https://brownell-libraryri.org/event/knitting-group-5/
END:VEVENT
BEGIN:VEVENT
DTSTART;TZID=America/New_York:20230722T133000
DTEND;TZID=America/New_York:20230722T143000
DTSTAMP:20260420T194947
CREATED:20230624T173256Z
LAST-MODIFIED:20230624T173256Z
UID:5398-1690032600-1690036200@brownell-libraryri.org
SUMMARY:Oceanographer Bill Hutson
DESCRIPTION:Join us for a program with oceanographer Bill Hutson and learn what you can see on the Little Compton shoreline this summer. As a Little Compton resident and with his extensive experience in oceanography and climatology\, Bill will help you identify the diversity of plants and animals on our local seashore.
URL:https://brownell-libraryri.org/event/oceanographer-bill-hutson/
END:VEVENT
BEGIN:VEVENT
DTSTART;TZID=America/New_York:20230720T150000
DTEND;TZID=America/New_York:20230720T160000
DTSTAMP:20260420T194947
CREATED:20230624T171716Z
LAST-MODIFIED:20230624T171716Z
UID:5393-1689865200-1689868800@brownell-libraryri.org
SUMMARY:Mermaid Masterpieces - REGISTRATION REQUIRED
DESCRIPTION:
URL:https://brownell-libraryri.org/event/mermaid-masterpieces-registration-required/
END:VEVENT
BEGIN:VEVENT
DTSTART;TZID=America/New_York:20230719T110000
DTEND;TZID=America/New_York:20230719T120000
DTSTAMP:20260420T194947
CREATED:20230624T152507Z
LAST-MODIFIED:20230624T152507Z
UID:5376-1689764400-1689768000@brownell-libraryri.org
SUMMARY:Drop-In Playtime
DESCRIPTION:
URL:https://brownell-libraryri.org/event/drop-in-playtime-4/
END:VEVENT
BEGIN:VEVENT
DTSTART;TZID=America/New_York:20230719T103000
DTEND;TZID=America/New_York:20230719T120000
DTSTAMP:20260420T194947
CREATED:20230624T151934Z
LAST-MODIFIED:20230624T151934Z
UID:5358-1689762600-1689768000@brownell-libraryri.org
SUMMARY:Tech Help
DESCRIPTION:
URL:https://brownell-libraryri.org/event/tech-help-4/
END:VEVENT
BEGIN:VEVENT
DTSTART;TZID=America/New_York:20230718T170000
DTEND;TZID=America/New_York:20230718T183000
DTSTAMP:20260420T194947
CREATED:20230624T145735Z
LAST-MODIFIED:20230624T145735Z
UID:5342-1689699600-1689705000@brownell-libraryri.org
SUMMARY:Fly Tying with DEM RI - Registration Required
DESCRIPTION:Register with the DEM RI at:  https://forms.gle/59XDrnYJvAE1LrSy8
URL:https://brownell-libraryri.org/event/fly-tying-with-dem-ri-registration-required/
END:VEVENT
BEGIN:VEVENT
DTSTART;TZID=America/New_York:20230717T130000
DTEND;TZID=America/New_York:20230717T140000
DTSTAMP:20260420T194947
CREATED:20230624T145116Z
LAST-MODIFIED:20230624T145116Z
UID:5333-1689598800-1689602400@brownell-libraryri.org
SUMMARY:Knitting Group
DESCRIPTION:
URL:https://brownell-libraryri.org/event/knitting-group-4/
END:VEVENT
BEGIN:VEVENT
DTSTART;TZID=America/New_York:20230712T133000
DTEND;TZID=America/New_York:20230712T143000
DTSTAMP:20260420T194947
CREATED:20230628T152311Z
LAST-MODIFIED:20230628T152311Z
UID:5418-1689168600-1689172200@brownell-libraryri.org
SUMMARY:Tour of the new online library catalogue with Director Sue Rousseau
DESCRIPTION:Join Director Sue Rousseau for an overview of the new library app and website with a focus on enhancements and helpful tips.
URL:https://brownell-libraryri.org/event/tour-of-the-new-online-library-catalogue-with-director-sue-rousseau/
END:VEVENT
BEGIN:VEVENT
DTSTART;TZID=America/New_York:20230712T110000
DTEND;TZID=America/New_York:20230712T120000
DTSTAMP:20260420T194947
CREATED:20230624T152440Z
LAST-MODIFIED:20230624T152440Z
UID:5374-1689159600-1689163200@brownell-libraryri.org
SUMMARY:Drop-In Playtime
DESCRIPTION:
URL:https://brownell-libraryri.org/event/drop-in-playtime-3/
END:VEVENT
BEGIN:VEVENT
DTSTART;TZID=America/New_York:20230712T103000
DTEND;TZID=America/New_York:20230712T120000
DTSTAMP:20260420T194947
CREATED:20230624T151855Z
LAST-MODIFIED:20230624T151855Z
UID:5356-1689157800-1689163200@brownell-libraryri.org
SUMMARY:Tech Help
DESCRIPTION:
URL:https://brownell-libraryri.org/event/tech-help-3/
END:VEVENT
BEGIN:VEVENT
DTSTART;TZID=America/New_York:20230711T173000
DTEND;TZID=America/New_York:20230711T183000
DTSTAMP:20260420T194947
CREATED:20230624T145520Z
LAST-MODIFIED:20230624T145520Z
UID:5340-1689096600-1689100200@brownell-libraryri.org
SUMMARY:Mary King - Irish in America
DESCRIPTION:
URL:https://brownell-libraryri.org/event/mary-king-irish-in-america/
END:VEVENT
BEGIN:VEVENT
DTSTART;TZID=America/New_York:20230710T130000
DTEND;TZID=America/New_York:20230710T140000
DTSTAMP:20260420T194947
CREATED:20230624T145036Z
LAST-MODIFIED:20230624T145036Z
UID:5331-1688994000-1688997600@brownell-libraryri.org
SUMMARY:Knitting Group
DESCRIPTION:
URL:https://brownell-libraryri.org/event/knitting-group-3/
END:VEVENT
BEGIN:VEVENT
DTSTART;TZID=America/New_York:20230706T150000
DTEND;TZID=America/New_York:20230706T160000
DTSTAMP:20260420T194947
CREATED:20230624T171103Z
LAST-MODIFIED:20230624T171103Z
UID:5390-1688655600-1688659200@brownell-libraryri.org
SUMMARY:Circus Dynamics - NO REGISTRATION NEEDED
DESCRIPTION:
URL:https://brownell-libraryri.org/event/circus-dynamics-no-registration-needed/
END:VEVENT
BEGIN:VEVENT
DTSTART;TZID=America/New_York:20230705T110000
DTEND;TZID=America/New_York:20230705T120000
DTSTAMP:20260420T194947
CREATED:20230624T152405Z
LAST-MODIFIED:20230624T152405Z
UID:5372-1688554800-1688558400@brownell-libraryri.org
SUMMARY:Drop-In Playtime
DESCRIPTION:
URL:https://brownell-libraryri.org/event/drop-in-playtime-2/
END:VEVENT
BEGIN:VEVENT
DTSTART;TZID=America/New_York:20230705T103000
DTEND;TZID=America/New_York:20230705T120000
DTSTAMP:20260420T194947
CREATED:20230624T151814Z
LAST-MODIFIED:20230624T151814Z
UID:5354-1688553000-1688558400@brownell-libraryri.org
SUMMARY:Tech Help
DESCRIPTION:
URL:https://brownell-libraryri.org/event/tech-help-2/
END:VEVENT
BEGIN:VEVENT
DTSTART;TZID=America/New_York:20230703T130000
DTEND;TZID=America/New_York:20230703T140000
DTSTAMP:20260420T194947
CREATED:20230624T145005Z
LAST-MODIFIED:20230624T145005Z
UID:5329-1688389200-1688392800@brownell-libraryri.org
SUMMARY:Knitting Group
DESCRIPTION:
URL:https://brownell-libraryri.org/event/knitting-group-2/
END:VEVENT
BEGIN:VEVENT
DTSTART;TZID=America/New_York:20230629T100000
DTEND;TZID=America/New_York:20230629T110000
DTSTAMP:20260420T194947
CREATED:20230623T194956Z
LAST-MODIFIED:20230623T194956Z
UID:5313-1688032800-1688036400@brownell-libraryri.org
SUMMARY:Library Opens at 11 AM
DESCRIPTION:
URL:https://brownell-libraryri.org/event/library-opens-at-11-am/
END:VEVENT
BEGIN:VEVENT
DTSTART;TZID=America/New_York:20230628T110000
DTEND;TZID=America/New_York:20230628T120000
DTSTAMP:20260420T194947
CREATED:20230623T194841Z
LAST-MODIFIED:20230623T194841Z
UID:5311-1687950000-1687953600@brownell-libraryri.org
SUMMARY:Drop-In Playtime
DESCRIPTION:
URL:https://brownell-libraryri.org/event/drop-in-playtime/
END:VEVENT
BEGIN:VEVENT
DTSTART;TZID=America/New_York:20230628T103000
DTEND;TZID=America/New_York:20230628T120000
DTSTAMP:20260420T194947
CREATED:20230623T194657Z
LAST-MODIFIED:20230623T194657Z
UID:5309-1687948200-1687953600@brownell-libraryri.org
SUMMARY:Tech Help
DESCRIPTION:
URL:https://brownell-libraryri.org/event/tech-help/
END:VEVENT
BEGIN:VEVENT
DTSTART;TZID=America/New_York:20230627T180000
DTEND;TZID=America/New_York:20230627T190000
DTSTAMP:20260420T194947
CREATED:20230623T194617Z
LAST-MODIFIED:20230623T194617Z
UID:5307-1687888800-1687892400@brownell-libraryri.org
SUMMARY:All the Genres Book Group
DESCRIPTION:
URL:https://brownell-libraryri.org/event/all-the-genres-book-group-2/
END:VEVENT
BEGIN:VEVENT
DTSTART;TZID=America/New_York:20230627T160000
DTEND;TZID=America/New_York:20230627T170000
DTSTAMP:20260420T194947
CREATED:20230623T194541Z
LAST-MODIFIED:20230623T194541Z
UID:5305-1687881600-1687885200@brownell-libraryri.org
SUMMARY:All the Genres Book Group
DESCRIPTION:
URL:https://brownell-libraryri.org/event/all-the-genres-book-group/
END:VEVENT
BEGIN:VEVENT
DTSTART;TZID=America/New_York:20230626T130000
DTEND;TZID=America/New_York:20230626T140000
DTSTAMP:20260420T194947
CREATED:20230623T194443Z
LAST-MODIFIED:20230623T194443Z
UID:5303-1687784400-1687788000@brownell-libraryri.org
SUMMARY:Knitting Group
DESCRIPTION:
URL:https://brownell-libraryri.org/event/knitting-group/
END:VEVENT
END:VCALENDAR