BEGIN:VCALENDAR
VERSION:2.0
PRODID:-//Brownell Library - ECPv6.15.20//NONSGML v1.0//EN
CALSCALE:GREGORIAN
METHOD:PUBLISH
X-WR-CALNAME:Brownell Library
X-ORIGINAL-URL:https://brownell-libraryri.org
X-WR-CALDESC:Events for Brownell Library
REFRESH-INTERVAL;VALUE=DURATION:PT1H
X-Robots-Tag:noindex
X-PUBLISHED-TTL:PT1H
BEGIN:VTIMEZONE
TZID:America/New_York
BEGIN:DAYLIGHT
TZOFFSETFROM:-0500
TZOFFSETTO:-0400
TZNAME:EDT
DTSTART:20220313T070000
END:DAYLIGHT
BEGIN:STANDARD
TZOFFSETFROM:-0400
TZOFFSETTO:-0500
TZNAME:EST
DTSTART:20221106T060000
END:STANDARD
BEGIN:DAYLIGHT
TZOFFSETFROM:-0500
TZOFFSETTO:-0400
TZNAME:EDT
DTSTART:20230312T070000
END:DAYLIGHT
BEGIN:STANDARD
TZOFFSETFROM:-0400
TZOFFSETTO:-0500
TZNAME:EST
DTSTART:20231105T060000
END:STANDARD
BEGIN:DAYLIGHT
TZOFFSETFROM:-0500
TZOFFSETTO:-0400
TZNAME:EDT
DTSTART:20240310T070000
END:DAYLIGHT
BEGIN:STANDARD
TZOFFSETFROM:-0400
TZOFFSETTO:-0500
TZNAME:EST
DTSTART:20241103T060000
END:STANDARD
BEGIN:DAYLIGHT
TZOFFSETFROM:-0500
TZOFFSETTO:-0400
TZNAME:EDT
DTSTART:20250309T070000
END:DAYLIGHT
BEGIN:STANDARD
TZOFFSETFROM:-0400
TZOFFSETTO:-0500
TZNAME:EST
DTSTART:20251102T060000
END:STANDARD
END:VTIMEZONE
BEGIN:VEVENT
DTSTART;TZID=America/New_York:20240209T103000
DTEND;TZID=America/New_York:20240209T113000
DTSTAMP:20260420T231343
CREATED:20240112T190921Z
LAST-MODIFIED:20240112T190921Z
UID:5959-1707474600-1707478200@brownell-libraryri.org
SUMMARY:Book Chat
DESCRIPTION:
URL:https://brownell-libraryri.org/event/book-chat/
END:VEVENT
BEGIN:VEVENT
DTSTART;TZID=America/New_York:20240204T190000
DTEND;TZID=America/New_York:20240204T203000
DTSTAMP:20260420T231343
CREATED:20231219T194935Z
LAST-MODIFIED:20240202T165406Z
UID:5869-1707073200-1707078600@brownell-libraryri.org
SUMMARY:Outdoor Stargazing with Barry Peckham / REGISTRATION REQUIRED
DESCRIPTION:
URL:https://brownell-libraryri.org/event/outdoor-stargazing-with-barry-peckham-registration-required/
END:VEVENT
BEGIN:VEVENT
DTSTART;TZID=America/New_York:20240131T103000
DTEND;TZID=America/New_York:20240131T120000
DTSTAMP:20260420T231343
CREATED:20231018T142256Z
LAST-MODIFIED:20231219T195848Z
UID:5690-1706697000-1706702400@brownell-libraryri.org
SUMMARY:Baby and Toddler Playtime!
DESCRIPTION:No fussing here ~ we are starting a new playtime specially designed for babies & toddlers! There will be a pint-sized ball pit\, sensory friendly toys\, and lots to engage the youngest minds!\nNo registration required\, just drop in and tell your friends!
URL:https://brownell-libraryri.org/event/baby-and-toddler-playtime-7/
END:VEVENT
BEGIN:VEVENT
DTSTART;TZID=America/New_York:20240130T180000
DTEND;TZID=America/New_York:20240130T190000
DTSTAMP:20260420T231343
CREATED:20231219T195147Z
LAST-MODIFIED:20231219T195147Z
UID:5874-1706637600-1706641200@brownell-libraryri.org
SUMMARY:All the Genres Book Club
DESCRIPTION:
URL:https://brownell-libraryri.org/event/all-the-genres-book-club-5/
END:VEVENT
BEGIN:VEVENT
DTSTART;TZID=America/New_York:20240130T160000
DTEND;TZID=America/New_York:20240130T170000
DTSTAMP:20260420T231343
CREATED:20231219T195023Z
LAST-MODIFIED:20231219T195115Z
UID:5871-1706630400-1706634000@brownell-libraryri.org
SUMMARY:All the Genres Book Club
DESCRIPTION:The Lost Girls of Willowbrook by Ellen Marie Wiseman
URL:https://brownell-libraryri.org/event/all-the-genres-book-club-the-lost-girls-of-willowbrook-by-ellen-marie-wiseman/
END:VEVENT
BEGIN:VEVENT
DTSTART;TZID=America/New_York:20240117T103000
DTEND;TZID=America/New_York:20240117T120000
DTSTAMP:20260420T231343
CREATED:20231018T142357Z
LAST-MODIFIED:20231219T195751Z
UID:5694-1705487400-1705492800@brownell-libraryri.org
SUMMARY:Baby and Toddler Playtime!
DESCRIPTION:
URL:https://brownell-libraryri.org/event/baby-and-toddler-playtime-9/
END:VEVENT
BEGIN:VEVENT
DTSTART;TZID=America/New_York:20240112T103000
DTEND;TZID=America/New_York:20240112T113000
DTSTAMP:20260420T231343
CREATED:20231219T194114Z
LAST-MODIFIED:20231219T194832Z
UID:5864-1705055400-1705059000@brownell-libraryri.org
SUMMARY:Book Chat
DESCRIPTION:Take a break with a cup of coffee and a treat and talk about the books we are reading now with other readers
URL:https://brownell-libraryri.org/event/knitting-group-27/
END:VEVENT
BEGIN:VEVENT
DTSTART;TZID=America/New_York:20240110T103000
DTEND;TZID=America/New_York:20240110T120000
DTSTAMP:20260420T231343
CREATED:20231018T142326Z
LAST-MODIFIED:20231219T195722Z
UID:5692-1704882600-1704888000@brownell-libraryri.org
SUMMARY:Baby and Toddler Playtime!
DESCRIPTION:No fussing here ~ we are starting a new playtime specially designed for babies & toddlers! There will be a pint-sized ball pit\, sensory friendly toys\, and lots to engage the youngest minds!\nNo registration required\, just drop in and tell your friends!
URL:https://brownell-libraryri.org/event/baby-and-toddler-playtime-8/
END:VEVENT
BEGIN:VEVENT
DTSTART;TZID=America/New_York:20240108T150000
DTEND;TZID=America/New_York:20240108T160000
DTSTAMP:20260420T231343
CREATED:20231219T205629Z
LAST-MODIFIED:20231219T205629Z
UID:5886-1704726000-1704729600@brownell-libraryri.org
SUMMARY:Board of Trustees Meeting
DESCRIPTION:
URL:https://brownell-libraryri.org/event/board-of-trustees-meeting/
END:VEVENT
BEGIN:VEVENT
DTSTART;TZID=America/New_York:20240108T100000
DTEND;TZID=America/New_York:20240108T140000
DTSTAMP:20260420T231343
CREATED:20231219T205842Z
LAST-MODIFIED:20231219T205842Z
UID:5890-1704708000-1704722400@brownell-libraryri.org
SUMMARY:Medicare Help - Registration Required
DESCRIPTION:
URL:https://brownell-libraryri.org/event/medicare-help-registration-required/
END:VEVENT
BEGIN:VEVENT
DTSTART;TZID=America/New_York:20240103T103000
DTEND;TZID=America/New_York:20240103T120000
DTSTAMP:20260420T231343
CREATED:20231018T142227Z
LAST-MODIFIED:20231219T195640Z
UID:5688-1704277800-1704283200@brownell-libraryri.org
SUMMARY:Baby and Toddler Playtime!
DESCRIPTION:No fussing here ~ we are starting a new playtime specially designed for babies & toddlers! There will be a pint-sized ball pit\, sensory friendly toys\, and lots to engage the youngest minds!\nNo registration required\, just drop in and tell your friends!
URL:https://brownell-libraryri.org/event/baby-and-toddler-playtime-6/
END:VEVENT
BEGIN:VEVENT
DTSTART;VALUE=DATE:20240101
DTEND;VALUE=DATE:20240102
DTSTAMP:20260420T231343
CREATED:20231219T172824Z
LAST-MODIFIED:20231219T172824Z
UID:5846-1704067200-1704153599@brownell-libraryri.org
SUMMARY:Library Closed
DESCRIPTION:
URL:https://brownell-libraryri.org/event/library-closed-2/
END:VEVENT
BEGIN:VEVENT
DTSTART;TZID=America/New_York:20231228T110000
DTEND;TZID=America/New_York:20231228T110000
DTSTAMP:20260420T231343
CREATED:20231121T211206Z
LAST-MODIFIED:20231121T211206Z
UID:5822-1703761200-1703761200@brownell-libraryri.org
SUMMARY:Library will open at 11 am
DESCRIPTION:
URL:https://brownell-libraryri.org/event/library-will-open-at-11-am-2/
END:VEVENT
BEGIN:VEVENT
DTSTART;VALUE=DATE:20231225
DTEND;VALUE=DATE:20231227
DTSTAMP:20260420T231343
CREATED:20231114T205645Z
LAST-MODIFIED:20231114T205645Z
UID:5812-1703462400-1703635199@brownell-libraryri.org
SUMMARY:Library Closed
DESCRIPTION:
URL:https://brownell-libraryri.org/event/library-closed/
END:VEVENT
BEGIN:VEVENT
DTSTART;TZID=America/New_York:20231212T150000
DTEND;TZID=America/New_York:20231212T160000
DTSTAMP:20260420T231343
CREATED:20231114T210052Z
LAST-MODIFIED:20231114T210052Z
UID:5820-1702393200-1702396800@brownell-libraryri.org
SUMMARY:Brownell Library Board of Trustees Meeting
DESCRIPTION:
URL:https://brownell-libraryri.org/event/brownell-library-board-of-trustees-meeting-2/
END:VEVENT
BEGIN:VEVENT
DTSTART;TZID=America/New_York:20231202T140000
DTEND;TZID=America/New_York:20231202T150000
DTSTAMP:20260420T231343
CREATED:20231121T211408Z
LAST-MODIFIED:20231121T211408Z
UID:5824-1701525600-1701529200@brownell-libraryri.org
SUMMARY:Walking Book Tour with Maggie Jackson / REGISTRATION  REQUIRED
DESCRIPTION:Saturday\, December 2 at 2 PM \nThe event is FREE but pre-registration is required \nREGISTER HERE
URL:https://brownell-libraryri.org/event/walking-book-tour-with-maggie-jackson-registration-required/
END:VEVENT
BEGIN:VEVENT
DTSTART;TZID=America/New_York:20231130T110000
DTEND;TZID=America/New_York:20231130T110000
DTSTAMP:20260420T231343
CREATED:20230908T153534Z
LAST-MODIFIED:20230908T153534Z
UID:5585-1701342000-1701342000@brownell-libraryri.org
SUMMARY:Library will open at 11 am
DESCRIPTION:
URL:https://brownell-libraryri.org/event/library-will-open-at-11-am/
END:VEVENT
BEGIN:VEVENT
DTSTART;TZID=America/New_York:20231128T180000
DTEND;TZID=America/New_York:20231128T190000
DTSTAMP:20260420T231343
CREATED:20230909T145129Z
LAST-MODIFIED:20230909T145129Z
UID:5596-1701194400-1701198000@brownell-libraryri.org
SUMMARY:All the Genres Book Club
DESCRIPTION:This Is How It Always Is by Laurie Frankel
URL:https://brownell-libraryri.org/event/all-the-genres-book-club-3/
END:VEVENT
BEGIN:VEVENT
DTSTART;TZID=America/New_York:20231128T160000
DTEND;TZID=America/New_York:20231128T170000
DTSTAMP:20260420T231343
CREATED:20230909T144504Z
LAST-MODIFIED:20230909T144716Z
UID:5591-1701187200-1701190800@brownell-libraryri.org
SUMMARY:All the Genres Book Club
DESCRIPTION:This Is How It Always Is by Laurie Frankel
URL:https://brownell-libraryri.org/event/all-the-genres-book-club/
END:VEVENT
BEGIN:VEVENT
DTSTART;TZID=America/New_York:20231127T130000
DTEND;TZID=America/New_York:20231127T140000
DTSTAMP:20260420T231343
CREATED:20231018T143310Z
LAST-MODIFIED:20231018T143310Z
UID:5712-1701090000-1701093600@brownell-libraryri.org
SUMMARY:Knitting Group
DESCRIPTION:
URL:https://brownell-libraryri.org/event/knitting-group-20/
END:VEVENT
BEGIN:VEVENT
DTSTART;VALUE=DATE:20231123
DTEND;VALUE=DATE:20231125
DTSTAMP:20260420T231343
CREATED:20231021T185444Z
LAST-MODIFIED:20231021T185444Z
UID:5714-1700697600-1700870399@brownell-libraryri.org
SUMMARY:Library Closed - Thanksgiving
DESCRIPTION:
URL:https://brownell-libraryri.org/event/library-closed-thanksgiving/
END:VEVENT
BEGIN:VEVENT
DTSTART;TZID=America/New_York:20231122T103000
DTEND;TZID=America/New_York:20231122T120000
DTSTAMP:20260420T231343
CREATED:20231018T141515Z
LAST-MODIFIED:20231018T141515Z
UID:5680-1700649000-1700654400@brownell-libraryri.org
SUMMARY:Tech Help
DESCRIPTION:
URL:https://brownell-libraryri.org/event/tech-help-20/
END:VEVENT
BEGIN:VEVENT
DTSTART;TZID=America/New_York:20231120T130000
DTEND;TZID=America/New_York:20231120T140000
DTSTAMP:20260420T231343
CREATED:20231018T143237Z
LAST-MODIFIED:20231018T143237Z
UID:5710-1700485200-1700488800@brownell-libraryri.org
SUMMARY:Knitting Group
DESCRIPTION:
URL:https://brownell-libraryri.org/event/knitting-group-19/
END:VEVENT
BEGIN:VEVENT
DTSTART;TZID=America/New_York:20231118T103000
DTEND;TZID=America/New_York:20231118T120000
DTSTAMP:20260420T231343
CREATED:20230909T144049Z
LAST-MODIFIED:20230909T144049Z
UID:5587-1700303400-1700308800@brownell-libraryri.org
SUMMARY:Fused Glass Workshop
DESCRIPTION:A Fun Fused Glass Workshop to create dichroic fused glass pendants\, magnets\, or a combination. All ages: adults\, and children ages nine and up. Children ages 9-12 must be supervised one-on-one by an adult. No exceptions as this is a safety issue. No experience necessary. All materials included.
URL:https://brownell-libraryri.org/event/fused-glass-workshop/
END:VEVENT
BEGIN:VEVENT
DTSTART;TZID=America/New_York:20231115T103000
DTEND;TZID=America/New_York:20231115T120000
DTSTAMP:20260420T231343
CREATED:20231018T141440Z
LAST-MODIFIED:20231018T141440Z
UID:5678-1700044200-1700049600@brownell-libraryri.org
SUMMARY:Tech Help
DESCRIPTION:
URL:https://brownell-libraryri.org/event/tech-help-19/
END:VEVENT
BEGIN:VEVENT
DTSTART;TZID=America/New_York:20231113T130000
DTEND;TZID=America/New_York:20231113T140000
DTSTAMP:20260420T231343
CREATED:20231018T143209Z
LAST-MODIFIED:20231018T143209Z
UID:5708-1699880400-1699884000@brownell-libraryri.org
SUMMARY:Knitting Group
DESCRIPTION:
URL:https://brownell-libraryri.org/event/knitting-group-18/
END:VEVENT
BEGIN:VEVENT
DTSTART;TZID=America/New_York:20231113T100000
DTEND;TZID=America/New_York:20231113T140000
DTSTAMP:20260420T231343
CREATED:20231013T190927Z
LAST-MODIFIED:20231013T190927Z
UID:5668-1699869600-1699884000@brownell-libraryri.org
SUMMARY:Medicare Help Session – Bring your card and your questions to your appointment
DESCRIPTION:November 13 @ 10:00 am – 2:00 pm\n\nREGISTRATION REQUIRED \n\n\nCall\, email\, or stop by the library to sign up for an appointment on Oct. 30th or Nov 13th from 10 to 2 pm. \n(401) 635-8562 or \ninfo@brownell-libraryri.org
URL:https://brownell-libraryri.org/event/medicare-help-session-bring-your-card-and-your-questions-to-your-appointment-2/
END:VEVENT
BEGIN:VEVENT
DTSTART;VALUE=DATE:20231110
DTEND;VALUE=DATE:20231112
DTSTAMP:20260420T231343
CREATED:20230908T153403Z
LAST-MODIFIED:20230908T153403Z
UID:5582-1699574400-1699747199@brownell-libraryri.org
SUMMARY:Library Closed - Veteran's Day
DESCRIPTION:
URL:https://brownell-libraryri.org/event/library-closed-veterans-day/
END:VEVENT
BEGIN:VEVENT
DTSTART;TZID=America/New_York:20231108T103000
DTEND;TZID=America/New_York:20231108T120000
DTSTAMP:20260420T231343
CREATED:20231018T141351Z
LAST-MODIFIED:20231018T141351Z
UID:5676-1699439400-1699444800@brownell-libraryri.org
SUMMARY:Tech Help
DESCRIPTION:
URL:https://brownell-libraryri.org/event/tech-help-18/
END:VEVENT
BEGIN:VEVENT
DTSTART;TZID=America/New_York:20231107T150000
DTEND;TZID=America/New_York:20231107T160000
DTSTAMP:20260420T231343
CREATED:20231101T165302Z
LAST-MODIFIED:20231101T165302Z
UID:5731-1699369200-1699372800@brownell-libraryri.org
SUMMARY:Brownell Library Board of Trustees Meeting
DESCRIPTION:
URL:https://brownell-libraryri.org/event/brownell-library-board-of-trustees-meeting/
END:VEVENT
END:VCALENDAR