BEGIN:VCALENDAR
VERSION:2.0
PRODID:-//Brownell Library - ECPv6.15.20//NONSGML v1.0//EN
CALSCALE:GREGORIAN
METHOD:PUBLISH
X-ORIGINAL-URL:https://brownell-libraryri.org
X-WR-CALDESC:Events for Brownell Library
REFRESH-INTERVAL;VALUE=DURATION:PT1H
X-Robots-Tag:noindex
X-PUBLISHED-TTL:PT1H
BEGIN:VTIMEZONE
TZID:America/New_York
BEGIN:DAYLIGHT
TZOFFSETFROM:-0500
TZOFFSETTO:-0400
TZNAME:EDT
DTSTART:20240310T070000
END:DAYLIGHT
BEGIN:STANDARD
TZOFFSETFROM:-0400
TZOFFSETTO:-0500
TZNAME:EST
DTSTART:20241103T060000
END:STANDARD
BEGIN:DAYLIGHT
TZOFFSETFROM:-0500
TZOFFSETTO:-0400
TZNAME:EDT
DTSTART:20250309T070000
END:DAYLIGHT
BEGIN:STANDARD
TZOFFSETFROM:-0400
TZOFFSETTO:-0500
TZNAME:EST
DTSTART:20251102T060000
END:STANDARD
BEGIN:DAYLIGHT
TZOFFSETFROM:-0500
TZOFFSETTO:-0400
TZNAME:EDT
DTSTART:20260308T070000
END:DAYLIGHT
BEGIN:STANDARD
TZOFFSETFROM:-0400
TZOFFSETTO:-0500
TZNAME:EST
DTSTART:20261101T060000
END:STANDARD
END:VTIMEZONE
BEGIN:VEVENT
DTSTART;TZID=America/New_York:20250808T110000
DTEND;TZID=America/New_York:20250808T120000
DTSTAMP:20260420T194847
CREATED:20240320T185901Z
LAST-MODIFIED:20250516T194420Z
UID:6162-1754650800-1754654400@brownell-libraryri.org
SUMMARY:Mad Science presents The Flight Stuff
DESCRIPTION:This highflying outdoor event introduces children to the principles of flight and rocketry. In this show\, the Mad Scientists will introduce concepts such as lift\, drag\, and thrust while conducting experiments ranging from simple paper airplanes\, to balloons\, all the way to launching actual Mad Science rockets!
URL:https://brownell-libraryri.org/event/mad-science-presents-flight-stuff/
ATTACH;FMTTYPE=image/jpeg:https://brownell-libraryri.org/wp-content/uploads/mad-science-logo.jpg
END:VEVENT
BEGIN:VEVENT
DTSTART;TZID=America/New_York:20250809T120000
DTEND;TZID=America/New_York:20250809T130000
DTSTAMP:20260420T194847
CREATED:20240515T183304Z
LAST-MODIFIED:20250624T220306Z
UID:6279-1754740800-1754744400@brownell-libraryri.org
SUMMARY:Historical walk through Dundery Brook with John Berg
DESCRIPTION:Join us on a walk at Dundery Brook and learn how this wonderful wild space was used in the past and how it is used now.\n  \n 
URL:https://brownell-libraryri.org/event/nature-talk-and-walk-with-john-berg/
END:VEVENT
BEGIN:VEVENT
DTSTART;VALUE=DATE:20250811
DTEND;VALUE=DATE:20250812
DTSTAMP:20260420T194847
CREATED:20230725T205247Z
LAST-MODIFIED:20250729T181247Z
UID:5463-1754870400-1754956799@brownell-libraryri.org
SUMMARY:LIBRARY CLOSED - Victory Day
DESCRIPTION:
URL:https://brownell-libraryri.org/event/library-closed-victory-day/
END:VEVENT
BEGIN:VEVENT
DTSTART;TZID=America/New_York:20250811T090000
DTEND;TZID=America/New_York:20250811T100000
DTSTAMP:20260420T194847
CREATED:20250624T184650Z
LAST-MODIFIED:20250624T184650Z
UID:7297-1754902800-1754906400@brownell-libraryri.org
SUMMARY:Meditation with Rosa Volpe - Brownell Pavillion
DESCRIPTION:
URL:https://brownell-libraryri.org/event/meditation-with-rosa-volpe-brownell-pavillion-8/
END:VEVENT
BEGIN:VEVENT
DTSTART;TZID=America/New_York:20250812T170000
DTEND;TZID=America/New_York:20250812T190000
DTSTAMP:20260420T194847
CREATED:20250702T152009Z
LAST-MODIFIED:20250729T181059Z
UID:7330-1755018000-1755025200@brownell-libraryri.org
SUMMARY:MOVIE NIGHT - "Screenagers"
DESCRIPTION:Presented by the Tiverton & Little Compton Prevention Coalition  – Join us for a showing of the film Screenagers\, with an included information/Q&A session to follow. This is an informational movie on screen time and youth cell phone use.  Snacks and drinks will be available.
URL:https://brownell-libraryri.org/event/movie-night-screenagers/
END:VEVENT
BEGIN:VEVENT
DTSTART;TZID=America/New_York:20250816T110000
DTEND;TZID=America/New_York:20250816T130000
DTSTAMP:20260420T194847
CREATED:20250530T174158Z
LAST-MODIFIED:20250530T174158Z
UID:7222-1755342000-1755349200@brownell-libraryri.org
SUMMARY:Old Book Book Sale
DESCRIPTION:Stop by the library and buy an old book or two.  We’ll have books published from the late 1800’s to the early 1900’s available for sale.  Look through our assortment of children’s books\, fiction and nonfiction books.  Various authors including Dickens\, Thackeray\, as well as biographies\, assorted histories\, religious books and much more.  
URL:https://brownell-libraryri.org/event/old-book-book-sale-3/
END:VEVENT
BEGIN:VEVENT
DTSTART;TZID=America/New_York:20250818T090000
DTEND;TZID=America/New_York:20250818T100000
DTSTAMP:20260420T194847
CREATED:20250624T184716Z
LAST-MODIFIED:20250624T184716Z
UID:7299-1755507600-1755511200@brownell-libraryri.org
SUMMARY:Meditation with Rosa Volpe - Brownell Pavillion
DESCRIPTION:
URL:https://brownell-libraryri.org/event/meditation-with-rosa-volpe-brownell-pavillion-9/
END:VEVENT
BEGIN:VEVENT
DTSTART;TZID=America/New_York:20250825T090000
DTEND;TZID=America/New_York:20250825T100000
DTSTAMP:20260420T194847
CREATED:20250624T184745Z
LAST-MODIFIED:20250624T184745Z
UID:7301-1756112400-1756116000@brownell-libraryri.org
SUMMARY:Meditation with Rosa Volpe - Brownell Pavillion
DESCRIPTION:
URL:https://brownell-libraryri.org/event/meditation-with-rosa-volpe-brownell-pavillion-10/
END:VEVENT
BEGIN:VEVENT
DTSTART;TZID=America/New_York:20250826T160000
DTEND;TZID=America/New_York:20250826T170000
DTSTAMP:20260420T194847
CREATED:20240224T155646Z
LAST-MODIFIED:20250725T201912Z
UID:6109-1756224000-1756227600@brownell-libraryri.org
SUMMARY:All the Genres Book Club
DESCRIPTION:
URL:https://brownell-libraryri.org/event/all-the-genres-book-club-8/
END:VEVENT
BEGIN:VEVENT
DTSTART;TZID=America/New_York:20250826T173000
DTEND;TZID=America/New_York:20250826T183000
DTSTAMP:20260420T194847
CREATED:20250802T165857Z
LAST-MODIFIED:20250802T165857Z
UID:7403-1756229400-1756233000@brownell-libraryri.org
SUMMARY:Navigating Sustainable Growth with Gib Hedstrom
DESCRIPTION:Join us on Aug 26th at 5:30 as local author Gib Hedstrom talks about his new book\, Navigating Sustainable Growth: A Roadmap for Boards and Corporate Leaders\, which advises companies on how to address climate change while advancing sustainable growth and profitability. In this presentation he will point out how this mindset applies to all of us in our daily lives.
URL:https://brownell-libraryri.org/event/navigating-sustainable-growth-with-gib-hedstrom/
END:VEVENT
BEGIN:VEVENT
DTSTART;TZID=America/New_York:20250903T103000
DTEND;TZID=America/New_York:20250903T120000
DTSTAMP:20260420T194847
CREATED:20240223T210603Z
LAST-MODIFIED:20250829T160048Z
UID:6061-1756895400-1756900800@brownell-libraryri.org
SUMMARY:Baby and Toddler Playtime
DESCRIPTION:
URL:https://brownell-libraryri.org/event/baby-and-toddler-playtime-24/
END:VEVENT
BEGIN:VEVENT
DTSTART;TZID=America/New_York:20250903T130000
DTEND;TZID=America/New_York:20250903T160000
DTSTAMP:20260420T194847
CREATED:20240224T153745Z
LAST-MODIFIED:20250829T160535Z
UID:6083-1756904400-1756915200@brownell-libraryri.org
SUMMARY:Tech Help
DESCRIPTION:
URL:https://brownell-libraryri.org/event/tech-help-39/
END:VEVENT
BEGIN:VEVENT
DTSTART;TZID=America/New_York:20250910T130000
DTEND;TZID=America/New_York:20250910T160000
DTSTAMP:20260420T194847
CREATED:20240224T153711Z
LAST-MODIFIED:20250829T160944Z
UID:6081-1757509200-1757520000@brownell-libraryri.org
SUMMARY:Tech Help
DESCRIPTION:
URL:https://brownell-libraryri.org/event/tech-help-38/
END:VEVENT
BEGIN:VEVENT
DTSTART;TZID=America/New_York:20250917T130000
DTEND;TZID=America/New_York:20250917T160000
DTSTAMP:20260420T194847
CREATED:20240224T153636Z
LAST-MODIFIED:20250829T161029Z
UID:6079-1758114000-1758124800@brownell-libraryri.org
SUMMARY:Tech Help
DESCRIPTION:
URL:https://brownell-libraryri.org/event/tech-help-37/
END:VEVENT
BEGIN:VEVENT
DTSTART;TZID=America/New_York:20250924T130000
DTEND;TZID=America/New_York:20250924T160000
DTSTAMP:20260420T194847
CREATED:20240224T153605Z
LAST-MODIFIED:20250829T161104Z
UID:6077-1758718800-1758729600@brownell-libraryri.org
SUMMARY:Tech Help
DESCRIPTION:
URL:https://brownell-libraryri.org/event/tech-help-36/
END:VEVENT
BEGIN:VEVENT
DTSTART;TZID=America/New_York:20250925T110000
DTEND;TZID=America/New_York:20250925T110000
DTSTAMP:20260420T194847
CREATED:20240224T160155Z
LAST-MODIFIED:20250822T184610Z
UID:6117-1758798000-1758798000@brownell-libraryri.org
SUMMARY:Library Will Open at 11 AM
DESCRIPTION:
URL:https://brownell-libraryri.org/event/library-will-open-at-11-am-5/
END:VEVENT
BEGIN:VEVENT
DTSTART;TZID=America/New_York:20251001T103000
DTEND;TZID=America/New_York:20251001T120000
DTSTAMP:20260420T194847
CREATED:20240223T210442Z
LAST-MODIFIED:20250924T205555Z
UID:6055-1759314600-1759320000@brownell-libraryri.org
SUMMARY:Baby and Toddler Playtime
DESCRIPTION:
URL:https://brownell-libraryri.org/event/baby-and-toddler-playtime-21/
END:VEVENT
BEGIN:VEVENT
DTSTART;TZID=America/New_York:20251001T130000
DTEND;TZID=America/New_York:20251001T160000
DTSTAMP:20260420T194847
CREATED:20240224T153845Z
LAST-MODIFIED:20250927T174612Z
UID:6087-1759323600-1759334400@brownell-libraryri.org
SUMMARY:Tech Help
DESCRIPTION:
URL:https://brownell-libraryri.org/event/tech-help-41/
END:VEVENT
BEGIN:VEVENT
DTSTART;TZID=America/New_York:20251008T103000
DTEND;TZID=America/New_York:20251008T120000
DTSTAMP:20260420T194847
CREATED:20240112T190148Z
LAST-MODIFIED:20250924T205329Z
UID:5941-1759919400-1759924800@brownell-libraryri.org
SUMMARY:Baby and Toddler Playtime!
DESCRIPTION:
URL:https://brownell-libraryri.org/event/baby-and-toddler-playtime-19/
END:VEVENT
BEGIN:VEVENT
DTSTART;TZID=America/New_York:20251008T130000
DTEND;TZID=America/New_York:20251008T160000
DTSTAMP:20260420T194847
CREATED:20240224T153535Z
LAST-MODIFIED:20250927T174651Z
UID:6075-1759928400-1759939200@brownell-libraryri.org
SUMMARY:Tech Help
DESCRIPTION:
URL:https://brownell-libraryri.org/event/tech-help-35/
END:VEVENT
BEGIN:VEVENT
DTSTART;TZID=America/New_York:20251014T173000
DTEND;TZID=America/New_York:20251014T183000
DTSTAMP:20260420T194847
CREATED:20250809T175105Z
LAST-MODIFIED:20251003T200920Z
UID:7417-1760463000-1760466600@brownell-libraryri.org
SUMMARY:The Aperture Effect with Kathryn Ford
DESCRIPTION:Local resident Dr. Kathryn Ford will share her strategies to help people get comfortable with uncomfortable talk in all types of relationships.  In her book\, The Aperture Effect\, her Aperture Awareness approach has helped hundreds of couples reverse the downward spiral of relationship crisis-and prepare for a lifetime of learning and loving together.  Learn how to apply this approach to all of your relationships.
URL:https://brownell-libraryri.org/event/book-talk-for-the-aperture-effect-with-kathryn-ford/
END:VEVENT
BEGIN:VEVENT
DTSTART;TZID=America/New_York:20251014T173000
DTEND;TZID=America/New_York:20251014T183000
DTSTAMP:20260420T194847
CREATED:20250924T205812Z
LAST-MODIFIED:20250924T205812Z
UID:7480-1760463000-1760466600@brownell-libraryri.org
SUMMARY:Reading Basics for Parents of Young Readers
DESCRIPTION:Do you want to understand the basics of early reading skills from a teaching perspective? Come for an hour to learn these basics: the difference between “sight words” and “sound out words”\, the six basic syllable types\, the exceptions (rule breakers)\, and some fun ways to help your early reader learn at his/her own level of readiness. Presented by Beth Donnell-Kilmer\, who taught First Grade for 5 years and then served as a Reading and Learning Specialist at The Park School\, Brookline MA for 28 years.
URL:https://brownell-libraryri.org/event/reading-basics-for-parents-of-young-readers/
END:VEVENT
BEGIN:VEVENT
DTSTART;TZID=America/New_York:20251015T103000
DTEND;TZID=America/New_York:20251015T120000
DTSTAMP:20260420T194847
CREATED:20240223T210537Z
LAST-MODIFIED:20250924T205404Z
UID:6059-1760524200-1760529600@brownell-libraryri.org
SUMMARY:Baby and Toddler Playtime
DESCRIPTION:
URL:https://brownell-libraryri.org/event/baby-and-toddler-playtime-23/
END:VEVENT
BEGIN:VEVENT
DTSTART;TZID=America/New_York:20251015T130000
DTEND;TZID=America/New_York:20251015T160000
DTSTAMP:20260420T194847
CREATED:20240224T153448Z
LAST-MODIFIED:20250927T174741Z
UID:6073-1760533200-1760544000@brownell-libraryri.org
SUMMARY:Tech Help
DESCRIPTION:
URL:https://brownell-libraryri.org/event/tech-help-34/
END:VEVENT
BEGIN:VEVENT
DTSTART;TZID=America/New_York:20251018T103000
DTEND;TZID=America/New_York:20251018T120000
DTSTAMP:20260420T194847
CREATED:20250924T165307Z
LAST-MODIFIED:20250926T155457Z
UID:7477-1760783400-1760788800@brownell-libraryri.org
SUMMARY:The Inheritance Plan\, A Practical Workshop for Parents
DESCRIPTION:Inheritance planning doesn’t have to be a headache!  Learn how to set up an estate plan that avoids taxes\, legal fees\, probate court\, delays\, and family disuptes.  All materials are provided with step-by-step instructions.  Free and open to the public.  Registration is required as space is limited.\nTo register click HERE!
URL:https://brownell-libraryri.org/event/the-inheritance-plan-a-practical-workshop-for-parents/
END:VEVENT
BEGIN:VEVENT
DTSTART;TZID=America/New_York:20251022T103000
DTEND;TZID=America/New_York:20251022T120000
DTSTAMP:20260420T194847
CREATED:20240223T210510Z
LAST-MODIFIED:20250924T205441Z
UID:6057-1761129000-1761134400@brownell-libraryri.org
SUMMARY:Baby and Toddler Playtime
DESCRIPTION:
URL:https://brownell-libraryri.org/event/baby-and-toddler-playtime-22/
END:VEVENT
BEGIN:VEVENT
DTSTART;TZID=America/New_York:20251022T130000
DTEND;TZID=America/New_York:20251022T160000
DTSTAMP:20260420T194847
CREATED:20240112T190323Z
LAST-MODIFIED:20250927T174825Z
UID:5947-1761138000-1761148800@brownell-libraryri.org
SUMMARY:Tech Help
DESCRIPTION:
URL:https://brownell-libraryri.org/event/tech-help-33/
END:VEVENT
BEGIN:VEVENT
DTSTART;TZID=America/New_York:20251025T130000
DTEND;TZID=America/New_York:20251025T140000
DTSTAMP:20260420T194847
CREATED:20250924T143317Z
LAST-MODIFIED:20250924T143317Z
UID:7475-1761397200-1761400800@brownell-libraryri.org
SUMMARY:The Invisible World / Supernatural Encounters in Rhode Island
DESCRIPTION:with Michael E. Bell\, Ph.D.\nYou may have every reason to suppose that our rational age of science has cast out Rhode Island’s eclectic mix of magic and religion\, yet the invisible world is still very much with us. We may no longer see extraordinary occurrences as demonic visitations or divine providences\, but they still haunt us and cause us to wonder. Former State Folklorist Michael Bell will discuss both historical and contemporary accounts of contact with the invisible world from the perspective of a folklorist.
URL:https://brownell-libraryri.org/event/the-invisible-world-supernatural-encounters-in-rhode-island/
END:VEVENT
BEGIN:VEVENT
DTSTART;TZID=America/New_York:20251027T130000
DTEND;TZID=America/New_York:20251027T140000
DTSTAMP:20260420T194847
CREATED:20240223T161203Z
LAST-MODIFIED:20250924T154911Z
UID:6037-1761570000-1761573600@brownell-libraryri.org
SUMMARY:Knitting Group
DESCRIPTION:
URL:https://brownell-libraryri.org/event/knitting-group-34/
END:VEVENT
BEGIN:VEVENT
DTSTART;TZID=America/New_York:20251029T103000
DTEND;TZID=America/New_York:20251029T120000
DTSTAMP:20260420T194847
CREATED:20240223T210409Z
LAST-MODIFIED:20250924T205513Z
UID:6053-1761733800-1761739200@brownell-libraryri.org
SUMMARY:Baby and Toddler Playtime
DESCRIPTION:
URL:https://brownell-libraryri.org/event/baby-and-toddler-playtime-20/
END:VEVENT
END:VCALENDAR