BEGIN:VCALENDAR
VERSION:2.0
PRODID:-//Brownell Library - ECPv6.15.20//NONSGML v1.0//EN
CALSCALE:GREGORIAN
METHOD:PUBLISH
X-ORIGINAL-URL:https://brownell-libraryri.org
X-WR-CALDESC:Events for Brownell Library
REFRESH-INTERVAL;VALUE=DURATION:PT1H
X-Robots-Tag:noindex
X-PUBLISHED-TTL:PT1H
BEGIN:VTIMEZONE
TZID:America/New_York
BEGIN:DAYLIGHT
TZOFFSETFROM:-0500
TZOFFSETTO:-0400
TZNAME:EDT
DTSTART:20250309T070000
END:DAYLIGHT
BEGIN:STANDARD
TZOFFSETFROM:-0400
TZOFFSETTO:-0500
TZNAME:EST
DTSTART:20251102T060000
END:STANDARD
BEGIN:DAYLIGHT
TZOFFSETFROM:-0500
TZOFFSETTO:-0400
TZNAME:EDT
DTSTART:20260308T070000
END:DAYLIGHT
BEGIN:STANDARD
TZOFFSETFROM:-0400
TZOFFSETTO:-0500
TZNAME:EST
DTSTART:20261101T060000
END:STANDARD
BEGIN:DAYLIGHT
TZOFFSETFROM:-0500
TZOFFSETTO:-0400
TZNAME:EDT
DTSTART:20270314T070000
END:DAYLIGHT
BEGIN:STANDARD
TZOFFSETFROM:-0400
TZOFFSETTO:-0500
TZNAME:EST
DTSTART:20271107T060000
END:STANDARD
END:VTIMEZONE
BEGIN:VEVENT
DTSTART;TZID=America/New_York:20260428T160000
DTEND;TZID=America/New_York:20260428T170000
DTSTAMP:20260421T213751
CREATED:20240424T190335Z
LAST-MODIFIED:20260311T170000Z
UID:6219-1777392000-1777395600@brownell-libraryri.org
SUMMARY:All the Genres Book Club
DESCRIPTION:This month’s book is The Beekeeper of Aleppo by Christy Lefteri – All are welcome!
URL:https://brownell-libraryri.org/event/all-the-genres-book-club-12/
END:VEVENT
BEGIN:VEVENT
DTSTART;TZID=America/New_York:20260428T180000
DTEND;TZID=America/New_York:20260428T190000
DTSTAMP:20260421T213751
CREATED:20240224T160027Z
LAST-MODIFIED:20260311T170045Z
UID:6115-1777399200-1777402800@brownell-libraryri.org
SUMMARY:All the Genres Book Club
DESCRIPTION:This month’s book is The Beekeeper of Aleppo by Christy Lefteri – All are welcome!
URL:https://brownell-libraryri.org/event/all-the-genres-book-club-11/
END:VEVENT
BEGIN:VEVENT
DTSTART;TZID=America/New_York:20260429T160000
DTEND;TZID=America/New_York:20260429T170000
DTSTAMP:20260421T213751
CREATED:20260415T210001Z
LAST-MODIFIED:20260415T210001Z
UID:7857-1777478400-1777482000@brownell-libraryri.org
SUMMARY:Little Compton Historical Society - Historical Book Club
DESCRIPTION:Come get copies of 1776 by David McCullough at the library and meet on April 29th under our beautiful pavillion!
URL:https://brownell-libraryri.org/event/little-compton-historical-society-historical-book-club/
END:VEVENT
BEGIN:VEVENT
DTSTART;TZID=America/New_York:20260430T190000
DTEND;TZID=America/New_York:20260430T200000
DTSTAMP:20260421T213751
CREATED:20250530T163924Z
LAST-MODIFIED:20260318T162529Z
UID:7204-1777575600-1777579200@brownell-libraryri.org
SUMMARY:On Writing Beloved Characters and Powerful Portrayals of Resilience in Virtual Conversation with Jason Reynolds / ONLINE EVENT
DESCRIPTION:Learn more and register HERE
URL:https://brownell-libraryri.org/event/authors-unplugged-lisa-jewell-online-event/
END:VEVENT
BEGIN:VEVENT
DTSTART;TZID=America/New_York:20260501T130000
DTEND;TZID=America/New_York:20260501T140000
DTSTAMP:20260421T213751
CREATED:20260113T234632Z
LAST-MODIFIED:20260414T182721Z
UID:7677-1777640400-1777644000@brownell-libraryri.org
SUMMARY:Needlepoint Drop In
DESCRIPTION:
URL:https://brownell-libraryri.org/event/needlework-drop-in-7/
END:VEVENT
BEGIN:VEVENT
DTSTART;TZID=America/New_York:20260504T130000
DTEND;TZID=America/New_York:20260504T140000
DTSTAMP:20260421T213751
CREATED:20240223T161531Z
LAST-MODIFIED:20260414T172858Z
UID:6051-1777899600-1777903200@brownell-libraryri.org
SUMMARY:Knitting Group
DESCRIPTION:
URL:https://brownell-libraryri.org/event/knitting-group-41/
END:VEVENT
BEGIN:VEVENT
DTSTART;TZID=America/New_York:20260505T140000
DTEND;TZID=America/New_York:20260505T150000
DTSTAMP:20260421T213751
CREATED:20250531T161930Z
LAST-MODIFIED:20260414T193329Z
UID:7224-1777989600-1777993200@brownell-libraryri.org
SUMMARY:JoyFull: Daily Rituals to Eat Freely and Live Radiantly with Radhi Devlukia-Shetty / ONLINE EVENT
DESCRIPTION:How can singing to your food and eating dessert before dinner improve your digestion\, skin\, and overall wellbeing? Bestselling author and entrepreneur Radhi Devlukia-Shetty takes us on a journey\, written with generosity and kindness\, in her book JoyFull.\nSee More and Register
URL:https://brownell-libraryri.org/event/authors-unplugged-for-pk-2nd-grade-drawing-your-world-with-raul-the-third-online-event/
END:VEVENT
BEGIN:VEVENT
DTSTART;TZID=America/New_York:20260505T173000
DTEND;TZID=America/New_York:20260505T183000
DTSTAMP:20260421T213751
CREATED:20240424T191147Z
LAST-MODIFIED:20260414T172938Z
UID:6225-1778002200-1778005800@brownell-libraryri.org
SUMMARY:Little Compton Writing Circle
DESCRIPTION:Adult writers of all genres and experience levels are welcome! First and third Tuesdays of the month from 5:30-6:30 p.m. at the Brownell Library with facilitator Katrina Hegeman Janove.
URL:https://brownell-libraryri.org/event/little-compton-writing-circle-9/
END:VEVENT
BEGIN:VEVENT
DTSTART;TZID=America/New_York:20260506T103000
DTEND;TZID=America/New_York:20260506T120000
DTSTAMP:20260421T213751
CREATED:20231018T143003Z
LAST-MODIFIED:20260414T173058Z
UID:5704-1778063400-1778068800@brownell-libraryri.org
SUMMARY:Baby and Toddler Playtime!
DESCRIPTION:
URL:https://brownell-libraryri.org/event/baby-and-toddler-playtime-11/
END:VEVENT
BEGIN:VEVENT
DTSTART;TZID=America/New_York:20260507T190000
DTEND;TZID=America/New_York:20260507T200000
DTSTAMP:20260421T213751
CREATED:20250530T164514Z
LAST-MODIFIED:20260414T193448Z
UID:7206-1778180400-1778184000@brownell-libraryri.org
SUMMARY:On Courage\, Turmoil\, and the Transformative Power of Love with Marjan Kamali / ONLINE EVENT
DESCRIPTION:Join us for an exciting conversation with internationally acclaimed author Marjan Kamali as we delve into the timeless wonder of her New York Times bestselling novel\, The Lion Women of Tehran.\nTo register click HERE!\n 
URL:https://brownell-libraryri.org/event/living-the-otter-life-with-katherine-applegate-3rd-6th-grade/
END:VEVENT
BEGIN:VEVENT
DTSTART;TZID=America/New_York:20260508T130000
DTEND;TZID=America/New_York:20260508T140000
DTSTAMP:20260421T213751
CREATED:20260414T182806Z
LAST-MODIFIED:20260414T182806Z
UID:7840-1778245200-1778248800@brownell-libraryri.org
SUMMARY:Needlepoint Drop In
DESCRIPTION:
URL:https://brownell-libraryri.org/event/needlepoint-drop-in/
END:VEVENT
BEGIN:VEVENT
DTSTART;TZID=America/New_York:20260509T103000
DTEND;TZID=America/New_York:20260509T113000
DTSTAMP:20260421T213751
CREATED:20260414T173254Z
LAST-MODIFIED:20260415T204837Z
UID:7830-1778322600-1778326200@brownell-libraryri.org
SUMMARY:Pollinator Pathway with Barbara Rocha
DESCRIPTION:Monarch populations have dropped dramatically in recent years. Learn how to build a pollinator pathway and create a safe haven for pollinators right in your own backyard!
URL:https://brownell-libraryri.org/event/butterfly-pathway-with-barbara-rocha/
END:VEVENT
BEGIN:VEVENT
DTSTART;TZID=America/New_York:20260511T100000
DTEND;TZID=America/New_York:20260511T120000
DTSTAMP:20260421T213751
CREATED:20251114T162844Z
LAST-MODIFIED:20260410T161533Z
UID:7601-1778493600-1778500800@brownell-libraryri.org
SUMMARY:"More than Medicare" Help Sessions – Registration Required
DESCRIPTION:It’s more than just Medicare.\nDid you know that if you have a Medicare Advantage plan now you can still switch to a different advantage plan?  Open season hasn’t ended if you are already enrolled.  Or do you think you might be eligible for heating assistance or some other type of state or federal assistance program?  Find out.  Make an appointment with Carla\, a representative from the United Way organization The Point for a free\, confidential session to get help with these decisions.  Contact the library to make an appointment.\nCall\, email\, or stop by the library to sign up for an appointment: (401) 635-8562 or info@brownell-libraryri.org
URL:https://brownell-libraryri.org/event/more-than-medicare-help-sessions-registration-required/
END:VEVENT
BEGIN:VEVENT
DTSTART;TZID=America/New_York:20260511T130000
DTEND;TZID=America/New_York:20260511T140000
DTSTAMP:20260421T213751
CREATED:20240112T190811Z
LAST-MODIFIED:20260414T172651Z
UID:5957-1778504400-1778508000@brownell-libraryri.org
SUMMARY:Knitting Group
DESCRIPTION:
URL:https://brownell-libraryri.org/event/knitting-group-30/
END:VEVENT
BEGIN:VEVENT
DTSTART;TZID=America/New_York:20260512T140000
DTEND;TZID=America/New_York:20260512T150000
DTSTAMP:20260421T213751
CREATED:20250531T162527Z
LAST-MODIFIED:20260414T193820Z
UID:7228-1778594400-1778598000@brownell-libraryri.org
SUMMARY:How to Robot-Proof Your Kids (and Yourself) with Dr. Vivienne Ming / ONLINE EVENT
DESCRIPTION:Join us for a timely conversation on AI\, humanity\, and the next steps towards building a better future with self-proclaimed “mad scientist” Dr. Vivienne Ming as we discuss her new book\, Robot-Proof: When Machines Have All the Answers\, Build Better People. \nLearn more and register HERE
URL:https://brownell-libraryri.org/event/authors-unplugged-for-5th-8th-grade-illuminating-hope-and-grace-in-the-face-of-hardship-with-rex-ogle-online-event/
END:VEVENT
BEGIN:VEVENT
DTSTART;TZID=America/New_York:20260512T173000
DTEND;TZID=America/New_York:20260512T183000
DTSTAMP:20260421T213751
CREATED:20260414T173348Z
LAST-MODIFIED:20260414T173348Z
UID:7832-1778607000-1778610600@brownell-libraryri.org
SUMMARY:History of Chocolate : Where it comes from and how it was used in early New England
DESCRIPTION:
URL:https://brownell-libraryri.org/event/history-of-chocolate-where-it-comes-from-and-how-it-was-used-in-early-new-england/
END:VEVENT
BEGIN:VEVENT
DTSTART;TZID=America/New_York:20260513T103000
DTEND;TZID=America/New_York:20260513T120000
DTSTAMP:20260421T213751
CREATED:20240223T210733Z
LAST-MODIFIED:20260414T180039Z
UID:6067-1778668200-1778673600@brownell-libraryri.org
SUMMARY:Baby and Toddler Playtime
DESCRIPTION:
URL:https://brownell-libraryri.org/event/baby-and-toddler-playtime-27/
END:VEVENT
BEGIN:VEVENT
DTSTART;TZID=America/New_York:20260515T130000
DTEND;TZID=America/New_York:20260515T140000
DTSTAMP:20260421T213751
CREATED:20260414T182835Z
LAST-MODIFIED:20260414T182835Z
UID:7842-1778850000-1778853600@brownell-libraryri.org
SUMMARY:Needlepoint Drop In
DESCRIPTION:
URL:https://brownell-libraryri.org/event/needlepoint-drop-in-2/
END:VEVENT
BEGIN:VEVENT
DTSTART;TZID=America/New_York:20260516T103000
DTEND;TZID=America/New_York:20260516T113000
DTSTAMP:20260421T213751
CREATED:20260414T174037Z
LAST-MODIFIED:20260421T201803Z
UID:7834-1778927400-1778931000@brownell-libraryri.org
SUMMARY:Introduction to creating a Fairy Dish Garden - Registration Required
DESCRIPTION:
URL:https://brownell-libraryri.org/event/make-a-fairy-garden/
END:VEVENT
BEGIN:VEVENT
DTSTART;TZID=America/New_York:20260518T130000
DTEND;TZID=America/New_York:20260518T140000
DTSTAMP:20260421T213751
CREATED:20240223T161043Z
LAST-MODIFIED:20260414T172716Z
UID:6033-1779109200-1779112800@brownell-libraryri.org
SUMMARY:Knitting Group
DESCRIPTION:
URL:https://brownell-libraryri.org/event/knitting-group-32/
END:VEVENT
BEGIN:VEVENT
DTSTART;TZID=America/New_York:20260519T140000
DTEND;TZID=America/New_York:20260519T150000
DTSTAMP:20260421T213751
CREATED:20260414T194057Z
LAST-MODIFIED:20260414T194057Z
UID:7852-1779199200-1779202800@brownell-libraryri.org
SUMMARY:Reshape Your Beliefs and Unlock Your True Potential with Nir Eyal / ONLINE EVENT
DESCRIPTION:What if the only thing standing between you and the seemingly impossible…was belief? This is the question posed by bestselling author Nir Eyal in his new work\, Beyond Belief.\nLearn more and register HERE!
URL:https://brownell-libraryri.org/event/reshape-your-beliefs-and-unlock-your-true-potential-with-nir-eyal-online-event/
END:VEVENT
BEGIN:VEVENT
DTSTART;TZID=America/New_York:20260519T160000
DTEND;TZID=America/New_York:20260519T170000
DTSTAMP:20260421T213751
CREATED:20240424T190425Z
LAST-MODIFIED:20260414T175640Z
UID:6221-1779206400-1779210000@brownell-libraryri.org
SUMMARY:All the Genres Book Club
DESCRIPTION:This month’s book is The Busybody Book Club by Freya Sampson – All are welcome!
URL:https://brownell-libraryri.org/event/all-the-genres-book-club-13/
END:VEVENT
BEGIN:VEVENT
DTSTART;TZID=America/New_York:20260519T173000
DTEND;TZID=America/New_York:20260519T183000
DTSTAMP:20260421T213751
CREATED:20240424T191304Z
LAST-MODIFIED:20260414T173017Z
UID:6227-1779211800-1779215400@brownell-libraryri.org
SUMMARY:Little Compton Writing Circle
DESCRIPTION:Adult writers of all genres and experience levels are welcome! First and third Tuesdays of the month from 5:30-6:30 p.m. at the Brownell Library with facilitator Katrina Hegeman Janove.
URL:https://brownell-libraryri.org/event/little-compton-writing-circle-10/
END:VEVENT
BEGIN:VEVENT
DTSTART;TZID=America/New_York:20260519T180000
DTEND;TZID=America/New_York:20260519T190000
DTSTAMP:20260421T213751
CREATED:20240224T155949Z
LAST-MODIFIED:20260414T175714Z
UID:6113-1779213600-1779217200@brownell-libraryri.org
SUMMARY:All the Genres Book Club
DESCRIPTION:This month’s book is The Busybody Book Club by Freya Sampson – All are welcome!
URL:https://brownell-libraryri.org/event/all-the-genres-book-club-10/
END:VEVENT
BEGIN:VEVENT
DTSTART;TZID=America/New_York:20260520T103000
DTEND;TZID=America/New_York:20260520T120000
DTSTAMP:20260421T213751
CREATED:20240223T210700Z
LAST-MODIFIED:20260414T180106Z
UID:6065-1779273000-1779278400@brownell-libraryri.org
SUMMARY:Baby and Toddler Playtime
DESCRIPTION:
URL:https://brownell-libraryri.org/event/baby-and-toddler-playtime-26/
END:VEVENT
BEGIN:VEVENT
DTSTART;TZID=America/New_York:20260521T110000
DTEND;TZID=America/New_York:20260521T110000
DTSTAMP:20260421T213751
CREATED:20240224T160233Z
LAST-MODIFIED:20260421T210127Z
UID:6119-1779361200-1779361200@brownell-libraryri.org
SUMMARY:Library Will Open at 11 AM
DESCRIPTION:
URL:https://brownell-libraryri.org/event/library-will-open-at-11-am-6/
END:VEVENT
BEGIN:VEVENT
DTSTART;TZID=America/New_York:20260521T150000
DTEND;TZID=America/New_York:20260521T160000
DTSTAMP:20260421T213751
CREATED:20230623T193426Z
LAST-MODIFIED:20260417T163408Z
UID:5296-1779375600-1779379200@brownell-libraryri.org
SUMMARY:Meeting: Board of the Friends of the Brownell Library
DESCRIPTION:
URL:https://brownell-libraryri.org/event/open-house-with-the-friends-of-the-brownell-library/
END:VEVENT
BEGIN:VEVENT
DTSTART;TZID=America/New_York:20260522T130000
DTEND;TZID=America/New_York:20260522T140000
DTSTAMP:20260421T213751
CREATED:20260414T182859Z
LAST-MODIFIED:20260414T182859Z
UID:7844-1779454800-1779458400@brownell-libraryri.org
SUMMARY:Needlepoint Drop In
DESCRIPTION:
URL:https://brownell-libraryri.org/event/needlepoint-drop-in-3/
END:VEVENT
BEGIN:VEVENT
DTSTART;TZID=America/New_York:20260523T120000
DTEND;TZID=America/New_York:20260523T133000
DTSTAMP:20260421T213751
CREATED:20260414T210804Z
LAST-MODIFIED:20260414T210804Z
UID:7854-1779537600-1779543000@brownell-libraryri.org
SUMMARY:Understanding your Electric Bill & Community Resources available
DESCRIPTION:
URL:https://brownell-libraryri.org/event/understanding-your-electric-bill-community-resources-available/
END:VEVENT
BEGIN:VEVENT
DTSTART;VALUE=DATE:20260525
DTEND;VALUE=DATE:20260526
DTSTAMP:20260421T213751
CREATED:20250708T175846Z
LAST-MODIFIED:20260414T180640Z
UID:7337-1779667200-1779753599@brownell-libraryri.org
SUMMARY:Library Closed
DESCRIPTION:
URL:https://brownell-libraryri.org/event/library-closed-10/
END:VEVENT
END:VCALENDAR