BEGIN:VCALENDAR
VERSION:2.0
PRODID:-//Brownell Library - ECPv6.15.20//NONSGML v1.0//EN
CALSCALE:GREGORIAN
METHOD:PUBLISH
X-WR-CALNAME:Brownell Library
X-ORIGINAL-URL:https://brownell-libraryri.org
X-WR-CALDESC:Events for Brownell Library
REFRESH-INTERVAL;VALUE=DURATION:PT1H
X-Robots-Tag:noindex
X-PUBLISHED-TTL:PT1H
BEGIN:VTIMEZONE
TZID:America/New_York
BEGIN:DAYLIGHT
TZOFFSETFROM:-0500
TZOFFSETTO:-0400
TZNAME:EDT
DTSTART:20240310T070000
END:DAYLIGHT
BEGIN:STANDARD
TZOFFSETFROM:-0400
TZOFFSETTO:-0500
TZNAME:EST
DTSTART:20241103T060000
END:STANDARD
BEGIN:DAYLIGHT
TZOFFSETFROM:-0500
TZOFFSETTO:-0400
TZNAME:EDT
DTSTART:20250309T070000
END:DAYLIGHT
BEGIN:STANDARD
TZOFFSETFROM:-0400
TZOFFSETTO:-0500
TZNAME:EST
DTSTART:20251102T060000
END:STANDARD
BEGIN:DAYLIGHT
TZOFFSETFROM:-0500
TZOFFSETTO:-0400
TZNAME:EDT
DTSTART:20260308T070000
END:DAYLIGHT
BEGIN:STANDARD
TZOFFSETFROM:-0400
TZOFFSETTO:-0500
TZNAME:EST
DTSTART:20261101T060000
END:STANDARD
END:VTIMEZONE
BEGIN:VEVENT
DTSTART;TZID=America/New_York:20250311T173000
DTEND;TZID=America/New_York:20250311T183000
DTSTAMP:20260420T205549
CREATED:20250219T164805Z
LAST-MODIFIED:20250219T164805Z
UID:6941-1741714200-1741717800@brownell-libraryri.org
SUMMARY:Managing Big Feelings with Kids
DESCRIPTION:
URL:https://brownell-libraryri.org/event/managing-big-feelings-with-kids/
END:VEVENT
BEGIN:VEVENT
DTSTART;TZID=America/New_York:20250314T103000
DTEND;TZID=America/New_York:20250314T113000
DTSTAMP:20260420T205549
CREATED:20250301T231451Z
LAST-MODIFIED:20250307T155902Z
UID:6636-1741948200-1741951800@brownell-libraryri.org
SUMMARY:Big Book Storytime
DESCRIPTION:Join us for a storytime featuring BIG versions of some classic picture books!\nOpen playtime to follow\, explore more books\, or play with toys and puzzles!
URL:https://brownell-libraryri.org/event/big-book-storytime-2/
END:VEVENT
BEGIN:VEVENT
DTSTART;TZID=America/New_York:20250325T173000
DTEND;TZID=America/New_York:20250325T183000
DTSTAMP:20260420T205549
CREATED:20250219T165116Z
LAST-MODIFIED:20250311T214710Z
UID:6943-1742923800-1742927400@brownell-libraryri.org
SUMMARY:Motivating Kids with Positive & Negative Consequences 
DESCRIPTION:One of the most important (and most stressful) tasks for caregivers is guiding kids toward the best choices. Responding to behaviors with positive and negative consequences gives children important feedback and can help them make changes. This workshop will help you decide which behaviors you want to address\, determine what consequences will be the most effective\, and deliver those consequences so they have the impact you desire. \n  \nREGISTER HERE!
URL:https://brownell-libraryri.org/event/motivating-kids-with-positive-negative-consequences/
END:VEVENT
BEGIN:VEVENT
DTSTART;TZID=America/New_York:20250402T103000
DTEND;TZID=America/New_York:20250402T120000
DTSTAMP:20260420T205549
CREATED:20231018T142440Z
LAST-MODIFIED:20250307T164953Z
UID:5696-1743589800-1743595200@brownell-libraryri.org
SUMMARY:Baby and Toddler Playtime!
DESCRIPTION:No fussing here ~ we are starting a new playtime specially designed for babies & toddlers! There will be a pint-sized ball pit\, sensory friendly toys\, and lots to engage the youngest minds!\nNo registration required\, just drop in and tell your friends!
URL:https://brownell-libraryri.org/event/baby-and-toddler-playtime-10/
END:VEVENT
BEGIN:VEVENT
DTSTART;TZID=America/New_York:20250402T130000
DTEND;TZID=America/New_York:20250402T150000
DTSTAMP:20260420T205549
CREATED:20231018T141624Z
LAST-MODIFIED:20250307T190845Z
UID:5684-1743598800-1743606000@brownell-libraryri.org
SUMMARY:Tech Help
DESCRIPTION:
URL:https://brownell-libraryri.org/event/tech-help-21/
END:VEVENT
BEGIN:VEVENT
DTSTART;TZID=America/New_York:20250408T173000
DTEND;TZID=America/New_York:20250408T183000
DTSTAMP:20260420T205549
CREATED:20250219T165241Z
LAST-MODIFIED:20250219T165241Z
UID:6945-1744133400-1744137000@brownell-libraryri.org
SUMMARY:Responding to Bullying & Cyber Bullying
DESCRIPTION:
URL:https://brownell-libraryri.org/event/responding-to-bullying-cyber-bullying/
END:VEVENT
BEGIN:VEVENT
DTSTART;TZID=America/New_York:20250411T103000
DTEND;TZID=America/New_York:20250411T113000
DTSTAMP:20260420T205549
CREATED:20240918T172552Z
LAST-MODIFIED:20250307T161505Z
UID:6628-1744367400-1744371000@brownell-libraryri.org
SUMMARY:Big Book Storytime
DESCRIPTION:Join us for a storytime featuring BIG versions of some classic picture books!\nOpen playtime to follow\, explore more books\, or play with toys and puzzles!\n 
URL:https://brownell-libraryri.org/event/big-book-storytime/
END:VEVENT
BEGIN:VEVENT
DTSTART;TZID=America/New_York:20250422T173000
DTEND;TZID=America/New_York:20250422T183000
DTSTAMP:20260420T205549
CREATED:20250321T161809Z
LAST-MODIFIED:20250321T192231Z
UID:7013-1745343000-1745346600@brownell-libraryri.org
SUMMARY:An Introduction to Mushroom Hunting
DESCRIPTION:Using gorgeous photography\,  “An Introduction to Mushroom Hunting” focuses on some mushrooms that are safe for beginners (a different slideshow for each of the 4 seasons); and of course every slideshow covers the crucial background of mushroom science and safety.  Get a blank notebook and write Mushroom Hunting Journal on the cover…you will want to take notes on this presentation!
URL:https://brownell-libraryri.org/event/an-introduction-to-mushroom-hunting/
END:VEVENT
BEGIN:VEVENT
DTSTART;TZID=America/New_York:20250426T130000
DTEND;TZID=America/New_York:20250426T140000
DTSTAMP:20260420T205549
CREATED:20250315T142604Z
LAST-MODIFIED:20250315T142604Z
UID:7004-1745672400-1745676000@brownell-libraryri.org
SUMMARY:Author Richard Guimond discusses his Prohibition-era novel\, Gatsby's Rival
DESCRIPTION:
URL:https://brownell-libraryri.org/event/author-richard-guimond-discusses-his-prohibition-era-novel-gatsbys-rival/
END:VEVENT
BEGIN:VEVENT
DTSTART;TZID=America/New_York:20250503T130000
DTEND;TZID=America/New_York:20250503T140000
DTSTAMP:20260420T205549
CREATED:20250419T143128Z
LAST-MODIFIED:20250419T143128Z
UID:7089-1746277200-1746280800@brownell-libraryri.org
SUMMARY:Radio and Community Resilience
DESCRIPTION:As communities face disasters like Hurricane Helene in North Carolina and the wildfires in California\, the importance of planning ahead is clear.  Communities that plan ahead for communication disruptions are better equipped to handle emergencies.   There’s a simple\, affordable\, old-school way to enhance our collective readiness. It’s by investing a few dollars in handheld FRS (Family Radio Service) or GMRS (General Mobile Radio Service) two-way radios.  Communications resilience is a growing topic of discussion among community leaders and first responders.  Want to find out more?  Project leaders from the Newport County Radio Club will be hosting a discussion on Radio and Community Resilience at the Brownell Library on Saturday\, May 3rd at 1 pm.  No registration required for this free program.
URL:https://brownell-libraryri.org/event/radio-and-community-resilience/
END:VEVENT
BEGIN:VEVENT
DTSTART;TZID=America/New_York:20250509T103000
DTEND;TZID=America/New_York:20250509T113000
DTSTAMP:20260420T205549
CREATED:20250312T144348Z
LAST-MODIFIED:20250312T144348Z
UID:6998-1746786600-1746790200@brownell-libraryri.org
SUMMARY:Big Book Storytime
DESCRIPTION:Join us for a storytime featuring BIG versions of some classic picture books!\nOpen playtime to follow\, explore more books\, or play with toys and puzzles!
URL:https://brownell-libraryri.org/event/big-book-storytime-3/
END:VEVENT
BEGIN:VEVENT
DTSTART;TZID=America/New_York:20250510T173000
DTEND;TZID=America/New_York:20250510T183000
DTSTAMP:20260420T205549
CREATED:20250419T142900Z
LAST-MODIFIED:20250419T153525Z
UID:7087-1746898200-1746901800@brownell-libraryri.org
SUMMARY:Short Attention Span Shakespeare: Soliloquies\, Sonnets\, and Scenes / Sponsored by BayCoast Bank
DESCRIPTION:Sample a “Shakespeare Flight” – professional actors from WatermelonAlligator Theatre Company bring scenes\, soliloquies\, and sonnets from the Bard to life! Whether you’re a diehard Shakespeare fan or you avoid him at all costs\, we’ve got something you’ll enjoy! Come on out and enjoy this performance in homage to the Travelling Symphony from “Station Eleven” by Emily St John Mandel. Live theatre: because survival is insufficient. Appropriate for all ages
URL:https://brownell-libraryri.org/event/short-attention-span-shakespeare-soliloquies-sonnets-and-scenes/
END:VEVENT
BEGIN:VEVENT
DTSTART;TZID=America/New_York:20250518T100000
DTEND;TZID=America/New_York:20250518T150000
DTSTAMP:20260420T205549
CREATED:20250419T143254Z
LAST-MODIFIED:20250419T143254Z
UID:7091-1747562400-1747580400@brownell-libraryri.org
SUMMARY:Little Compton Book Festival
DESCRIPTION:
URL:https://brownell-libraryri.org/event/little-compton-book-festival/
END:VEVENT
BEGIN:VEVENT
DTSTART;VALUE=DATE:20250526
DTEND;VALUE=DATE:20250527
DTSTAMP:20260420T205549
CREATED:20231219T221403Z
LAST-MODIFIED:20250419T174632Z
UID:5894-1748217600-1748303999@brownell-libraryri.org
SUMMARY:Library Closed
DESCRIPTION:
URL:https://brownell-libraryri.org/event/library-closed-5/
END:VEVENT
BEGIN:VEVENT
DTSTART;TZID=America/New_York:20250531T130000
DTEND;TZID=America/New_York:20250531T140000
DTSTAMP:20260420T205549
CREATED:20250419T143356Z
LAST-MODIFIED:20250423T164546Z
UID:7093-1748696400-1748700000@brownell-libraryri.org
SUMMARY:Rhode Island Food Policy Council Community Composting Presentation
DESCRIPTION:Come learn about the basics of what composting is\, how it’s made\, methods of composting at home or in the community and how to use compost!
URL:https://brownell-libraryri.org/event/composting/
END:VEVENT
BEGIN:VEVENT
DTSTART;TZID=America/New_York:20250607T110000
DTEND;TZID=America/New_York:20250607T120000
DTSTAMP:20260420T205549
CREATED:20250419T143631Z
LAST-MODIFIED:20250516T165442Z
UID:7095-1749294000-1749297600@brownell-libraryri.org
SUMMARY:Sailing to Freedom - Maritime Dimensions of the Underground Railroad
DESCRIPTION:Sailing to Freedom highlights little-known stories and describes the less-understood maritime side of the Underground Railroad\, including the impact of African Americans’ paid and unpaid waterfront labor.
URL:https://brownell-libraryri.org/event/maritime-underground-railroad/
END:VEVENT
BEGIN:VEVENT
DTSTART;TZID=America/New_York:20250616T090000
DTEND;TZID=America/New_York:20250616T100000
DTSTAMP:20260420T205549
CREATED:20230623T194356Z
LAST-MODIFIED:20250530T165349Z
UID:5301-1750064400-1750068000@brownell-libraryri.org
SUMMARY:MEDITATION with Rosa Volpe
DESCRIPTION:Under the Brownell Library Pavillion\n \n 
URL:https://brownell-libraryri.org/event/meditation-with-rosa-volpe/
END:VEVENT
BEGIN:VEVENT
DTSTART;VALUE=DATE:20250619
DTEND;VALUE=DATE:20250620
DTSTAMP:20260420T205549
CREATED:20231219T221440Z
LAST-MODIFIED:20250517T165900Z
UID:5896-1750291200-1750377599@brownell-libraryri.org
SUMMARY:Library Closed
DESCRIPTION:
URL:https://brownell-libraryri.org/event/library-closed-6/
END:VEVENT
BEGIN:VEVENT
DTSTART;TZID=America/New_York:20250621T110000
DTEND;TZID=America/New_York:20250621T130000
DTSTAMP:20260420T205549
CREATED:20250530T173751Z
LAST-MODIFIED:20250530T173751Z
UID:7218-1750503600-1750510800@brownell-libraryri.org
SUMMARY:Old Book Book Sale
DESCRIPTION:Stop by the library and buy an old book or two.  We’ll have books published from the late 1800’s to the early 1900’s available for sale.  Look through our assortment of children’s books\, fiction and nonfiction books.  Various authors including Dickens\, Thackeray\, as well as biographies\, assorted histories\, religious books and much more.  
URL:https://brownell-libraryri.org/event/old-book-book-sale/
END:VEVENT
BEGIN:VEVENT
DTSTART;TZID=America/New_York:20250623T090000
DTEND;TZID=America/New_York:20250623T100000
DTSTAMP:20260420T205549
CREATED:20230624T142143Z
LAST-MODIFIED:20250530T165500Z
UID:5318-1750669200-1750672800@brownell-libraryri.org
SUMMARY:Meditation with Rosa Volpe - Brownell Pavillion
DESCRIPTION:
URL:https://brownell-libraryri.org/event/meditation-with-rosa-volpe-brownell-pavillion/
END:VEVENT
BEGIN:VEVENT
DTSTART;TZID=America/New_York:20250627T110000
DTEND;TZID=America/New_York:20250627T120000
DTSTAMP:20260420T205549
CREATED:20250419T143843Z
LAST-MODIFIED:20250626T154938Z
UID:7099-1751022000-1751025600@brownell-libraryri.org
SUMMARY:Roger Williams Zoomobile
DESCRIPTION:
URL:https://brownell-libraryri.org/event/roger-williams-zoomobile/
END:VEVENT
BEGIN:VEVENT
DTSTART;TZID=America/New_York:20250628T130000
DTEND;TZID=America/New_York:20250628T140000
DTSTAMP:20260420T205549
CREATED:20250419T143943Z
LAST-MODIFIED:20250528T160328Z
UID:7101-1751115600-1751119200@brownell-libraryri.org
SUMMARY:Libraries on the Air
DESCRIPTION:Stop by the Brownell Library to learn more about amateur radio and connect with Ham radio operators around the country.  The Libraries on the Air initiative was started by a librarian in Winthrop\, WA.  While we aren’t sure we’ll be able to connect with WA\, we will be able to connect with Ham operators closer to home.  This event will be held in the Pavilion.
URL:https://brownell-libraryri.org/event/libraries-on-the-air/
END:VEVENT
BEGIN:VEVENT
DTSTART;TZID=America/New_York:20250630T090000
DTEND;TZID=America/New_York:20250630T100000
DTSTAMP:20260420T205549
CREATED:20230624T143509Z
LAST-MODIFIED:20250530T165614Z
UID:5320-1751274000-1751277600@brownell-libraryri.org
SUMMARY:Meditation with Rosa Volpe - Brownell Pavillion
DESCRIPTION:
URL:https://brownell-libraryri.org/event/meditation-with-rosa-volpe-brownell-pavillion-2/
END:VEVENT
BEGIN:VEVENT
DTSTART;TZID=America/New_York:20250707T090000
DTEND;TZID=America/New_York:20250707T100000
DTSTAMP:20260420T205549
CREATED:20230624T143550Z
LAST-MODIFIED:20250530T170531Z
UID:5322-1751878800-1751882400@brownell-libraryri.org
SUMMARY:Meditation with Rosa Volpe - Brownell Pavillion
DESCRIPTION:
URL:https://brownell-libraryri.org/event/meditation-with-rosa-volpe-brownell-pavillion-3/
END:VEVENT
BEGIN:VEVENT
DTSTART;TZID=America/New_York:20250708T173000
DTEND;TZID=America/New_York:20250708T183000
DTSTAMP:20260420T205549
CREATED:20250423T165037Z
LAST-MODIFIED:20250423T165037Z
UID:7137-1751995800-1751999400@brownell-libraryri.org
SUMMARY:Fort Church and Rhode Island Coastal Defenses
DESCRIPTION:Norman Desmarais\, Professor Emeritus at Providence College will talk about Fort Church and Rhode Island Coastal Defenses during World War II at the Brownell Library.  He will identify the locations of the three reservations which Fort Church occupied. The talk will also describe the defenses at each reservation as well as neighboring defenses and how they worked together to defend the Rhode Island and Southeast Massachusetts coastline. There will be a particular emphasis on the 16-inch guns.
URL:https://brownell-libraryri.org/event/fort-church-and-rhode-island-coastal-defenses/
END:VEVENT
BEGIN:VEVENT
DTSTART;TZID=America/New_York:20250714T090000
DTEND;TZID=America/New_York:20250714T100000
DTSTAMP:20260420T205549
CREATED:20230624T143634Z
LAST-MODIFIED:20250530T170615Z
UID:5324-1752483600-1752487200@brownell-libraryri.org
SUMMARY:Meditation with Rosa Volpe - Brownell Pavillion
DESCRIPTION:
URL:https://brownell-libraryri.org/event/meditation-with-rosa-volpe-brownell-pavillion-4/
END:VEVENT
BEGIN:VEVENT
DTSTART;TZID=America/New_York:20250716T090000
DTEND;TZID=America/New_York:20250716T100000
DTSTAMP:20260420T205549
CREATED:20230624T144451Z
LAST-MODIFIED:20250715T200123Z
UID:5326-1752656400-1752660000@brownell-libraryri.org
SUMMARY:Meditation with Rosa Volpe - Brownell Pavillion
DESCRIPTION:
URL:https://brownell-libraryri.org/event/meditation-with-rosa-volpe-brownell-pavillion-5/
END:VEVENT
BEGIN:VEVENT
DTSTART;VALUE=DATE:20250718
DTEND;VALUE=DATE:20250721
DTSTAMP:20260420T205549
CREATED:20250419T144310Z
LAST-MODIFIED:20250717T164016Z
UID:7107-1752796800-1753055999@brownell-libraryri.org
SUMMARY:Art Show in Brownell Library Pavillion
DESCRIPTION:
URL:https://brownell-libraryri.org/event/art-show-in-brownell-library-pavillion/
END:VEVENT
BEGIN:VEVENT
DTSTART;TZID=America/New_York:20250718T110000
DTEND;TZID=America/New_York:20250718T120000
DTSTAMP:20260420T205549
CREATED:20250516T195650Z
LAST-MODIFIED:20250516T195650Z
UID:7189-1752836400-1752840000@brownell-libraryri.org
SUMMARY:Mark Binder - Storyteller Extraordinaire
DESCRIPTION:Fun for all ages!
URL:https://brownell-libraryri.org/event/mark-binder-storyteller-extraordinaire/
END:VEVENT
BEGIN:VEVENT
DTSTART;TZID=America/New_York:20250719T110000
DTEND;TZID=America/New_York:20250719T130000
DTSTAMP:20260420T205549
CREATED:20250621T155543Z
LAST-MODIFIED:20250621T155543Z
UID:7288-1752922800-1752930000@brownell-libraryri.org
SUMMARY:Old Book Book Sale
DESCRIPTION:
URL:https://brownell-libraryri.org/event/old-book-book-sale-4/
END:VEVENT
END:VCALENDAR