BEGIN:VCALENDAR
VERSION:2.0
PRODID:-//Brownell Library - ECPv6.15.20//NONSGML v1.0//EN
CALSCALE:GREGORIAN
METHOD:PUBLISH
X-WR-CALNAME:Brownell Library
X-ORIGINAL-URL:https://brownell-libraryri.org
X-WR-CALDESC:Events for Brownell Library
REFRESH-INTERVAL;VALUE=DURATION:PT1H
X-Robots-Tag:noindex
X-PUBLISHED-TTL:PT1H
BEGIN:VTIMEZONE
TZID:America/New_York
BEGIN:DAYLIGHT
TZOFFSETFROM:-0500
TZOFFSETTO:-0400
TZNAME:EDT
DTSTART:20230312T070000
END:DAYLIGHT
BEGIN:STANDARD
TZOFFSETFROM:-0400
TZOFFSETTO:-0500
TZNAME:EST
DTSTART:20231105T060000
END:STANDARD
BEGIN:DAYLIGHT
TZOFFSETFROM:-0500
TZOFFSETTO:-0400
TZNAME:EDT
DTSTART:20240310T070000
END:DAYLIGHT
BEGIN:STANDARD
TZOFFSETFROM:-0400
TZOFFSETTO:-0500
TZNAME:EST
DTSTART:20241103T060000
END:STANDARD
BEGIN:DAYLIGHT
TZOFFSETFROM:-0500
TZOFFSETTO:-0400
TZNAME:EDT
DTSTART:20250309T070000
END:DAYLIGHT
BEGIN:STANDARD
TZOFFSETFROM:-0400
TZOFFSETTO:-0500
TZNAME:EST
DTSTART:20251102T060000
END:STANDARD
END:VTIMEZONE
BEGIN:VEVENT
DTSTART;TZID=America/New_York:20240724T103000
DTEND;TZID=America/New_York:20240724T120000
DTSTAMP:20260420T131809
CREATED:20240320T192321Z
LAST-MODIFIED:20240320T192321Z
UID:6174-1721817000-1721822400@brownell-libraryri.org
SUMMARY:Sensory Exploration Playgroup!
DESCRIPTION:Join us for hands-on sensory experiences for infants through preschoolers. Lots of fun toys too! No registration required!
URL:https://brownell-libraryri.org/event/sensory-exploration-playgroup-5/
ATTACH;FMTTYPE=image/jpeg:https://brownell-libraryri.org/wp-content/uploads/touch-board.jpg
END:VEVENT
BEGIN:VEVENT
DTSTART;TZID=America/New_York:20240720T130000
DTEND;TZID=America/New_York:20240720T140000
DTSTAMP:20260420T131809
CREATED:20240607T180838Z
LAST-MODIFIED:20240709T162201Z
UID:6391-1721480400-1721484000@brownell-libraryri.org
SUMMARY:Living Literature - Phenomenal Women
DESCRIPTION:
URL:https://brownell-libraryri.org/event/living-literature-solito/
END:VEVENT
BEGIN:VEVENT
DTSTART;TZID=America/New_York:20240717T103000
DTEND;TZID=America/New_York:20240717T120000
DTSTAMP:20260420T131809
CREATED:20240320T192228Z
LAST-MODIFIED:20240320T192228Z
UID:6172-1721212200-1721217600@brownell-libraryri.org
SUMMARY:Sensory Exploration Playgroup!
DESCRIPTION:Join us for hands-on sensory experiences for infants through preschoolers. Lots of fun toys too! No registration required!
URL:https://brownell-libraryri.org/event/sensory-exploration-playgroup-4/
ATTACH;FMTTYPE=image/jpeg:https://brownell-libraryri.org/wp-content/uploads/touch-board.jpg
END:VEVENT
BEGIN:VEVENT
DTSTART;TZID=America/New_York:20240716T173000
DTEND;TZID=America/New_York:20240716T183000
DTSTAMP:20260420T131809
CREATED:20230916T185145Z
LAST-MODIFIED:20240607T180649Z
UID:5600-1721151000-1721154600@brownell-libraryri.org
SUMMARY:Author Michael Fine
DESCRIPTION:
URL:https://brownell-libraryri.org/event/author-michael-fine-on-medicine-as-colonialism/
END:VEVENT
BEGIN:VEVENT
DTSTART;TZID=America/New_York:20240710T103000
DTEND;TZID=America/New_York:20240710T120000
DTSTAMP:20260420T131809
CREATED:20240320T192138Z
LAST-MODIFIED:20240320T192138Z
UID:6170-1720607400-1720612800@brownell-libraryri.org
SUMMARY:Sensory Exploration Playgroup!
DESCRIPTION:Join us for hands-on sensory experiences for infants through preschoolers. Lots of fun toys too! No registration required!
URL:https://brownell-libraryri.org/event/sensory-exploration-playgroup-3/
ATTACH;FMTTYPE=image/jpeg:https://brownell-libraryri.org/wp-content/uploads/touch-board.jpg
END:VEVENT
BEGIN:VEVENT
DTSTART;TZID=America/New_York:20240710T103000
DTEND;TZID=America/New_York:20240710T120000
DTSTAMP:20260420T131809
CREATED:20231219T195417Z
LAST-MODIFIED:20240607T165141Z
UID:5880-1720607400-1720612800@brownell-libraryri.org
SUMMARY:Tech Help
DESCRIPTION:
URL:https://brownell-libraryri.org/event/tech-help-28/
END:VEVENT
BEGIN:VEVENT
DTSTART;TZID=America/New_York:20240703T103000
DTEND;TZID=America/New_York:20240703T120000
DTSTAMP:20260420T131809
CREATED:20240320T192049Z
LAST-MODIFIED:20240320T192049Z
UID:6168-1720002600-1720008000@brownell-libraryri.org
SUMMARY:Sensory Exploration Playgroup!
DESCRIPTION:Join us for hands-on sensory experiences for infants through preschoolers. Lots of fun toys too! No registration required!
URL:https://brownell-libraryri.org/event/sensory-exploration-playgroup-2/
ATTACH;FMTTYPE=image/jpeg:https://brownell-libraryri.org/wp-content/uploads/touch-board.jpg
END:VEVENT
BEGIN:VEVENT
DTSTART;TZID=America/New_York:20240703T103000
DTEND;TZID=America/New_York:20240703T120000
DTSTAMP:20260420T131809
CREATED:20231219T195348Z
LAST-MODIFIED:20240607T165105Z
UID:5878-1720002600-1720008000@brownell-libraryri.org
SUMMARY:Tech Help
DESCRIPTION:
URL:https://brownell-libraryri.org/event/tech-help-27/
END:VEVENT
BEGIN:VEVENT
DTSTART;TZID=America/New_York:20240629T130000
DTEND;TZID=America/New_York:20240629T140000
DTSTAMP:20260420T131809
CREATED:20240528T211429Z
LAST-MODIFIED:20240611T191114Z
UID:6331-1719666000-1719669600@brownell-libraryri.org
SUMMARY:Walk Old Fields and Meadows at Dundery Brook Trail with The Nature Conservancy - REGISTRATION REQUIRED
DESCRIPTION:Old fields and meadows at Dundery Brook trail
URL:https://brownell-libraryri.org/event/nature-talk-and-walk-with-john-berg-2/
END:VEVENT
BEGIN:VEVENT
DTSTART;TZID=America/New_York:20240629T103000
DTEND;TZID=America/New_York:20240629T113000
DTSTAMP:20260420T131809
CREATED:20240515T184453Z
LAST-MODIFIED:20240611T191525Z
UID:6287-1719657000-1719660600@brownell-libraryri.org
SUMMARY:Marine Pollution and Mother Nature with William Hutson
DESCRIPTION:This talk will examine the cause\, effect\, and extent of pollution on the ocean environment. Several local marine disasters are examined. One involves a fish kill in Narragansett Bay. Another involves the effect of an oil spill on the shores of Little Compton and Westport. A third remains a mystery. A mystery hidden by Mother Nature. Its unsuspected solution will be a surprise.
URL:https://brownell-libraryri.org/event/marine-pollution-and-mother-nature-with-william-hutson/
END:VEVENT
BEGIN:VEVENT
DTSTART;TZID=America/New_York:20240626T103000
DTEND;TZID=America/New_York:20240626T120000
DTSTAMP:20260420T131809
CREATED:20240320T191753Z
LAST-MODIFIED:20240320T191753Z
UID:6165-1719397800-1719403200@brownell-libraryri.org
SUMMARY:Sensory Exploration Playgroup!
DESCRIPTION:Join us for hands-on sensory experiences for infants through preschoolers. Lots of fun toys too! No registration required!
URL:https://brownell-libraryri.org/event/sensory-exploration-playgroup/
ATTACH;FMTTYPE=image/jpeg:https://brownell-libraryri.org/wp-content/uploads/touch-board.jpg
END:VEVENT
BEGIN:VEVENT
DTSTART;TZID=America/New_York:20240622T133000
DTEND;TZID=America/New_York:20240622T143000
DTSTAMP:20260420T131809
CREATED:20240515T184347Z
LAST-MODIFIED:20240515T184347Z
UID:6285-1719063000-1719066600@brownell-libraryri.org
SUMMARY:Slavery in Colonial Rhode Island: A Talk Given by Fred Zilian\, Ph.D
DESCRIPTION:The histories of colonial Rhode Island and of slavery in the New World are intimately connected. This talk will first describe the beginnings of slavery in the colony of Rhode Island\, its growth in the colony in the 18th century\, and Rhode Island’s key role in the Atlantic slave-trading system. It will then address slavery in Little Compton\, Bristol\, Providence\, “Narragansett Country\,” and Newport. It will end by examining the demographics of slavery in RI\, the lives of the enslaved\, and resistance to slavery. Q & A to follow.
URL:https://brownell-libraryri.org/event/slavery-in-colonial-rhode-island-a-talk-given-by-fred-zilian-ph-d/
END:VEVENT
BEGIN:VEVENT
DTSTART;TZID=America/New_York:20240621T140000
DTEND;TZID=America/New_York:20240621T150000
DTSTAMP:20260420T131809
CREATED:20240320T175453Z
LAST-MODIFIED:20240320T175453Z
UID:6156-1718978400-1718982000@brownell-libraryri.org
SUMMARY:Circus Dynamics
DESCRIPTION:Join us for a spectacular juggling & balloon show\, lots of laughs\, and all ages are welcome! \nNo registration required.
URL:https://brownell-libraryri.org/event/circus-dynamics/
ATTACH;FMTTYPE=image/jpeg:https://brownell-libraryri.org/wp-content/uploads/circus-dynamics.jpg
END:VEVENT
BEGIN:VEVENT
DTSTART;TZID=America/New_York:20240615T103000
DTEND;TZID=America/New_York:20240615T113000
DTSTAMP:20260420T131809
CREATED:20240515T184144Z
LAST-MODIFIED:20240515T184144Z
UID:6283-1718447400-1718451000@brownell-libraryri.org
SUMMARY:Author Talk and Signing / Katherine Brown
DESCRIPTION:Katherine’s latest book is Sweet Folly of Hope. It is a heart-warming\, feel-good novel that weaves together reflections about love\, family\, friendship\, recovery\, community and the healing power of gardening.
URL:https://brownell-libraryri.org/event/author-talk-and-signing-katherine-brown/
END:VEVENT
BEGIN:VEVENT
DTSTART;TZID=America/New_York:20240614T110000
DTEND;TZID=America/New_York:20240614T120000
DTSTAMP:20260420T131809
CREATED:20240224T154959Z
LAST-MODIFIED:20240517T180436Z
UID:6101-1718362800-1718366400@brownell-libraryri.org
SUMMARY:Book Chat - Have a snack and talk about what you're reading!
DESCRIPTION:
URL:https://brownell-libraryri.org/event/book-chat-have-a-snack-and-talk-about-what-youre-reading/
END:VEVENT
BEGIN:VEVENT
DTSTART;TZID=America/New_York:20240613T101500
DTEND;TZID=America/New_York:20240613T111500
DTSTAMP:20260420T131809
CREATED:20240112T184838Z
LAST-MODIFIED:20240515T181531Z
UID:5933-1718273700-1718277300@brownell-libraryri.org
SUMMARY:Dirty Rotten Scoundrels : Protecting Older Adults from Fraud & Scams
DESCRIPTION:
URL:https://brownell-libraryri.org/event/dirty-rotten-scoundrels-protecting-older-adults-from-fraud-scams/
END:VEVENT
BEGIN:VEVENT
DTSTART;TZID=America/New_York:20240608T103000
DTEND;TZID=America/New_York:20240608T113000
DTSTAMP:20260420T131809
CREATED:20240531T150819Z
LAST-MODIFIED:20240531T150819Z
UID:6370-1717842600-1717846200@brownell-libraryri.org
SUMMARY:Personal Preparedness 101
DESCRIPTION:This workshop is for any individual/family who wants to learn more about becoming personally prepared before a disaster strikes. This workshop will expose participants to the key principles of emergency preparedness: 1) having an emergency plan\, 2) staying informed\, and 3) building an emergency kit. Participants will learn specific preparedness tips in each of these areas and will start identifying how to make preparedness considerations specific to their needs.
URL:https://brownell-libraryri.org/event/personal-preparedness-101/
END:VEVENT
BEGIN:VEVENT
DTSTART;TZID=America/New_York:20240603T090000
DTEND;TZID=America/New_York:20240603T120000
DTSTAMP:20260420T131809
CREATED:20230819T152512Z
LAST-MODIFIED:20240515T183945Z
UID:5485-1717405200-1717416000@brownell-libraryri.org
SUMMARY:Nature Walk with Roger Greene
DESCRIPTION:Saturday\, June 3rd at 9:00 am / Simmons Mill Pond Management Area\, Colebrook Road parking lot\nREGISTER AT:\nbit.ly/earlysummerwalk\nor stop by / call the library at 635-8562\n\nA walk for adults\, limit of 12 people\, lasting two to three hours. Focusing on early summer flowers and learning about their importance\nin the habitat.
URL:https://brownell-libraryri.org/event/fall-walk-with-roger-greene-time-tbd/
END:VEVENT
BEGIN:VEVENT
DTSTART;TZID=America/New_York:20240514T173000
DTEND;TZID=America/New_York:20240514T183000
DTSTAMP:20260420T131809
CREATED:20240424T191400Z
LAST-MODIFIED:20240424T191400Z
UID:6229-1715707800-1715711400@brownell-libraryri.org
SUMMARY:Larchmont Remembered: The Suffering\, Depravity and Wonder of Rhode Island’s Most Horrific Sea Disaster
DESCRIPTION:Come relive the most terrifying shipwreck in Rhode Island history. Experience the unspeakable horror and witness the unrivaled heroism through eyewitness accounts\, never-before-seen photographs\, and a story that will leave you in tears. Presented by Daniel Harrington\, a Director of the Rhode Island Heritage Hall of Fame and a popular monthly columnist for the Providence Journal.
URL:https://brownell-libraryri.org/event/larchmont-remembered-the-suffering-depravity-and-wonder-of-rhode-islands-most-horrific-sea-disaster/
END:VEVENT
BEGIN:VEVENT
DTSTART;TZID=America/New_York:20240513T150000
DTEND;TZID=America/New_York:20240513T160000
DTSTAMP:20260420T131809
CREATED:20240228T180610Z
LAST-MODIFIED:20240228T180610Z
UID:6132-1715612400-1715616000@brownell-libraryri.org
SUMMARY:Brownell Library - Board of Trustees Meeting
DESCRIPTION:
URL:https://brownell-libraryri.org/event/brownell-library-board-of-trustees-meeting-3/
END:VEVENT
BEGIN:VEVENT
DTSTART;TZID=America/New_York:20240504T130000
DTEND;TZID=America/New_York:20240504T140000
DTSTAMP:20260420T131809
CREATED:20240424T191027Z
LAST-MODIFIED:20240424T191027Z
UID:6223-1714827600-1714831200@brownell-libraryri.org
SUMMARY:Lessons Learned in Zuni: A Pueblo Memoir
DESCRIPTION:Richard Tripp taught high school English on a  Zuni reservation in New Mexico and has put together stories of his teaching experiences\, tales of learning pueblo pottery and Navajo tapestry weaving\, anecdotes of his time living in a remote sheep camp behind the sacred mesa\, then living in the pueblo itself\, and his observations of tribal ceremonies. He has written a book full of memories of personal transition and cultural change in the tribe where he lived.  The book contains photos taken by the author and others as well as some from the Smithsonian archives of scenes from the 19th century.
URL:https://brownell-libraryri.org/event/lessons-learned-in-zuni-a-pueblo-memoir/
END:VEVENT
BEGIN:VEVENT
DTSTART;TZID=America/New_York:20240412T110000
DTEND;TZID=America/New_York:20240412T120000
DTSTAMP:20260420T131809
CREATED:20240224T155106Z
LAST-MODIFIED:20240224T155106Z
UID:6103-1712919600-1712923200@brownell-libraryri.org
SUMMARY:Book Chat – Have a snack and talk about what you’re reading!
DESCRIPTION:
URL:https://brownell-libraryri.org/event/book-chat-have-a-snack-and-talk-about-what-youre-reading-2/
END:VEVENT
BEGIN:VEVENT
DTSTART;TZID=America/New_York:20240409T173000
DTEND;TZID=America/New_York:20240409T183000
DTSTAMP:20260420T131809
CREATED:20240224T165642Z
LAST-MODIFIED:20240224T165642Z
UID:6127-1712683800-1712687400@brownell-libraryri.org
SUMMARY:Knit So As To Turn Water: The History of New England's Maritime Knitting
DESCRIPTION:Join us as Rebecca Bayreuther Donahue talks about how the knitted clothing of New England reflects maritime cultures the world over.  Learn about knitting with whalebone needles\, the history of the fisherman’s sweater\, knitting a WWI submariner’s outfit\, and much more.
URL:https://brownell-libraryri.org/event/knit-so-as-to-turn-water-the-history-of-new-englands-maritime-knitting/
END:VEVENT
BEGIN:VEVENT
DTSTART;TZID=America/New_York:20240408T140000
DTEND;TZID=America/New_York:20240408T163000
DTSTAMP:20260420T131809
CREATED:20240224T165456Z
LAST-MODIFIED:20240224T165456Z
UID:6125-1712584800-1712593800@brownell-libraryri.org
SUMMARY:Eclipse Viewing
DESCRIPTION:View the eclipse!  We have eclipse glasses to hand out.  We’ll have activities for all ages available while we watch the eclipse.  RI will have 90.1% coverage of the sun at the maximum coverage around 3:30.  Stop by at anytime and join us as we watch the progress of the eclipse.
URL:https://brownell-libraryri.org/event/eclipse-viewing/
END:VEVENT
BEGIN:VEVENT
DTSTART;TZID=America/New_York:20240329T110000
DTEND;TZID=America/New_York:20240329T130000
DTSTAMP:20260420T131809
CREATED:20240224T154842Z
LAST-MODIFIED:20240224T154842Z
UID:6099-1711710000-1711717200@brownell-libraryri.org
SUMMARY:Senior Van transportation to library - call (401) 777-9700 by 4 pm Friday of prior week to reserve
DESCRIPTION:
URL:https://brownell-libraryri.org/event/senior-van-transportation-to-library-call-401-777-9700-by-4-pm-friday-of-prior-week-to-reserve-4/
END:VEVENT
BEGIN:VEVENT
DTSTART;TZID=America/New_York:20240322T103000
DTEND;TZID=America/New_York:20240322T130000
DTSTAMP:20260420T131809
CREATED:20240224T154814Z
LAST-MODIFIED:20240224T154814Z
UID:6097-1711103400-1711112400@brownell-libraryri.org
SUMMARY:Senior Van transportation to library - call (401) 777-9700 by 4 pm Friday of prior week to reserve
DESCRIPTION:
URL:https://brownell-libraryri.org/event/senior-van-transportation-to-library-call-401-777-9700-by-4-pm-friday-of-prior-week-to-reserve-3/
END:VEVENT
BEGIN:VEVENT
DTSTART;TZID=America/New_York:20240315T110000
DTEND;TZID=America/New_York:20240315T130000
DTSTAMP:20260420T131809
CREATED:20240224T154737Z
LAST-MODIFIED:20240224T154737Z
UID:6095-1710500400-1710507600@brownell-libraryri.org
SUMMARY:Senior Van transportation to library - call (401) 777-9700 by 4 pm Friday of prior week to reserve
DESCRIPTION:
URL:https://brownell-libraryri.org/event/senior-van-transportation-to-library-call-401-777-9700-by-4-pm-friday-of-prior-week-to-reserve-2/
END:VEVENT
BEGIN:VEVENT
DTSTART;TZID=America/New_York:20240312T173000
DTEND;TZID=America/New_York:20240312T183000
DTSTAMP:20260420T131809
CREATED:20240224T155433Z
LAST-MODIFIED:20240224T155433Z
UID:6107-1710264600-1710268200@brownell-libraryri.org
SUMMARY:Learn more about the upcoming Eclipse with Francine Jackson\, Staff Astronomer at the Ladd Observatory at Brown University
DESCRIPTION:
URL:https://brownell-libraryri.org/event/learn-more-about-the-upcoming-eclipse-with-francine-jackson-staff-astronomer-at-the-ladd-observatory-at-brown-university/
END:VEVENT
BEGIN:VEVENT
DTSTART;TZID=America/New_York:20240311T100000
DTEND;TZID=America/New_York:20240311T140000
DTSTAMP:20260420T131809
CREATED:20240224T155306Z
LAST-MODIFIED:20240224T155306Z
UID:6105-1710151200-1710165600@brownell-libraryri.org
SUMMARY:Medicare Help Sessions - Contact the Library to Register
DESCRIPTION:
URL:https://brownell-libraryri.org/event/medicare-help-sessions-contact-the-library-to-register/
END:VEVENT
BEGIN:VEVENT
DTSTART;TZID=America/New_York:20240308T110000
DTEND;TZID=America/New_York:20240308T130000
DTSTAMP:20260420T131809
CREATED:20240224T154705Z
LAST-MODIFIED:20240224T154705Z
UID:6093-1709895600-1709902800@brownell-libraryri.org
SUMMARY:Senior Van transportation to library - call (401) 777-9700 by 4 pm Friday of prior week to reserve
DESCRIPTION:
URL:https://brownell-libraryri.org/event/senior-van-transportation-to-library-call-401-777-9700-by-4-pm-friday-of-prior-week-to-reserve/
END:VEVENT
END:VCALENDAR