BEGIN:VCALENDAR
VERSION:2.0
PRODID:-//Brownell Library - ECPv6.15.20//NONSGML v1.0//EN
CALSCALE:GREGORIAN
METHOD:PUBLISH
X-WR-CALNAME:Brownell Library
X-ORIGINAL-URL:https://brownell-libraryri.org
X-WR-CALDESC:Events for Brownell Library
REFRESH-INTERVAL;VALUE=DURATION:PT1H
X-Robots-Tag:noindex
X-PUBLISHED-TTL:PT1H
BEGIN:VTIMEZONE
TZID:America/New_York
BEGIN:DAYLIGHT
TZOFFSETFROM:-0500
TZOFFSETTO:-0400
TZNAME:EDT
DTSTART:20220313T070000
END:DAYLIGHT
BEGIN:STANDARD
TZOFFSETFROM:-0400
TZOFFSETTO:-0500
TZNAME:EST
DTSTART:20221106T060000
END:STANDARD
BEGIN:DAYLIGHT
TZOFFSETFROM:-0500
TZOFFSETTO:-0400
TZNAME:EDT
DTSTART:20230312T070000
END:DAYLIGHT
BEGIN:STANDARD
TZOFFSETFROM:-0400
TZOFFSETTO:-0500
TZNAME:EST
DTSTART:20231105T060000
END:STANDARD
BEGIN:DAYLIGHT
TZOFFSETFROM:-0500
TZOFFSETTO:-0400
TZNAME:EDT
DTSTART:20240310T070000
END:DAYLIGHT
BEGIN:STANDARD
TZOFFSETFROM:-0400
TZOFFSETTO:-0500
TZNAME:EST
DTSTART:20241103T060000
END:STANDARD
END:VTIMEZONE
BEGIN:VEVENT
DTSTART;TZID=America/New_York:20231031T160000
DTEND;TZID=America/New_York:20231031T170000
DTSTAMP:20260420T234935
CREATED:20230916T185413Z
LAST-MODIFIED:20230916T185413Z
UID:5606-1698768000-1698771600@brownell-libraryri.org
SUMMARY:All the Genres Book Club
DESCRIPTION:
URL:https://brownell-libraryri.org/event/all-the-genres-book-club-2/
END:VEVENT
BEGIN:VEVENT
DTSTART;TZID=America/New_York:20231030T130000
DTEND;TZID=America/New_York:20231030T140000
DTSTAMP:20260420T234935
CREATED:20231006T203815Z
LAST-MODIFIED:20231006T203815Z
UID:5627-1698670800-1698674400@brownell-libraryri.org
SUMMARY:Knitting Group
DESCRIPTION:
URL:https://brownell-libraryri.org/event/knitting-group-16/
END:VEVENT
BEGIN:VEVENT
DTSTART;TZID=America/New_York:20231030T100000
DTEND;TZID=America/New_York:20231030T140000
DTSTAMP:20260420T234935
CREATED:20231011T175709Z
LAST-MODIFIED:20231011T175709Z
UID:5666-1698660000-1698674400@brownell-libraryri.org
SUMMARY:Medicare Help Session - Bring your card and your questions to your appointment
DESCRIPTION:Call\, email\, or stop by the library to sign up for an appointment on Oct. 30th or Nov 13th from 10 to 2 pm. \n(401) 635-8562 or \ninfo@brownell-libraryri.org
URL:https://brownell-libraryri.org/event/medicare-help-session-bring-your-card-and-your-questions-to-your-appointment/
END:VEVENT
BEGIN:VEVENT
DTSTART;TZID=America/New_York:20231026T110000
DTEND;TZID=America/New_York:20231026T110000
DTSTAMP:20260420T234935
CREATED:20230916T185717Z
LAST-MODIFIED:20230916T185717Z
UID:5613-1698318000-1698318000@brownell-libraryri.org
SUMMARY:Library Opens at11 AM
DESCRIPTION:
URL:https://brownell-libraryri.org/event/library-opens-at11-am/
END:VEVENT
BEGIN:VEVENT
DTSTART;TZID=America/New_York:20231025T103000
DTEND;TZID=America/New_York:20231025T120000
DTSTAMP:20260420T234935
CREATED:20231018T141233Z
LAST-MODIFIED:20231018T141233Z
UID:5672-1698229800-1698235200@brownell-libraryri.org
SUMMARY:Tech Help
DESCRIPTION:
URL:https://brownell-libraryri.org/event/tech-help-16/
END:VEVENT
BEGIN:VEVENT
DTSTART;TZID=America/New_York:20231024T173000
DTEND;TZID=America/New_York:20231024T183000
DTSTAMP:20260420T234935
CREATED:20231006T204503Z
LAST-MODIFIED:20231006T204503Z
UID:5635-1698168600-1698172200@brownell-libraryri.org
SUMMARY:Campfire Stories
DESCRIPTION:LC Writing Circle members will read original and favorite works\, setting the scene for the fall season.  Join us and feel free to bring your favorite short autumnal writings to share.
URL:https://brownell-libraryri.org/event/campfire-stories/
END:VEVENT
BEGIN:VEVENT
DTSTART;TZID=America/New_York:20231023T130000
DTEND;TZID=America/New_York:20231023T140000
DTSTAMP:20260420T234935
CREATED:20231006T203750Z
LAST-MODIFIED:20231006T203750Z
UID:5625-1698066000-1698069600@brownell-libraryri.org
SUMMARY:Knitting Group
DESCRIPTION:
URL:https://brownell-libraryri.org/event/knitting-group-15/
END:VEVENT
BEGIN:VEVENT
DTSTART;TZID=America/New_York:20231021T130000
DTEND;TZID=America/New_York:20231021T140000
DTSTAMP:20260420T234935
CREATED:20231006T204346Z
LAST-MODIFIED:20231006T204346Z
UID:5633-1697893200-1697896800@brownell-libraryri.org
SUMMARY:Autumn Evening Sky Presentation
DESCRIPTION:Join us in the library for a talk about the stars and planets you can see in the fall sky.
URL:https://brownell-libraryri.org/event/autumn-evening-sky-presentation/
END:VEVENT
BEGIN:VEVENT
DTSTART;TZID=America/New_York:20231018T103000
DTEND;TZID=America/New_York:20231018T120000
DTSTAMP:20260420T234935
CREATED:20231018T142200Z
LAST-MODIFIED:20231018T142602Z
UID:5686-1697625000-1697630400@brownell-libraryri.org
SUMMARY:Baby and Toddler Playtime!
DESCRIPTION:No fussing here ~ we are starting a new playtime specially designed for babies & toddlers! There will be a pint-sized ball pit\, sensory friendly toys\, and lots to engage the youngest minds!\nNo registration required\, just drop in and tell your friends!
URL:https://brownell-libraryri.org/event/baby-and-toddler-playtime-5/
END:VEVENT
BEGIN:VEVENT
DTSTART;TZID=America/New_York:20231018T103000
DTEND;TZID=America/New_York:20231018T120000
DTSTAMP:20260420T234935
CREATED:20231018T141139Z
LAST-MODIFIED:20231018T141139Z
UID:5670-1697625000-1697630400@brownell-libraryri.org
SUMMARY:Tech Help
DESCRIPTION:
URL:https://brownell-libraryri.org/event/tech-help-15/
END:VEVENT
BEGIN:VEVENT
DTSTART;TZID=America/New_York:20231016T130000
DTEND;TZID=America/New_York:20231016T140000
DTSTAMP:20260420T234935
CREATED:20231006T203708Z
LAST-MODIFIED:20231006T203708Z
UID:5623-1697461200-1697464800@brownell-libraryri.org
SUMMARY:Knitting Group
DESCRIPTION:
URL:https://brownell-libraryri.org/event/knitting-group-14/
END:VEVENT
BEGIN:VEVENT
DTSTART;TZID=America/New_York:20231010T130000
DTEND;TZID=America/New_York:20231010T140000
DTSTAMP:20260420T234935
CREATED:20231006T203645Z
LAST-MODIFIED:20231006T203645Z
UID:5621-1696942800-1696946400@brownell-libraryri.org
SUMMARY:Knitting Group
DESCRIPTION:
URL:https://brownell-libraryri.org/event/knitting-group-13/
END:VEVENT
BEGIN:VEVENT
DTSTART;VALUE=DATE:20231009
DTEND;VALUE=DATE:20231010
DTSTAMP:20260420T234935
CREATED:20230916T185548Z
LAST-MODIFIED:20230916T185548Z
UID:5611-1696809600-1696895999@brownell-libraryri.org
SUMMARY:Library Closed - Columbus Day
DESCRIPTION:
URL:https://brownell-libraryri.org/event/library-closed-columbus-day/
END:VEVENT
BEGIN:VEVENT
DTSTART;TZID=America/New_York:20230930T130000
DTEND;TZID=America/New_York:20230930T140000
DTSTAMP:20260420T234935
CREATED:20230925T154455Z
LAST-MODIFIED:20230925T154455Z
UID:5618-1696078800-1696082400@brownell-libraryri.org
SUMMARY:Impaired Driving Discussion
DESCRIPTION:“If you feel different\, you drive different.  Impaired driving is 100% preventable!”  Join Chief Anthony Silva\, ret in this important discussion. Register at the library.
URL:https://brownell-libraryri.org/event/impaired-driving-discussion/
LOCATION:Brownell Library\, 44 Commons\, Little Compton\, 02871\, United States
END:VEVENT
BEGIN:VEVENT
DTSTART;TZID=America/New_York:20230927T103000
DTEND;TZID=America/New_York:20230927T120000
DTSTAMP:20260420T234935
CREATED:20230830T183912Z
LAST-MODIFIED:20230830T183912Z
UID:5571-1695810600-1695816000@brownell-libraryri.org
SUMMARY:Tech Help
DESCRIPTION:
URL:https://brownell-libraryri.org/event/tech-help-14/
END:VEVENT
BEGIN:VEVENT
DTSTART;TZID=America/New_York:20230927T103000
DTEND;TZID=America/New_York:20230927T120000
DTSTAMP:20260420T234935
CREATED:20230830T174510Z
LAST-MODIFIED:20230830T174510Z
UID:5533-1695810600-1695816000@brownell-libraryri.org
SUMMARY:Baby and Toddler Playtime!
DESCRIPTION:No fussing here ~ we are starting a new playtime specially designed for babies & toddlers! There will be a pint-sized ball pit\, sensory friendly toys\, and lots to engage the youngest minds!\nNo registration required\, just drop in and tell your friends!
URL:https://brownell-libraryri.org/event/baby-and-toddler-playtime-4/
END:VEVENT
BEGIN:VEVENT
DTSTART;TZID=America/New_York:20230926T180000
DTEND;TZID=America/New_York:20230926T190000
DTSTAMP:20260420T234935
CREATED:20230819T150727Z
LAST-MODIFIED:20230819T150727Z
UID:5483-1695751200-1695754800@brownell-libraryri.org
SUMMARY:All the Genres Book Group
DESCRIPTION:
URL:https://brownell-libraryri.org/event/all-the-genres-book-group-7/
END:VEVENT
BEGIN:VEVENT
DTSTART;TZID=America/New_York:20230926T160000
DTEND;TZID=America/New_York:20230926T170000
DTSTAMP:20260420T234935
CREATED:20230819T150651Z
LAST-MODIFIED:20230819T150651Z
UID:5481-1695744000-1695747600@brownell-libraryri.org
SUMMARY:All the Genres Book Group
DESCRIPTION:
URL:https://brownell-libraryri.org/event/all-the-genres-book-group-6/
END:VEVENT
BEGIN:VEVENT
DTSTART;TZID=America/New_York:20230925T130000
DTEND;TZID=America/New_York:20230925T140000
DTSTAMP:20260420T234935
CREATED:20230830T183401Z
LAST-MODIFIED:20230830T183401Z
UID:5563-1695646800-1695650400@brownell-libraryri.org
SUMMARY:Knitting Group
DESCRIPTION:
URL:https://brownell-libraryri.org/event/knitting-group-12/
END:VEVENT
BEGIN:VEVENT
DTSTART;TZID=America/New_York:20230920T103000
DTEND;TZID=America/New_York:20230920T120000
DTSTAMP:20260420T234935
CREATED:20230830T183833Z
LAST-MODIFIED:20230830T183833Z
UID:5569-1695205800-1695211200@brownell-libraryri.org
SUMMARY:Tech Help
DESCRIPTION:
URL:https://brownell-libraryri.org/event/tech-help-13/
END:VEVENT
BEGIN:VEVENT
DTSTART;TZID=America/New_York:20230920T103000
DTEND;TZID=America/New_York:20230920T120000
DTSTAMP:20260420T234935
CREATED:20230830T174343Z
LAST-MODIFIED:20230830T174343Z
UID:5531-1695205800-1695211200@brownell-libraryri.org
SUMMARY:Baby and Toddler Playtime!
DESCRIPTION:No fussing here ~ we are starting a new playtime specially designed for babies & toddlers! There will be a pint-sized ball pit\, sensory friendly toys\, and lots to engage the youngest minds!\nNo registration required\, just drop in and tell your friends!
URL:https://brownell-libraryri.org/event/baby-and-toddler-playtime-3/
END:VEVENT
BEGIN:VEVENT
DTSTART;TZID=America/New_York:20230918T130000
DTEND;TZID=America/New_York:20230918T140000
DTSTAMP:20260420T234935
CREATED:20230830T183330Z
LAST-MODIFIED:20230830T183330Z
UID:5561-1695042000-1695045600@brownell-libraryri.org
SUMMARY:Knitting Group
DESCRIPTION:
URL:https://brownell-libraryri.org/event/knitting-group-11/
END:VEVENT
BEGIN:VEVENT
DTSTART;TZID=America/New_York:20230915T080000
DTEND;TZID=America/New_York:20230915T170000
DTSTAMP:20260420T234935
CREATED:20230915T170643Z
LAST-MODIFIED:20230915T170643Z
UID:5598-1694764800-1694797200@brownell-libraryri.org
SUMMARY:Michael Fine - On Medicine As Colonialism
DESCRIPTION:On Medicine as Colonialism is a reframing of the health care debate in the US. It is a strident meticulously researched expose that shows how corporate America uses Medicare and Medicaid to extract resources from communities\, as it rethinks the process of colonialism in a globalized world. It has been called “a sobering diatribe on health care in America”\, driven by “outrage at what has been wrought” – but also provides “a realistic perspective on achieving health equity.”\nDr. Fine is the author of Health Care Revolt (2018)\, The Nature of Health (Radcliffe Press\, 2007)\, Rhode Island Stories (Stillwater River Press\, 2021)\, The Bull and Other Stories (Stillwater River Press\, November 2020) the IPNE 2021 Literary Fiction Book of the Year\, and Abundance (PM Press\, 2019). He is the former Director of the Rhode Island Department of Health\, a family physician\, speaker\, commentator\, podcaster\, community organizer\, and activist. Please see https://www.michaelfinemd.com
URL:https://brownell-libraryri.org/event/michael-fine-on-medicine-as-colonialism/
END:VEVENT
BEGIN:VEVENT
DTSTART;TZID=America/New_York:20230913T103000
DTEND;TZID=America/New_York:20230913T120000
DTSTAMP:20260420T234935
CREATED:20230830T183724Z
LAST-MODIFIED:20230830T183724Z
UID:5567-1694601000-1694606400@brownell-libraryri.org
SUMMARY:Tech Help
DESCRIPTION:
URL:https://brownell-libraryri.org/event/tech-help-12/
END:VEVENT
BEGIN:VEVENT
DTSTART;TZID=America/New_York:20230913T103000
DTEND;TZID=America/New_York:20230913T120000
DTSTAMP:20260420T234935
CREATED:20230830T174300Z
LAST-MODIFIED:20230830T174300Z
UID:5529-1694601000-1694606400@brownell-libraryri.org
SUMMARY:Baby and Toddler Playtime!
DESCRIPTION:No fussing here ~ we are starting a new playtime specially designed for babies & toddlers! There will be a pint-sized ball pit\, sensory friendly toys\, and lots to engage the youngest minds!\nNo registration required\, just drop in and tell your friends!
URL:https://brownell-libraryri.org/event/baby-and-toddler-playtime-2/
END:VEVENT
BEGIN:VEVENT
DTSTART;TZID=America/New_York:20230912T180000
DTEND;TZID=America/New_York:20230912T190000
DTSTAMP:20260420T234935
CREATED:20230830T173849Z
LAST-MODIFIED:20230830T173849Z
UID:5524-1694541600-1694545200@brownell-libraryri.org
SUMMARY:UNIQUE AND HISTORIC BOATS OF NEW ENGLAND - Author Tom Verde
DESCRIPTION:Tom Verde is a freelance writer whose work has appeared in the New York Times\, Yankee Magazine\, and on National Public Radio. In a Class All Their Own: Unique and Historic Boats of New England (Globe Pequot Press\, 2020) by Tom Verde recounts the colorful stories of nearly forty classic/unique New England vessels. In his presentation\, Verde will discuss several boats featured in his book\, including their classes and designers\, as well as their relationships to the environs in which they sailed\, raced\, cruised.
URL:https://brownell-libraryri.org/event/unique-and-historic-boats-of-new-england-author-tom-verde/
END:VEVENT
BEGIN:VEVENT
DTSTART;TZID=America/New_York:20230911T130000
DTEND;TZID=America/New_York:20230911T140000
DTSTAMP:20260420T234935
CREATED:20230830T183257Z
LAST-MODIFIED:20230830T183257Z
UID:5559-1694437200-1694440800@brownell-libraryri.org
SUMMARY:Knitting Group
DESCRIPTION:
URL:https://brownell-libraryri.org/event/knitting-group-10/
END:VEVENT
BEGIN:VEVENT
DTSTART;TZID=America/New_York:20230906T103000
DTEND;TZID=America/New_York:20230906T120000
DTSTAMP:20260420T234935
CREATED:20230830T183655Z
LAST-MODIFIED:20230830T183655Z
UID:5565-1693996200-1694001600@brownell-libraryri.org
SUMMARY:Tech Help
DESCRIPTION:
URL:https://brownell-libraryri.org/event/tech-help-11/
END:VEVENT
BEGIN:VEVENT
DTSTART;TZID=America/New_York:20230906T103000
DTEND;TZID=America/New_York:20230906T120000
DTSTAMP:20260420T234935
CREATED:20230830T174103Z
LAST-MODIFIED:20230830T174103Z
UID:5527-1693996200-1694001600@brownell-libraryri.org
SUMMARY:Baby and Toddler Playtime!
DESCRIPTION:No fussing here ~ we are starting a new playtime specially designed for babies & toddlers! There will be a pint-sized ball pit\, sensory friendly toys\, and lots to engage the youngest minds!\nNo registration required\, just drop in and tell your friends!
URL:https://brownell-libraryri.org/event/baby-and-toddler-playtime/
END:VEVENT
BEGIN:VEVENT
DTSTART;TZID=America/New_York:20230905T130000
DTEND;TZID=America/New_York:20230905T140000
DTSTAMP:20260420T234935
CREATED:20230830T182844Z
LAST-MODIFIED:20230830T182844Z
UID:5557-1693918800-1693922400@brownell-libraryri.org
SUMMARY:Knitting Group
DESCRIPTION:
URL:https://brownell-libraryri.org/event/knitting-group-9/
END:VEVENT
END:VCALENDAR