BEGIN:VCALENDAR
VERSION:2.0
PRODID:-//Brownell Library - ECPv6.15.20//NONSGML v1.0//EN
CALSCALE:GREGORIAN
METHOD:PUBLISH
X-WR-CALNAME:Brownell Library
X-ORIGINAL-URL:https://brownell-libraryri.org
X-WR-CALDESC:Events for Brownell Library
REFRESH-INTERVAL;VALUE=DURATION:PT1H
X-Robots-Tag:noindex
X-PUBLISHED-TTL:PT1H
BEGIN:VTIMEZONE
TZID:America/New_York
BEGIN:DAYLIGHT
TZOFFSETFROM:-0500
TZOFFSETTO:-0400
TZNAME:EDT
DTSTART:20250309T070000
END:DAYLIGHT
BEGIN:STANDARD
TZOFFSETFROM:-0400
TZOFFSETTO:-0500
TZNAME:EST
DTSTART:20251102T060000
END:STANDARD
BEGIN:DAYLIGHT
TZOFFSETFROM:-0500
TZOFFSETTO:-0400
TZNAME:EDT
DTSTART:20260308T070000
END:DAYLIGHT
BEGIN:STANDARD
TZOFFSETFROM:-0400
TZOFFSETTO:-0500
TZNAME:EST
DTSTART:20261101T060000
END:STANDARD
BEGIN:DAYLIGHT
TZOFFSETFROM:-0500
TZOFFSETTO:-0400
TZNAME:EDT
DTSTART:20270314T070000
END:DAYLIGHT
BEGIN:STANDARD
TZOFFSETFROM:-0400
TZOFFSETTO:-0500
TZNAME:EST
DTSTART:20271107T060000
END:STANDARD
END:VTIMEZONE
BEGIN:VEVENT
DTSTART;TZID=America/New_York:20260207T103000
DTEND;TZID=America/New_York:20260207T123000
DTSTAMP:20260421T015459
CREATED:20260114T172034Z
LAST-MODIFIED:20260114T172034Z
UID:7684-1770460200-1770467400@brownell-libraryri.org
SUMMARY:Introduction to Embroidery
DESCRIPTION:
URL:https://brownell-libraryri.org/event/introduction-to-embroidery/
END:VEVENT
BEGIN:VEVENT
DTSTART;TZID=America/New_York:20260209T130000
DTEND;TZID=America/New_York:20260209T140000
DTSTAMP:20260421T015459
CREATED:20240223T161407Z
LAST-MODIFIED:20260109T162731Z
UID:6045-1770642000-1770645600@brownell-libraryri.org
SUMMARY:Knitting Group
DESCRIPTION:
URL:https://brownell-libraryri.org/event/knitting-group-38/
END:VEVENT
BEGIN:VEVENT
DTSTART;TZID=America/New_York:20260210T173000
DTEND;TZID=America/New_York:20260210T183000
DTSTAMP:20260421T015459
CREATED:20260109T160535Z
LAST-MODIFIED:20260109T160535Z
UID:7664-1770744600-1770748200@brownell-libraryri.org
SUMMARY:Author Cynthia Elder discusses her book Tales of the Sea
DESCRIPTION:The historical novel Tales of the Sea reveals the inner lives of three generations from the Jenkins and Fish families of West Barnstable\, Massachusetts\, during the final chapter of the Great Age of Sail and the tumultuous years leading up to and through the Civil War. Through their own words\, Tales of the Sea elevates the voices of men and women who braved years-long sailing voyages aboard great wooden ships. The plot intersects with the stories of soldiers and enslaved people as the United States split apart at the seams.
URL:https://brownell-libraryri.org/event/author-cynthia-elder-discusses-her-book-tales-of-the-sea/
END:VEVENT
BEGIN:VEVENT
DTSTART;TZID=America/New_York:20260214T103000
DTEND;TZID=America/New_York:20260214T113000
DTSTAMP:20260421T015459
CREATED:20260113T234038Z
LAST-MODIFIED:20260113T234437Z
UID:7669-1771065000-1771068600@brownell-libraryri.org
SUMMARY:Digital Brownell - Kanopy\, PressReader and Speaker Consortium
DESCRIPTION:
URL:https://brownell-libraryri.org/event/digital-brownell-kanopy-pressreader-and-speaker-consortium/
END:VEVENT
BEGIN:VEVENT
DTSTART;VALUE=DATE:20260216
DTEND;VALUE=DATE:20260217
DTSTAMP:20260421T015459
CREATED:20231219T221324Z
LAST-MODIFIED:20260109T162237Z
UID:5892-1771200000-1771286399@brownell-libraryri.org
SUMMARY:Library Closed
DESCRIPTION:
URL:https://brownell-libraryri.org/event/library-closed-4/
END:VEVENT
BEGIN:VEVENT
DTSTART;TZID=America/New_York:20260223T130000
DTEND;TZID=America/New_York:20260223T140000
DTSTAMP:20260421T015459
CREATED:20240223T161339Z
LAST-MODIFIED:20260109T162814Z
UID:6043-1771851600-1771855200@brownell-libraryri.org
SUMMARY:Knitting Group
DESCRIPTION:
URL:https://brownell-libraryri.org/event/knitting-group-37/
END:VEVENT
BEGIN:VEVENT
DTSTART;TZID=America/New_York:20260302T130000
DTEND;TZID=America/New_York:20260302T140000
DTSTAMP:20260421T015459
CREATED:20240223T161309Z
LAST-MODIFIED:20260207T184817Z
UID:6041-1772456400-1772460000@brownell-libraryri.org
SUMMARY:Knitting Group
DESCRIPTION:
URL:https://brownell-libraryri.org/event/knitting-group-36/
END:VEVENT
BEGIN:VEVENT
DTSTART;TZID=America/New_York:20260310T173000
DTEND;TZID=America/New_York:20260310T183000
DTSTAMP:20260421T015459
CREATED:20260113T234940Z
LAST-MODIFIED:20260227T154053Z
UID:7681-1773163800-1773167400@brownell-libraryri.org
SUMMARY:Spiritual Writing
DESCRIPTION:
URL:https://brownell-libraryri.org/event/spiritual-writing/
END:VEVENT
BEGIN:VEVENT
DTSTART;TZID=America/New_York:20260312T110000
DTEND;TZID=America/New_York:20260312T120000
DTSTAMP:20260421T015459
CREATED:20251024T160621Z
LAST-MODIFIED:20260210T215401Z
UID:7543-1773313200-1773316800@brownell-libraryri.org
SUMMARY:Narcan Training – Tiverton & Little Compton Prevention Coalition
DESCRIPTION:All ages welcome for Narcan training offered by Polly Allen of the Newport County Prevention Coalition. Learn how to administer Narcan safely and save a life. Register at allen@riprevention.org
URL:https://brownell-libraryri.org/event/naloxone-training/
END:VEVENT
BEGIN:VEVENT
DTSTART;TZID=America/New_York:20260313T130000
DTEND;TZID=America/New_York:20260313T140000
DTSTAMP:20260421T015459
CREATED:20251223T182127Z
LAST-MODIFIED:20260227T185538Z
UID:7630-1773406800-1773410400@brownell-libraryri.org
SUMMARY:Needlework Drop In
DESCRIPTION:
URL:https://brownell-libraryri.org/event/needlework-drop-in-2/
END:VEVENT
BEGIN:VEVENT
DTSTART;TZID=America/New_York:20260319T110000
DTEND;TZID=America/New_York:20260319T110000
DTSTAMP:20260421T015459
CREATED:20240224T160233Z
LAST-MODIFIED:20260227T184841Z
UID:6119-1773918000-1773918000@brownell-libraryri.org
SUMMARY:Library Will Open at 11 AM
DESCRIPTION:
URL:https://brownell-libraryri.org/event/library-will-open-at-11-am-6/
END:VEVENT
BEGIN:VEVENT
DTSTART;TZID=America/New_York:20260320T130000
DTEND;TZID=America/New_York:20260320T140000
DTSTAMP:20260421T015459
CREATED:20251223T182208Z
LAST-MODIFIED:20260227T190504Z
UID:7632-1774011600-1774015200@brownell-libraryri.org
SUMMARY:Needlework Drop In
DESCRIPTION:
URL:https://brownell-libraryri.org/event/needlework-drop-in-3/
END:VEVENT
BEGIN:VEVENT
DTSTART;TZID=America/New_York:20260321T103000
DTEND;TZID=America/New_York:20260321T123000
DTSTAMP:20260421T015459
CREATED:20260114T173148Z
LAST-MODIFIED:20260114T173148Z
UID:7686-1774089000-1774096200@brownell-libraryri.org
SUMMARY:Intermediate Embroidery
DESCRIPTION:
URL:https://brownell-libraryri.org/event/intermediate-embroidery/
END:VEVENT
BEGIN:VEVENT
DTSTART;TZID=America/New_York:20260321T130000
DTEND;TZID=America/New_York:20260321T140000
DTSTAMP:20260421T015459
CREATED:20251024T161002Z
LAST-MODIFIED:20260303T170042Z
UID:7545-1774098000-1774101600@brownell-libraryri.org
SUMMARY:Narcan Training - Tiverton & Little Compton Prevention Coalition
DESCRIPTION:All ages welcome for Narcan training offered by Polly Allen of the Newport County Prevention Coalition. Learn how to administer Narcan safely and save a life. Register at allen@riprevention.org
URL:https://brownell-libraryri.org/event/narcan-training-tiverton-little-compton-prevention-coalition/
END:VEVENT
BEGIN:VEVENT
DTSTART;TZID=America/New_York:20260327T130000
DTEND;TZID=America/New_York:20260327T140000
DTSTAMP:20260421T015459
CREATED:20260113T234208Z
LAST-MODIFIED:20260227T190547Z
UID:7671-1774616400-1774620000@brownell-libraryri.org
SUMMARY:Needlework Drop-In
DESCRIPTION:
URL:https://brownell-libraryri.org/event/needlework-drop-in-4/
END:VEVENT
BEGIN:VEVENT
DTSTART;TZID=America/New_York:20260406T130000
DTEND;TZID=America/New_York:20260406T140000
DTSTAMP:20260421T015459
CREATED:20240112T190744Z
LAST-MODIFIED:20260414T172622Z
UID:5955-1775480400-1775484000@brownell-libraryri.org
SUMMARY:Knitting Group
DESCRIPTION:
URL:https://brownell-libraryri.org/event/knitting-group-29/
END:VEVENT
BEGIN:VEVENT
DTSTART;TZID=America/New_York:20260407T173000
DTEND;TZID=America/New_York:20260407T183000
DTSTAMP:20260421T015459
CREATED:20240112T160038Z
LAST-MODIFIED:20260311T170150Z
UID:5931-1775583000-1775586600@brownell-libraryri.org
SUMMARY:Little Compton Writing Circle
DESCRIPTION:
URL:https://brownell-libraryri.org/event/little-compton-writing-circle-6/
END:VEVENT
BEGIN:VEVENT
DTSTART;TZID=America/New_York:20260410T130000
DTEND;TZID=America/New_York:20260410T140000
DTSTAMP:20260421T015459
CREATED:20260113T234557Z
LAST-MODIFIED:20260318T161852Z
UID:7675-1775826000-1775829600@brownell-libraryri.org
SUMMARY:Needlepoint Drop In
DESCRIPTION:
URL:https://brownell-libraryri.org/event/needlework-drop-in-6/
END:VEVENT
BEGIN:VEVENT
DTSTART;TZID=America/New_York:20260411T103000
DTEND;TZID=America/New_York:20260411T120000
DTSTAMP:20260421T015459
CREATED:20260311T180412Z
LAST-MODIFIED:20260311T181144Z
UID:7789-1775903400-1775908800@brownell-libraryri.org
SUMMARY:Intro to Needle Felting
DESCRIPTION:Join Karen Katin from The Stitchery\, to learn how to needle felt wool onto fabric. Instruction\, design planning\, and execution will be included. All materials provided\, along with a set bumblebee project\, or if you are feeling a little creative\, come up with your own. All supplies and instruction will be provided. Registration is required as space is limited – contact the library to register at 401 635 8562.
URL:https://brownell-libraryri.org/event/intro-to-needle-felting-2/
END:VEVENT
BEGIN:VEVENT
DTSTART;TZID=America/New_York:20260413T130000
DTEND;TZID=America/New_York:20260413T140000
DTSTAMP:20260421T015459
CREATED:20240515T180723Z
LAST-MODIFIED:20260311T165507Z
UID:6274-1776085200-1776088800@brownell-libraryri.org
SUMMARY:Knitting Group
DESCRIPTION:
URL:https://brownell-libraryri.org/event/knitting-group-31/
END:VEVENT
BEGIN:VEVENT
DTSTART;TZID=America/New_York:20260414T173000
DTEND;TZID=America/New_York:20260414T183000
DTSTAMP:20260421T015459
CREATED:20260311T180000Z
LAST-MODIFIED:20260311T180000Z
UID:7787-1776187800-1776191400@brownell-libraryri.org
SUMMARY:Guiding Eyes for the Blind - service dog information
DESCRIPTION:
URL:https://brownell-libraryri.org/event/guiding-eyes-for-the-blind-service-dog-information/
END:VEVENT
BEGIN:VEVENT
DTSTART;TZID=America/New_York:20260414T190000
DTEND;TZID=America/New_York:20260414T200000
DTSTAMP:20260421T015459
CREATED:20250531T162359Z
LAST-MODIFIED:20260318T154513Z
UID:7226-1776193200-1776196800@brownell-libraryri.org
SUMMARY:On Writing Action-Packed and Suspenseful Spycraft with Brad Taylor / ONLINE EVENT
DESCRIPTION:Learn more and register HERE
URL:https://brownell-libraryri.org/event/authors-unplugged-for-9th-12th-grade-discerning-the-truth-with-marie-lu-online-event/
END:VEVENT
BEGIN:VEVENT
DTSTART;TZID=America/New_York:20260417T130000
DTEND;TZID=America/New_York:20260417T140000
DTSTAMP:20260421T015459
CREATED:20260113T234317Z
LAST-MODIFIED:20260318T161930Z
UID:7673-1776430800-1776434400@brownell-libraryri.org
SUMMARY:Needlepoint Drop In
DESCRIPTION:
URL:https://brownell-libraryri.org/event/needlework-drop-in-5/
END:VEVENT
BEGIN:VEVENT
DTSTART;TZID=America/New_York:20260420T130000
DTEND;TZID=America/New_York:20260420T140000
DTSTAMP:20260421T015459
CREATED:20240223T161459Z
LAST-MODIFIED:20260311T165602Z
UID:6049-1776690000-1776693600@brownell-libraryri.org
SUMMARY:Knitting Group
DESCRIPTION:
URL:https://brownell-libraryri.org/event/knitting-group-40/
END:VEVENT
BEGIN:VEVENT
DTSTART;TZID=America/New_York:20260421T120000
DTEND;TZID=America/New_York:20260421T140000
DTSTAMP:20260421T015459
CREATED:20260401T205744Z
LAST-MODIFIED:20260401T205744Z
UID:7817-1776772800-1776780000@brownell-libraryri.org
SUMMARY:Open Play with Simple Machines
DESCRIPTION:Explore simple machines through play\, observation\, and conversation! Best for ages 3 & up
URL:https://brownell-libraryri.org/event/open-play-with-simple-machines/
END:VEVENT
BEGIN:VEVENT
DTSTART;TZID=America/New_York:20260421T173000
DTEND;TZID=America/New_York:20260421T183000
DTSTAMP:20260421T015459
CREATED:20231114T180929Z
LAST-MODIFIED:20260311T170226Z
UID:5790-1776792600-1776796200@brownell-libraryri.org
SUMMARY:Little Compton Writing Circle
DESCRIPTION:
URL:https://brownell-libraryri.org/event/little-compton-writing-circle-5/
END:VEVENT
BEGIN:VEVENT
DTSTART;TZID=America/New_York:20260422T140000
DTEND;TZID=America/New_York:20260422T150000
DTSTAMP:20260421T015459
CREATED:20250530T162918Z
LAST-MODIFIED:20260318T154057Z
UID:7202-1776866400-1776870000@brownell-libraryri.org
SUMMARY:Lush Lyricism and Intimate Confessions with Miranda Cowley Heller / ONLINE EVENT
DESCRIPTION:New York Times Bestselling Author of The Paper Palace and Reese’s Book Club Pick\nTo register : CLICK HERE
URL:https://brownell-libraryri.org/event/authors-unplugged-smithsonian-scientists-extinctopedia-online-event/
END:VEVENT
BEGIN:VEVENT
DTSTART;TZID=America/New_York:20260423T110000
DTEND;TZID=America/New_York:20260423T110000
DTSTAMP:20260421T015459
CREATED:20240820T215437Z
LAST-MODIFIED:20260414T172522Z
UID:6548-1776942000-1776942000@brownell-libraryri.org
SUMMARY:Library will open at 11 AM
DESCRIPTION:
URL:https://brownell-libraryri.org/event/library-will-open-at-11-am-7/
END:VEVENT
BEGIN:VEVENT
DTSTART;TZID=America/New_York:20260424T130000
DTEND;TZID=America/New_York:20260424T140000
DTSTAMP:20260421T015459
CREATED:20240320T165205Z
LAST-MODIFIED:20260401T205427Z
UID:6154-1777035600-1777039200@brownell-libraryri.org
SUMMARY:Casey Farm presents Project CHICK!
DESCRIPTION:Join us for a slide show\, a display full of different bird eggs\, and the chance to meet a live Dominique chicken and hold a baby chick!
URL:https://brownell-libraryri.org/event/casey-farm-presents-project-chick/
ATTACH;FMTTYPE=image/jpeg:https://brownell-libraryri.org/wp-content/uploads/8-Dominiquechickens-1.jpg
END:VEVENT
BEGIN:VEVENT
DTSTART;TZID=America/New_York:20260424T130000
DTEND;TZID=America/New_York:20260424T140000
DTSTAMP:20260421T015459
CREATED:20251223T182052Z
LAST-MODIFIED:20260318T162010Z
UID:7628-1777035600-1777039200@brownell-libraryri.org
SUMMARY:Needlepoint Drop In
DESCRIPTION:
URL:https://brownell-libraryri.org/event/needlework-drop-in/
END:VEVENT
END:VCALENDAR