BEGIN:VCALENDAR
VERSION:2.0
PRODID:-//Brownell Library - ECPv6.15.20//NONSGML v1.0//EN
CALSCALE:GREGORIAN
METHOD:PUBLISH
X-WR-CALNAME:Brownell Library
X-ORIGINAL-URL:https://brownell-libraryri.org
X-WR-CALDESC:Events for Brownell Library
REFRESH-INTERVAL;VALUE=DURATION:PT1H
X-Robots-Tag:noindex
X-PUBLISHED-TTL:PT1H
BEGIN:VTIMEZONE
TZID:America/New_York
BEGIN:DAYLIGHT
TZOFFSETFROM:-0500
TZOFFSETTO:-0400
TZNAME:EDT
DTSTART:20230312T070000
END:DAYLIGHT
BEGIN:STANDARD
TZOFFSETFROM:-0400
TZOFFSETTO:-0500
TZNAME:EST
DTSTART:20231105T060000
END:STANDARD
BEGIN:DAYLIGHT
TZOFFSETFROM:-0500
TZOFFSETTO:-0400
TZNAME:EDT
DTSTART:20240310T070000
END:DAYLIGHT
BEGIN:STANDARD
TZOFFSETFROM:-0400
TZOFFSETTO:-0500
TZNAME:EST
DTSTART:20241103T060000
END:STANDARD
BEGIN:DAYLIGHT
TZOFFSETFROM:-0500
TZOFFSETTO:-0400
TZNAME:EDT
DTSTART:20250309T070000
END:DAYLIGHT
BEGIN:STANDARD
TZOFFSETFROM:-0400
TZOFFSETTO:-0500
TZNAME:EST
DTSTART:20251102T060000
END:STANDARD
END:VTIMEZONE
BEGIN:VEVENT
DTSTART;TZID=America/New_York:20241121T110000
DTEND;TZID=America/New_York:20241121T110000
DTSTAMP:20260420T164029
CREATED:20231219T205800Z
LAST-MODIFIED:20241116T191609Z
UID:5888-1732186800-1732186800@brownell-libraryri.org
SUMMARY:Library will open at 11 am
DESCRIPTION:
URL:https://brownell-libraryri.org/event/library-will-open-at-11-am-3/
END:VEVENT
BEGIN:VEVENT
DTSTART;TZID=America/New_York:20241104T100000
DTEND;TZID=America/New_York:20241104T140000
DTSTAMP:20260420T164029
CREATED:20240830T173742Z
LAST-MODIFIED:20241023T163131Z
UID:6585-1730714400-1730728800@brownell-libraryri.org
SUMMARY:ADRC (Aging and Disability Resource Center) Services - THIS SESSION IS FULL
DESCRIPTION:The library will have one-on-one appointments available each month with Maria Sol Cuesta from The Point\, part of the United Way of RI. She assists residents in making informed choices and decisions and streamlines access to long term services and supports for older adults\, adults with disabilities\, and their caregivers. She has been coming to the library to answer questions about Medicare since last fall. In addition to Medicare assistance\, she is available to help with information\, referral\, and appointments for the following publicly funded programs such as Medicaid\, SNAP\, subsidies to obtain low cost of medication\, RIPAE (RI Pharmaceutical Assistance for Elders)\, LIHEAP (Low Income Heating Assistance Program). She is also available to help with information\, referral\, and appointments for the following community resources such as SHIP (State Health Insurance Assistance Program)\, MIPPA (Medicare Improvements for Patients and Providers Act)\, SMP (Senior Medicare Patrol). Contact the library for more information and to sign up for an appointment.
URL:https://brownell-libraryri.org/event/adrc-aging-and-disability-resource-center-services-registration-required-3/
END:VEVENT
BEGIN:VEVENT
DTSTART;TZID=America/New_York:20241026T130000
DTEND;TZID=America/New_York:20241026T140000
DTSTAMP:20260420T164029
CREATED:20240924T220504Z
LAST-MODIFIED:20241025T144233Z
UID:6634-1729947600-1729951200@brownell-libraryri.org
SUMMARY:Simmon's Mill Walk - Let Nature Inspire Your Garden - Gardening Lessons from Observing Nature
DESCRIPTION:Two distinct landscapes will be explored – a sunny backyard meadow and the shadier forest edges along the Simmons path.  We can observe the plant communities growing in each to obtain ideas for planting and maintaining our gardens to maximize ecological benefits.
URL:https://brownell-libraryri.org/event/simmons-mill-walk-let-nature-inspire-your-garden-gardening-lessons-from-observing-nature-2/
END:VEVENT
BEGIN:VEVENT
DTSTART;TZID=America/New_York:20241022T130000
DTEND;TZID=America/New_York:20241022T143000
DTSTAMP:20260420T164029
CREATED:20240924T220414Z
LAST-MODIFIED:20240924T220414Z
UID:6632-1729602000-1729607400@brownell-libraryri.org
SUMMARY:Simmon's Mill Walk - Let Nature Inspire Your Garden - Gardening Lessons from Observing Nature
DESCRIPTION:Two distinct landscapes will be explored – a sunny backyard meadow and the shadier forest edges along the Simmons path.  We can observe the plant communities growing in each to obtain ideas for planting and maintaining our gardens to maximize ecological benefits.
URL:https://brownell-libraryri.org/event/simmons-mill-walk-let-nature-inspire-your-garden-gardening-lessons-from-observing-nature/
END:VEVENT
BEGIN:VEVENT
DTSTART;VALUE=DATE:20241014
DTEND;VALUE=DATE:20241015
DTSTAMP:20260420T164029
CREATED:20231219T221529Z
LAST-MODIFIED:20240924T202039Z
UID:5898-1728864000-1728950399@brownell-libraryri.org
SUMMARY:Library Closed
DESCRIPTION:
URL:https://brownell-libraryri.org/event/library-closed-7/
END:VEVENT
BEGIN:VEVENT
DTSTART;TZID=America/New_York:20241007T100000
DTEND;TZID=America/New_York:20241007T140000
DTSTAMP:20260420T164029
CREATED:20240830T173652Z
LAST-MODIFIED:20240830T173652Z
UID:6583-1728295200-1728309600@brownell-libraryri.org
SUMMARY:ADRC (Aging and Disability Resource Center) Services - REGISTRATION REQUIRED
DESCRIPTION:The library will have one-on-one appointments available the second Monday of each month with Maria Sol Cuesta from The Point\, part of the United Way of RI. She assists residents in making informed choices and decisions and streamlines access to long term services and supports for older adults\, adults with disabilities\, and their caregivers. She has been coming to the library to answer questions about Medicare since last fall. In addition to Medicare assistance\, she is available to help with information\, referral\, and appointments for the following publicly funded programs such as Medicaid\, SNAP\, subsidies to obtain low cost of medication\, RIPAE (RI Pharmaceutical Assistance for Elders)\, LIHEAP (Low Income Heating Assistance Program). She is also available to help with information\, referral\, and appointments for the following community resources such as SHIP (State Health Insurance Assistance Program)\, MIPPA (Medicare Improvements for Patients and Providers Act)\, SMP (Senior Medicare Patrol). Contact the library for more information and to sign up for an appointment.
URL:https://brownell-libraryri.org/event/adrc-aging-and-disability-resource-center-services-registration-required-2/
END:VEVENT
BEGIN:VEVENT
DTSTART;TZID=America/New_York:20241006T190000
DTEND;TZID=America/New_York:20241006T210000
DTSTAMP:20260420T164029
CREATED:20240824T150232Z
LAST-MODIFIED:20240927T153843Z
UID:6550-1728241200-1728248400@brownell-libraryri.org
SUMMARY:Dark Sky Viewing with Barry Peckham
DESCRIPTION:Join us for a dark sky astronomy viewing led by Barry Peckham on his property. This program will be geared towards adults. Registration required as space is limited. Stop in or call the library to register – 401-635-8562. This program will be held outside and is weather dependent – dress accordingly.
URL:https://brownell-libraryri.org/event/dark-sky-viewing-with-barry-peckham/
END:VEVENT
BEGIN:VEVENT
DTSTART;TZID=America/New_York:20241003T123000
DTEND;TZID=America/New_York:20241003T153000
DTSTAMP:20260420T164029
CREATED:20240913T190301Z
LAST-MODIFIED:20240913T190456Z
UID:6614-1727958600-1727969400@brownell-libraryri.org
SUMMARY:Little Compton Community Assessment Survey Assistance
DESCRIPTION:Brownell Library Refreshments & Survey Assistance:  the library will make computers available and assist residents getting onto the survey and answering technical questions about filling out the survey. While you wait or after you take the survey we will have FREE REFRESHMENTS for your enjoyment.
URL:https://brownell-libraryri.org/event/little-compton-community-assessment-survey-assistance/
END:VEVENT
BEGIN:VEVENT
DTSTART;TZID=America/New_York:20240927T100000
DTEND;TZID=America/New_York:20240927T130000
DTSTAMP:20260420T164029
CREATED:20240913T190504Z
LAST-MODIFIED:20240918T172648Z
UID:6616-1727431200-1727442000@brownell-libraryri.org
SUMMARY:Little Compton Community Assessment Survey Assistance
DESCRIPTION:Brownell Library Refreshments & Survey Assistance:  the library will make computers available and assist residents getting onto the survey and answering technical questions about filling out the survey. While you wait or after you take the survey we will have FREE REFRESHMENTS for your enjoyment.
URL:https://brownell-libraryri.org/event/little-compton-community-assessment-survey-assistance-2/
END:VEVENT
BEGIN:VEVENT
DTSTART;TZID=America/New_York:20240916T150000
DTEND;TZID=America/New_York:20240916T160000
DTSTAMP:20260420T164029
CREATED:20240228T180647Z
LAST-MODIFIED:20240228T180647Z
UID:6134-1726498800-1726502400@brownell-libraryri.org
SUMMARY:Brownell Library - Board of Trustees Meeting
DESCRIPTION:
URL:https://brownell-libraryri.org/event/brownell-library-board-of-trustees-meeting-4/
END:VEVENT
BEGIN:VEVENT
DTSTART;TZID=America/New_York:20240828T103000
DTEND;TZID=America/New_York:20240828T120000
DTSTAMP:20260420T164029
CREATED:20240320T192705Z
LAST-MODIFIED:20240320T192705Z
UID:6184-1724841000-1724846400@brownell-libraryri.org
SUMMARY:Sensory Exploration Playgroup!
DESCRIPTION:Join us for hands-on sensory experiences for infants through preschoolers. Lots of fun toys too! No registration required!
URL:https://brownell-libraryri.org/event/sensory-exploration-playgroup-10/
ATTACH;FMTTYPE=image/jpeg:https://brownell-libraryri.org/wp-content/uploads/touch-board.jpg
END:VEVENT
BEGIN:VEVENT
DTSTART;TZID=America/New_York:20240823T140000
DTEND;TZID=America/New_York:20240823T150000
DTSTAMP:20260420T164029
CREATED:20240730T195323Z
LAST-MODIFIED:20240730T195323Z
UID:6504-1724421600-1724425200@brownell-libraryri.org
SUMMARY:Rhythm Room - Drumming Fun!
DESCRIPTION:Learn about rhythm and explore percussion from objects and one’s own body (clapping\, stomping\, etc.) it’s educational as well as motivational and fun!\nAll ages welcome!
URL:https://brownell-libraryri.org/event/rhythm-room-drumming-fun/
END:VEVENT
BEGIN:VEVENT
DTSTART;TZID=America/New_York:20240821T103000
DTEND;TZID=America/New_York:20240821T120000
DTSTAMP:20260420T164029
CREATED:20240320T192623Z
LAST-MODIFIED:20240320T192623Z
UID:6182-1724236200-1724241600@brownell-libraryri.org
SUMMARY:Sensory Exploration Playgroup!
DESCRIPTION:Join us for hands-on sensory experiences for infants through preschoolers. Lots of fun toys too! No registration required!
URL:https://brownell-libraryri.org/event/sensory-exploration-playgroup-9/
ATTACH;FMTTYPE=image/jpeg:https://brownell-libraryri.org/wp-content/uploads/touch-board.jpg
END:VEVENT
BEGIN:VEVENT
DTSTART;TZID=America/New_York:20240817T130000
DTEND;TZID=America/New_York:20240817T140000
DTSTAMP:20260420T164029
CREATED:20240726T155930Z
LAST-MODIFIED:20240726T155930Z
UID:6496-1723899600-1723903200@brownell-libraryri.org
SUMMARY:Authors Luci Record and Alyce Hennelly
DESCRIPTION:Come meet local authors as they discuss their latest book Still Laughing\, a light-hearted story of friendship and family. Travel through the years with them as they discover the power of female friendship\, develop faith in themselves\, and revel in the joy of laughter.
URL:https://brownell-libraryri.org/event/authors-luci-record-and-alyce-hennelly/
END:VEVENT
BEGIN:VEVENT
DTSTART;TZID=America/New_York:20240814T103000
DTEND;TZID=America/New_York:20240814T120000
DTSTAMP:20260420T164029
CREATED:20240320T192537Z
LAST-MODIFIED:20240320T192537Z
UID:6180-1723631400-1723636800@brownell-libraryri.org
SUMMARY:Sensory Exploration Playgroup!
DESCRIPTION:Join us for hands-on sensory experiences for infants through preschoolers. Lots of fun toys too! No registration required!
URL:https://brownell-libraryri.org/event/sensory-exploration-playgroup-8/
ATTACH;FMTTYPE=image/jpeg:https://brownell-libraryri.org/wp-content/uploads/touch-board.jpg
END:VEVENT
BEGIN:VEVENT
DTSTART;TZID=America/New_York:20240813T173000
DTEND;TZID=America/New_York:20240813T183000
DTSTAMP:20260420T164029
CREATED:20240607T182208Z
LAST-MODIFIED:20240607T182208Z
UID:6398-1723570200-1723573800@brownell-libraryri.org
SUMMARY:Rev. Dr. Donna Schaper - Prayers for People Who Say They Can't Pray
DESCRIPTION:
URL:https://brownell-libraryri.org/event/rev-dr-donna-schaper-prayers-for-people-who-say-they-cant-pray/
END:VEVENT
BEGIN:VEVENT
DTSTART;TZID=America/New_York:20240811T200000
DTEND;TZID=America/New_York:20240811T210000
DTSTAMP:20260420T164029
CREATED:20240726T155825Z
LAST-MODIFIED:20240809T171616Z
UID:6494-1723406400-1723410000@brownell-libraryri.org
SUMMARY:RESCHEDULED - Stargazing with Barry Peckham / Registration required
DESCRIPTION:Join us for a dark sky astronomy viewing of the crescent moon and the annual Perseid meteor shower\, led by Barry Peckham on his property. This program will be geared towards adults. Registration required as space is limited. Stop in or call the library to register – 401-635-8562. This program will be held outside and is weather dependent.
URL:https://brownell-libraryri.org/event/stargazing-with-barry-peckham-registration-required/
END:VEVENT
BEGIN:VEVENT
DTSTART;TZID=America/New_York:20240810T103000
DTEND;TZID=America/New_York:20240810T113000
DTSTAMP:20260420T164029
CREATED:20240607T182032Z
LAST-MODIFIED:20240802T151244Z
UID:6396-1723285800-1723289400@brownell-libraryri.org
SUMMARY:POSTPONED - Rescheduling TBD / Prohibition in the Sakonnet Area - Jim Garman
DESCRIPTION:
URL:https://brownell-libraryri.org/event/prohibition-in-the-sakonnet-area-jim-garman/
END:VEVENT
BEGIN:VEVENT
DTSTART;TZID=America/New_York:20240807T103000
DTEND;TZID=America/New_York:20240807T120000
DTSTAMP:20260420T164029
CREATED:20240320T192450Z
LAST-MODIFIED:20240320T192450Z
UID:6178-1723026600-1723032000@brownell-libraryri.org
SUMMARY:Sensory Exploration Playgroup!
DESCRIPTION:Join us for hands-on sensory experiences for infants through preschoolers. Lots of fun toys too! No registration required!
URL:https://brownell-libraryri.org/event/sensory-exploration-playgroup-7/
ATTACH;FMTTYPE=image/jpeg:https://brownell-libraryri.org/wp-content/uploads/touch-board.jpg
END:VEVENT
BEGIN:VEVENT
DTSTART;TZID=America/New_York:20240731T103000
DTEND;TZID=America/New_York:20240731T120000
DTSTAMP:20260420T164029
CREATED:20240320T192406Z
LAST-MODIFIED:20240320T192406Z
UID:6176-1722421800-1722427200@brownell-libraryri.org
SUMMARY:Sensory Exploration Playgroup!
DESCRIPTION:Join us for hands-on sensory experiences for infants through preschoolers. Lots of fun toys too! No registration required!
URL:https://brownell-libraryri.org/event/sensory-exploration-playgroup-6/
ATTACH;FMTTYPE=image/jpeg:https://brownell-libraryri.org/wp-content/uploads/touch-board.jpg
END:VEVENT
BEGIN:VEVENT
DTSTART;TZID=America/New_York:20240727T133000
DTEND;TZID=America/New_York:20240727T143000
DTSTAMP:20260420T164029
CREATED:20240607T181018Z
LAST-MODIFIED:20240607T181018Z
UID:6393-1722087000-1722090600@brownell-libraryri.org
SUMMARY:Composting with Vivian Shaull
DESCRIPTION:
URL:https://brownell-libraryri.org/event/composting-with-vivian-shaull/
END:VEVENT
BEGIN:VEVENT
DTSTART;TZID=America/New_York:20240724T103000
DTEND;TZID=America/New_York:20240724T120000
DTSTAMP:20260420T164029
CREATED:20240320T192321Z
LAST-MODIFIED:20240320T192321Z
UID:6174-1721817000-1721822400@brownell-libraryri.org
SUMMARY:Sensory Exploration Playgroup!
DESCRIPTION:Join us for hands-on sensory experiences for infants through preschoolers. Lots of fun toys too! No registration required!
URL:https://brownell-libraryri.org/event/sensory-exploration-playgroup-5/
ATTACH;FMTTYPE=image/jpeg:https://brownell-libraryri.org/wp-content/uploads/touch-board.jpg
END:VEVENT
BEGIN:VEVENT
DTSTART;TZID=America/New_York:20240720T130000
DTEND;TZID=America/New_York:20240720T140000
DTSTAMP:20260420T164029
CREATED:20240607T180838Z
LAST-MODIFIED:20240709T162201Z
UID:6391-1721480400-1721484000@brownell-libraryri.org
SUMMARY:Living Literature - Phenomenal Women
DESCRIPTION:
URL:https://brownell-libraryri.org/event/living-literature-solito/
END:VEVENT
BEGIN:VEVENT
DTSTART;TZID=America/New_York:20240717T103000
DTEND;TZID=America/New_York:20240717T120000
DTSTAMP:20260420T164029
CREATED:20240320T192228Z
LAST-MODIFIED:20240320T192228Z
UID:6172-1721212200-1721217600@brownell-libraryri.org
SUMMARY:Sensory Exploration Playgroup!
DESCRIPTION:Join us for hands-on sensory experiences for infants through preschoolers. Lots of fun toys too! No registration required!
URL:https://brownell-libraryri.org/event/sensory-exploration-playgroup-4/
ATTACH;FMTTYPE=image/jpeg:https://brownell-libraryri.org/wp-content/uploads/touch-board.jpg
END:VEVENT
BEGIN:VEVENT
DTSTART;TZID=America/New_York:20240716T173000
DTEND;TZID=America/New_York:20240716T183000
DTSTAMP:20260420T164029
CREATED:20230916T185145Z
LAST-MODIFIED:20240607T180649Z
UID:5600-1721151000-1721154600@brownell-libraryri.org
SUMMARY:Author Michael Fine
DESCRIPTION:
URL:https://brownell-libraryri.org/event/author-michael-fine-on-medicine-as-colonialism/
END:VEVENT
BEGIN:VEVENT
DTSTART;TZID=America/New_York:20240710T103000
DTEND;TZID=America/New_York:20240710T120000
DTSTAMP:20260420T164029
CREATED:20240320T192138Z
LAST-MODIFIED:20240320T192138Z
UID:6170-1720607400-1720612800@brownell-libraryri.org
SUMMARY:Sensory Exploration Playgroup!
DESCRIPTION:Join us for hands-on sensory experiences for infants through preschoolers. Lots of fun toys too! No registration required!
URL:https://brownell-libraryri.org/event/sensory-exploration-playgroup-3/
ATTACH;FMTTYPE=image/jpeg:https://brownell-libraryri.org/wp-content/uploads/touch-board.jpg
END:VEVENT
BEGIN:VEVENT
DTSTART;TZID=America/New_York:20240710T103000
DTEND;TZID=America/New_York:20240710T120000
DTSTAMP:20260420T164029
CREATED:20231219T195417Z
LAST-MODIFIED:20240607T165141Z
UID:5880-1720607400-1720612800@brownell-libraryri.org
SUMMARY:Tech Help
DESCRIPTION:
URL:https://brownell-libraryri.org/event/tech-help-28/
END:VEVENT
BEGIN:VEVENT
DTSTART;TZID=America/New_York:20240703T103000
DTEND;TZID=America/New_York:20240703T120000
DTSTAMP:20260420T164029
CREATED:20240320T192049Z
LAST-MODIFIED:20240320T192049Z
UID:6168-1720002600-1720008000@brownell-libraryri.org
SUMMARY:Sensory Exploration Playgroup!
DESCRIPTION:Join us for hands-on sensory experiences for infants through preschoolers. Lots of fun toys too! No registration required!
URL:https://brownell-libraryri.org/event/sensory-exploration-playgroup-2/
ATTACH;FMTTYPE=image/jpeg:https://brownell-libraryri.org/wp-content/uploads/touch-board.jpg
END:VEVENT
BEGIN:VEVENT
DTSTART;TZID=America/New_York:20240703T103000
DTEND;TZID=America/New_York:20240703T120000
DTSTAMP:20260420T164029
CREATED:20231219T195348Z
LAST-MODIFIED:20240607T165105Z
UID:5878-1720002600-1720008000@brownell-libraryri.org
SUMMARY:Tech Help
DESCRIPTION:
URL:https://brownell-libraryri.org/event/tech-help-27/
END:VEVENT
BEGIN:VEVENT
DTSTART;TZID=America/New_York:20240629T130000
DTEND;TZID=America/New_York:20240629T140000
DTSTAMP:20260420T164029
CREATED:20240528T211429Z
LAST-MODIFIED:20240611T191114Z
UID:6331-1719666000-1719669600@brownell-libraryri.org
SUMMARY:Walk Old Fields and Meadows at Dundery Brook Trail with The Nature Conservancy - REGISTRATION REQUIRED
DESCRIPTION:Old fields and meadows at Dundery Brook trail
URL:https://brownell-libraryri.org/event/nature-talk-and-walk-with-john-berg-2/
END:VEVENT
END:VCALENDAR