BEGIN:VCALENDAR
VERSION:2.0
PRODID:-//Brownell Library - ECPv6.15.20//NONSGML v1.0//EN
CALSCALE:GREGORIAN
METHOD:PUBLISH
X-WR-CALNAME:Brownell Library
X-ORIGINAL-URL:https://brownell-libraryri.org
X-WR-CALDESC:Events for Brownell Library
REFRESH-INTERVAL;VALUE=DURATION:PT1H
X-Robots-Tag:noindex
X-PUBLISHED-TTL:PT1H
BEGIN:VTIMEZONE
TZID:America/New_York
BEGIN:DAYLIGHT
TZOFFSETFROM:-0500
TZOFFSETTO:-0400
TZNAME:EDT
DTSTART:20250309T070000
END:DAYLIGHT
BEGIN:STANDARD
TZOFFSETFROM:-0400
TZOFFSETTO:-0500
TZNAME:EST
DTSTART:20251102T060000
END:STANDARD
BEGIN:DAYLIGHT
TZOFFSETFROM:-0500
TZOFFSETTO:-0400
TZNAME:EDT
DTSTART:20260308T070000
END:DAYLIGHT
BEGIN:STANDARD
TZOFFSETFROM:-0400
TZOFFSETTO:-0500
TZNAME:EST
DTSTART:20261101T060000
END:STANDARD
BEGIN:DAYLIGHT
TZOFFSETFROM:-0500
TZOFFSETTO:-0400
TZNAME:EDT
DTSTART:20270314T070000
END:DAYLIGHT
BEGIN:STANDARD
TZOFFSETFROM:-0400
TZOFFSETTO:-0500
TZNAME:EST
DTSTART:20271107T060000
END:STANDARD
END:VTIMEZONE
BEGIN:VEVENT
DTSTART;TZID=America/New_York:20260505T140000
DTEND;TZID=America/New_York:20260505T150000
DTSTAMP:20260421T110507
CREATED:20250531T161930Z
LAST-MODIFIED:20260414T193329Z
UID:7224-1777989600-1777993200@brownell-libraryri.org
SUMMARY:JoyFull: Daily Rituals to Eat Freely and Live Radiantly with Radhi Devlukia-Shetty / ONLINE EVENT
DESCRIPTION:How can singing to your food and eating dessert before dinner improve your digestion\, skin\, and overall wellbeing? Bestselling author and entrepreneur Radhi Devlukia-Shetty takes us on a journey\, written with generosity and kindness\, in her book JoyFull.\nSee More and Register
URL:https://brownell-libraryri.org/event/authors-unplugged-for-pk-2nd-grade-drawing-your-world-with-raul-the-third-online-event/
END:VEVENT
BEGIN:VEVENT
DTSTART;TZID=America/New_York:20260505T173000
DTEND;TZID=America/New_York:20260505T183000
DTSTAMP:20260421T110507
CREATED:20240424T191147Z
LAST-MODIFIED:20260414T172938Z
UID:6225-1778002200-1778005800@brownell-libraryri.org
SUMMARY:Little Compton Writing Circle
DESCRIPTION:Adult writers of all genres and experience levels are welcome! First and third Tuesdays of the month from 5:30-6:30 p.m. at the Brownell Library with facilitator Katrina Hegeman Janove.
URL:https://brownell-libraryri.org/event/little-compton-writing-circle-9/
END:VEVENT
END:VCALENDAR