BEGIN:VCALENDAR
VERSION:2.0
PRODID:-//Brownell Library - ECPv6.15.20//NONSGML v1.0//EN
CALSCALE:GREGORIAN
METHOD:PUBLISH
X-WR-CALNAME:Brownell Library
X-ORIGINAL-URL:https://brownell-libraryri.org
X-WR-CALDESC:Events for Brownell Library
REFRESH-INTERVAL;VALUE=DURATION:PT1H
X-Robots-Tag:noindex
X-PUBLISHED-TTL:PT1H
BEGIN:VTIMEZONE
TZID:America/New_York
BEGIN:DAYLIGHT
TZOFFSETFROM:-0500
TZOFFSETTO:-0400
TZNAME:EDT
DTSTART:20250309T070000
END:DAYLIGHT
BEGIN:STANDARD
TZOFFSETFROM:-0400
TZOFFSETTO:-0500
TZNAME:EST
DTSTART:20251102T060000
END:STANDARD
BEGIN:DAYLIGHT
TZOFFSETFROM:-0500
TZOFFSETTO:-0400
TZNAME:EDT
DTSTART:20260308T070000
END:DAYLIGHT
BEGIN:STANDARD
TZOFFSETFROM:-0400
TZOFFSETTO:-0500
TZNAME:EST
DTSTART:20261101T060000
END:STANDARD
BEGIN:DAYLIGHT
TZOFFSETFROM:-0500
TZOFFSETTO:-0400
TZNAME:EDT
DTSTART:20270314T070000
END:DAYLIGHT
BEGIN:STANDARD
TZOFFSETFROM:-0400
TZOFFSETTO:-0500
TZNAME:EST
DTSTART:20271107T060000
END:STANDARD
END:VTIMEZONE
BEGIN:VEVENT
DTSTART;TZID=America/New_York:20260424T130000
DTEND;TZID=America/New_York:20260424T140000
DTSTAMP:20260421T092635
CREATED:20240320T165205Z
LAST-MODIFIED:20260401T205427Z
UID:6154-1777035600-1777039200@brownell-libraryri.org
SUMMARY:Casey Farm presents Project CHICK!
DESCRIPTION:Join us for a slide show\, a display full of different bird eggs\, and the chance to meet a live Dominique chicken and hold a baby chick!
URL:https://brownell-libraryri.org/event/casey-farm-presents-project-chick/
ATTACH;FMTTYPE=image/jpeg:https://brownell-libraryri.org/wp-content/uploads/8-Dominiquechickens-1.jpg
END:VEVENT
BEGIN:VEVENT
DTSTART;TZID=America/New_York:20260424T130000
DTEND;TZID=America/New_York:20260424T140000
DTSTAMP:20260421T092635
CREATED:20251223T182052Z
LAST-MODIFIED:20260318T162010Z
UID:7628-1777035600-1777039200@brownell-libraryri.org
SUMMARY:Needlepoint Drop In
DESCRIPTION:
URL:https://brownell-libraryri.org/event/needlework-drop-in/
END:VEVENT
END:VCALENDAR