BEGIN:VCALENDAR
VERSION:2.0
PRODID:-//Brownell Library - ECPv6.15.20//NONSGML v1.0//EN
CALSCALE:GREGORIAN
METHOD:PUBLISH
X-ORIGINAL-URL:https://brownell-libraryri.org
X-WR-CALDESC:Events for Brownell Library
REFRESH-INTERVAL;VALUE=DURATION:PT1H
X-Robots-Tag:noindex
X-PUBLISHED-TTL:PT1H
BEGIN:VTIMEZONE
TZID:America/New_York
BEGIN:DAYLIGHT
TZOFFSETFROM:-0500
TZOFFSETTO:-0400
TZNAME:EDT
DTSTART:20240310T070000
END:DAYLIGHT
BEGIN:STANDARD
TZOFFSETFROM:-0400
TZOFFSETTO:-0500
TZNAME:EST
DTSTART:20241103T060000
END:STANDARD
BEGIN:DAYLIGHT
TZOFFSETFROM:-0500
TZOFFSETTO:-0400
TZNAME:EDT
DTSTART:20250309T070000
END:DAYLIGHT
BEGIN:STANDARD
TZOFFSETFROM:-0400
TZOFFSETTO:-0500
TZNAME:EST
DTSTART:20251102T060000
END:STANDARD
BEGIN:DAYLIGHT
TZOFFSETFROM:-0500
TZOFFSETTO:-0400
TZNAME:EDT
DTSTART:20260308T070000
END:DAYLIGHT
BEGIN:STANDARD
TZOFFSETFROM:-0400
TZOFFSETTO:-0500
TZNAME:EST
DTSTART:20261101T060000
END:STANDARD
END:VTIMEZONE
BEGIN:VEVENT
DTSTART;TZID=America/New_York:20250306T080000
DTEND;TZID=America/New_York:20250306T170000
DTSTAMP:20260420T152321
CREATED:20250219T165427Z
LAST-MODIFIED:20250219T165427Z
UID:6947-1741248000-1741280400@brownell-libraryri.org
SUMMARY:That Librarian: The Fight Against Book Banning in America with Amanda Jones / REGISTRATION REQUIRED
DESCRIPTION:In her new book\, That Librarian: The Fight Against Book Banning in America\, Amanda Jones\, a middle school librarian from Louisiana\, offers an absorbing memoir and a first-hand account of the battle between librarians and the forces behind book bans.\nThis program will be hosted live via Zoom. Participants will have the option to watch from home via Zoom or join us at Brownell Library to watch the livestream in person
URL:https://brownell-libraryri.org/event/that-librarian-the-fight-against-book-banning-in-america-with-amanda-jones-registration-required/
END:VEVENT
END:VCALENDAR