BEGIN:VCALENDAR
VERSION:2.0
PRODID:-//Brownell Library - ECPv6.15.20//NONSGML v1.0//EN
CALSCALE:GREGORIAN
METHOD:PUBLISH
X-WR-CALNAME:Brownell Library
X-ORIGINAL-URL:https://brownell-libraryri.org
X-WR-CALDESC:Events for Brownell Library
REFRESH-INTERVAL;VALUE=DURATION:PT1H
X-Robots-Tag:noindex
X-PUBLISHED-TTL:PT1H
BEGIN:VTIMEZONE
TZID:America/New_York
BEGIN:DAYLIGHT
TZOFFSETFROM:-0500
TZOFFSETTO:-0400
TZNAME:EDT
DTSTART:20230312T070000
END:DAYLIGHT
BEGIN:STANDARD
TZOFFSETFROM:-0400
TZOFFSETTO:-0500
TZNAME:EST
DTSTART:20231105T060000
END:STANDARD
BEGIN:DAYLIGHT
TZOFFSETFROM:-0500
TZOFFSETTO:-0400
TZNAME:EDT
DTSTART:20240310T070000
END:DAYLIGHT
BEGIN:STANDARD
TZOFFSETFROM:-0400
TZOFFSETTO:-0500
TZNAME:EST
DTSTART:20241103T060000
END:STANDARD
BEGIN:DAYLIGHT
TZOFFSETFROM:-0500
TZOFFSETTO:-0400
TZNAME:EDT
DTSTART:20250309T070000
END:DAYLIGHT
BEGIN:STANDARD
TZOFFSETFROM:-0400
TZOFFSETTO:-0500
TZNAME:EST
DTSTART:20251102T060000
END:STANDARD
END:VTIMEZONE
BEGIN:VEVENT
DTSTART;TZID=America/New_York:20240408T140000
DTEND;TZID=America/New_York:20240408T163000
DTSTAMP:20260421T032936
CREATED:20240224T165456Z
LAST-MODIFIED:20240224T165456Z
UID:6125-1712584800-1712593800@brownell-libraryri.org
SUMMARY:Eclipse Viewing
DESCRIPTION:View the eclipse!  We have eclipse glasses to hand out.  We’ll have activities for all ages available while we watch the eclipse.  RI will have 90.1% coverage of the sun at the maximum coverage around 3:30.  Stop by at anytime and join us as we watch the progress of the eclipse.
URL:https://brownell-libraryri.org/event/eclipse-viewing/
END:VEVENT
END:VCALENDAR