BEGIN:VCALENDAR
VERSION:2.0
PRODID:-//Brownell Library - ECPv6.15.20//NONSGML v1.0//EN
CALSCALE:GREGORIAN
METHOD:PUBLISH
X-WR-CALNAME:Brownell Library
X-ORIGINAL-URL:https://brownell-libraryri.org
X-WR-CALDESC:Events for Brownell Library
REFRESH-INTERVAL;VALUE=DURATION:PT1H
X-Robots-Tag:noindex
X-PUBLISHED-TTL:PT1H
BEGIN:VTIMEZONE
TZID:America/New_York
BEGIN:DAYLIGHT
TZOFFSETFROM:-0500
TZOFFSETTO:-0400
TZNAME:EDT
DTSTART:20230312T070000
END:DAYLIGHT
BEGIN:STANDARD
TZOFFSETFROM:-0400
TZOFFSETTO:-0500
TZNAME:EST
DTSTART:20231105T060000
END:STANDARD
BEGIN:DAYLIGHT
TZOFFSETFROM:-0500
TZOFFSETTO:-0400
TZNAME:EDT
DTSTART:20240310T070000
END:DAYLIGHT
BEGIN:STANDARD
TZOFFSETFROM:-0400
TZOFFSETTO:-0500
TZNAME:EST
DTSTART:20241103T060000
END:STANDARD
BEGIN:DAYLIGHT
TZOFFSETFROM:-0500
TZOFFSETTO:-0400
TZNAME:EDT
DTSTART:20250309T070000
END:DAYLIGHT
BEGIN:STANDARD
TZOFFSETFROM:-0400
TZOFFSETTO:-0500
TZNAME:EST
DTSTART:20251102T060000
END:STANDARD
END:VTIMEZONE
BEGIN:VEVENT
DTSTART;TZID=America/New_York:20240301T110000
DTEND;TZID=America/New_York:20240301T130000
DTSTAMP:20260421T051239
CREATED:20240224T154356Z
LAST-MODIFIED:20240224T154522Z
UID:6089-1709290800-1709298000@brownell-libraryri.org
SUMMARY:Senior Van transportation to library - call (401) 777-9700 by 4 pm Friday of prior week to reserve
DESCRIPTION:Starting March 1st you can get a ride to the library Friday mornings on the Senior Van. Come to the library to get your books\, movies\, use a computer\, get some tech help or just come to read and relax. Call (401) 777-9700 by 4 pm Friday of the preceding week to reserve your spot.
URL:https://brownell-libraryri.org/event/senior-van-transportation-to-library-call-by-4-pm-friday-of-prior-week-to-reserve/
END:VEVENT
END:VCALENDAR