BEGIN:VCALENDAR
VERSION:2.0
PRODID:-//Brownell Library - ECPv6.15.20//NONSGML v1.0//EN
CALSCALE:GREGORIAN
METHOD:PUBLISH
X-WR-CALNAME:Brownell Library
X-ORIGINAL-URL:https://brownell-libraryri.org
X-WR-CALDESC:Events for Brownell Library
REFRESH-INTERVAL;VALUE=DURATION:PT1H
X-Robots-Tag:noindex
X-PUBLISHED-TTL:PT1H
BEGIN:VTIMEZONE
TZID:America/New_York
BEGIN:DAYLIGHT
TZOFFSETFROM:-0500
TZOFFSETTO:-0400
TZNAME:EDT
DTSTART:20220313T070000
END:DAYLIGHT
BEGIN:STANDARD
TZOFFSETFROM:-0400
TZOFFSETTO:-0500
TZNAME:EST
DTSTART:20221106T060000
END:STANDARD
BEGIN:DAYLIGHT
TZOFFSETFROM:-0500
TZOFFSETTO:-0400
TZNAME:EDT
DTSTART:20230312T070000
END:DAYLIGHT
BEGIN:STANDARD
TZOFFSETFROM:-0400
TZOFFSETTO:-0500
TZNAME:EST
DTSTART:20231105T060000
END:STANDARD
BEGIN:DAYLIGHT
TZOFFSETFROM:-0500
TZOFFSETTO:-0400
TZNAME:EDT
DTSTART:20240310T070000
END:DAYLIGHT
BEGIN:STANDARD
TZOFFSETFROM:-0400
TZOFFSETTO:-0500
TZNAME:EST
DTSTART:20241103T060000
END:STANDARD
END:VTIMEZONE
BEGIN:VEVENT
DTSTART;TZID=America/New_York:20231031T160000
DTEND;TZID=America/New_York:20231031T170000
DTSTAMP:20260421T042932
CREATED:20230916T185413Z
LAST-MODIFIED:20230916T185413Z
UID:5606-1698768000-1698771600@brownell-libraryri.org
SUMMARY:All the Genres Book Club
DESCRIPTION:
URL:https://brownell-libraryri.org/event/all-the-genres-book-club-2/
END:VEVENT
BEGIN:VEVENT
DTSTART;TZID=America/New_York:20231031T180000
DTEND;TZID=America/New_York:20231031T190000
DTSTAMP:20260421T042932
CREATED:20230916T185444Z
LAST-MODIFIED:20230916T185444Z
UID:5608-1698775200-1698778800@brownell-libraryri.org
SUMMARY:All the Genres Book Club
DESCRIPTION:
URL:https://brownell-libraryri.org/event/all-the-genres-book-club-4/
END:VEVENT
END:VCALENDAR